BEGIN:VCALENDAR
VERSION:2.0
PRODID:-//Visit Floyd Virginia - ECPv6.15.20//NONSGML v1.0//EN
CALSCALE:GREGORIAN
METHOD:PUBLISH
X-WR-CALNAME:Visit Floyd Virginia
X-ORIGINAL-URL:https://visitfloydva.com
X-WR-CALDESC:Events for Visit Floyd Virginia
REFRESH-INTERVAL;VALUE=DURATION:PT1H
X-Robots-Tag:noindex
X-PUBLISHED-TTL:PT1H
BEGIN:VTIMEZONE
TZID:America/New_York
BEGIN:DAYLIGHT
TZOFFSETFROM:-0500
TZOFFSETTO:-0400
TZNAME:EDT
DTSTART:20230312T070000
END:DAYLIGHT
BEGIN:STANDARD
TZOFFSETFROM:-0400
TZOFFSETTO:-0500
TZNAME:EST
DTSTART:20231105T060000
END:STANDARD
BEGIN:DAYLIGHT
TZOFFSETFROM:-0500
TZOFFSETTO:-0400
TZNAME:EDT
DTSTART:20240310T070000
END:DAYLIGHT
BEGIN:STANDARD
TZOFFSETFROM:-0400
TZOFFSETTO:-0500
TZNAME:EST
DTSTART:20241103T060000
END:STANDARD
BEGIN:DAYLIGHT
TZOFFSETFROM:-0500
TZOFFSETTO:-0400
TZNAME:EDT
DTSTART:20250309T070000
END:DAYLIGHT
BEGIN:STANDARD
TZOFFSETFROM:-0400
TZOFFSETTO:-0500
TZNAME:EST
DTSTART:20251102T060000
END:STANDARD
BEGIN:DAYLIGHT
TZOFFSETFROM:-0500
TZOFFSETTO:-0400
TZNAME:EDT
DTSTART:20260308T070000
END:DAYLIGHT
BEGIN:STANDARD
TZOFFSETFROM:-0400
TZOFFSETTO:-0500
TZNAME:EST
DTSTART:20261101T060000
END:STANDARD
END:VTIMEZONE
BEGIN:VEVENT
DTSTART;VALUE=DATE:20250828
DTEND;VALUE=DATE:20250901
DTSTAMP:20260419T224851
CREATED:20250829T133621Z
LAST-MODIFIED:20250829T133621Z
UID:10030289-1756339200-1756684799@visitfloydva.com
SUMMARY:Floyd Yoga Jam
DESCRIPTION:Come experience 4 days of outdoor music\, movement\, and magic at Floyd Yoga Jam in the enchanting Floyd County\, VA!  Get ready to groove\, stretch\, and connect amidst nature’s embrace.  Join us for an unforgettable journey!
URL:https://visitfloydva.com/event/floyd-yoga-jam/
LOCATION:Burnett Farm\, 5555 Indian Valley Road\, Willis\, VA\, 24380\, United States
GEO:36.8856031;-80.5322364
X-APPLE-STRUCTURED-LOCATION;VALUE=URI;X-ADDRESS=Burnett Farm 5555 Indian Valley Road Willis VA 24380 United States;X-APPLE-RADIUS=500;X-TITLE=5555 Indian Valley Road:geo:-80.5322364,36.8856031
END:VEVENT
BEGIN:VEVENT
DTSTART;VALUE=DATE:20250712
DTEND;VALUE=DATE:20250713
DTSTAMP:20260419T224851
CREATED:20250701T161542Z
LAST-MODIFIED:20250701T161542Z
UID:10028553-1752278400-1752364799@visitfloydva.com
SUMMARY:Replenish Festival 2025
DESCRIPTION:On Friday\, July 11th\, gates will open at 3pm for those who would like to camp overnight. No music or activities will be held on this night. To camp Friday night\, you will need to purchase an event ticket for the entire event. Camping is an additional $15 per spot\, per night. You may purchase camping passes online also. Tickets are ON SALE NOW at https://ReplenishFest.com \nOn Saturday\, July 12th\, the festival gates will open to the general public at 12pm. Join us in the evening for our headliner artist Cochren & Co. (@cochrenmusic)! \nVisit our website for all the details on artists\, activities\, food trucks and more! Lots of activities for everyone in the family\, check out the website for all the details and schedule! \nVenue:\nBurnett Farm\, 5430 Indian Valley Road\,Willis\, VA 24380 \nDirections:\nDirections From the West/South: If you are coming from the West or South you will have to come from I-77. Take the Galax/Hillsville/221 exit and head North on 221. You will travel approx 25 miles to a Left on Camp 5 Rd. and travel about 2.8 miles to the stop sign. Take a left on Indian Valley Rd (RT 787) and go 0.6 miles to the Replenish Festival on the Right (just after the big white Barn)! \nFrom the North: Depends on where you are coming from…..if you are coming South on I-81\, use the East directions. There are 2 ways to find Floyd from that direction…either come through Roanoke via I-81 to I-581 to SR221 South to the Floyd Stoplight or via I-81 to the RT 8 South/Floyd/Christiansburg exit to the Floyd Stoplight. If you come Rt8\, about 5 miles before the Town of Floyd\, turn Right on Rt 730 (Ridgeview Rd). Continue to the stop sign on Rt 750 (Alum Ridge Rd). Go straight on Rt 730 (now Duncan’s Chapel) to a Left on RT 787 (Indian Valley Rd). Go 4 miles to the Replenish Festival on the Left! If you are coming down I-77\, use the West/South directions. \nEmail: info@replenishfest.com
URL:https://visitfloydva.com/event/replenish-festival-2025/
LOCATION:Burnett Farm\, 5555 Indian Valley Road\, Willis\, VA\, 24380\, United States
CATEGORIES:Camping,Community,Entertainment,Family,Festivals,Fundraising,Kid friendly,Music,Outdoor Recreation,Pet friendly,Shopping
ATTACH;FMTTYPE=image/jpeg:https://visitfloydva.com/wp-content/uploads/2025/06/2025_FB-Page-Cover.jpg
ORGANIZER;CN="Replenish Ministries%2C Inc.":MAILTO:info@replenishfest.com
GEO:36.8856031;-80.5322364
X-APPLE-STRUCTURED-LOCATION;VALUE=URI;X-ADDRESS=Burnett Farm 5555 Indian Valley Road Willis VA 24380 United States;X-APPLE-RADIUS=500;X-TITLE=5555 Indian Valley Road:geo:-80.5322364,36.8856031
END:VEVENT
BEGIN:VEVENT
DTSTART;TZID=America/New_York:20240713T120000
DTEND;TZID=America/New_York:20240713T233000
DTSTAMP:20260419T224851
CREATED:20240703T130409Z
LAST-MODIFIED:20240703T130409Z
UID:10027783-1720872000-1720913400@visitfloydva.com
SUMMARY:Replenish Festival
DESCRIPTION:**9th Annual Replenish Festival Returns to Floyd\, Virginia\, Promising a Family-Oriented\, Faith-Based Music Experience** \nReplenish Festival is thrilled to announce its highly anticipated 9th annual event\, scheduled to take place on July 13th\, 2024 at the Burnett Farm in Floyd\, Virginia. Promising an unforgettable experience for attendees of all ages\, this community-focused festival is set to feature an impressive lineup of musical performances\, engaging activities\, and inspirational speakers. Headlining this year’s festival is the acclaimed Christian Artist\, Building 429. Renowned for their uplifting and anthemic songs\, Building 429 is set to deliver a powerful performance that resonates with audiences. Joining them on stage are other talented artists including Lifeline Worship\, The Gospel Warriors\, AJ Cantrell\, Tanner Blankenship\, and guest speaker-Logan Sherrill from WDBJ7. \nThe Replenish Festival offers much more than just music. Attendees can look forward to a variety of activities including concerts by both national and local artists\, engaging speakers\, Baptisms\, food vendors\, merchant vendors\, and a car\, tractor\, and motorcycle cruise-in with awards. Families will delight in the Kidz Zone\, featuring organized activities\, games\, inflatables\, kids train\, and even horse rides. Don’t forget the popular duck races down the creek\, two races this year winners receive a prize. A new addition to this year’s activities is a FCA Outdoors. They are providing archery instruction for children and youth. Also\, new to the event is a Teen Zone\, lead by Roof Crashers\, full of activities for teenagers. \nFor those wishing to make a weekend of it\, camping options are available for Friday and Saturday night. It’s encouraged to bring your church youth group\, family\, and friends. For camping\, the gates will open on Friday\, July 12th at 3pm with discounted online rates of $15 per spot per night. On Saturday\, July 13th\, the gate opens to the public at noon with daytime activities running from noon to 6pm. The main stage performances kick off at 6pm\, with Building 429 taking the stage at 9pm. \nIn addition to the music and activities\, Replenish Festival also hosts a Cruise-In\, showcasing classic cars\, newer cars\, trucks\, motorcycles\, tractors\, and more. Drivers participating in the Cruise-In will receive free admission to the festival. People’s choice awards will be given away on the main stage at 6pm for each class. \nThe Replenish Festival is more than just an event. It’s a community gathering with a mission to replenish hearts and lives through the gospel of Jesus Christ. Tickets are available for purchase now at discounted rates online with special pricing for adults at $10\, juniors $5\, and free admission for children under 5 and all veterans. Prices will be slightly higher at the gate starting Friday\, July 12th. \nFor more information and to purchase tickets\, please visit replenishfest.com or contact (540) 267-6763 or info@replenishfest.com.\nDon’t miss out on this extraordinary celebration of faith\, family\, and music at Replenish Festival 2024! \nReplenish Festival Team\nPhone: (540) 267-6763\nEmail: info@replenishfest.com\nWebsite: replenishfest.com \nReplenish Festival is an annual event held in Floyd\, Virginia\, dedicated to providing a family-oriented\, faith-based music experience with a diverse lineup of musical performances\, engaging activities\, and inspirational speakers. Replenish Festival seeks to replenish the hearts\nand lives of all who attend through the gospel of Jesus Christ. \nDirections:\nDirections From the West/South: If you are coming from the West or South you will have to come from I-77. Take the Galax/Hillsville/221 exit and head North on 221. You will travel approx 25 miles to a Left on Camp 5 Rd. and travel about 2.8 miles to the stop sign. Take a left on Indian Valley Rd (RT 787) and go 0.6 miles to the Replenish Festival on the Right (just after the big white Barn)! From the North: Depends on where you are coming from…..if you are coming South on I-81\, use the East directions. There are 2 ways to find Floyd from that direction…either come through Roanoke via I-81 to I-581 to SR221 South to the Floyd Stoplight or via I-81 to the RT 8 South/Floyd/Christiansburg exit to the Floyd Stoplight. If you come Rt8\, about 5 miles before the Town of Floyd\, turn Right on Rt 730 (Ridgeview Rd). Continue to the stop sign on Rt 750 (Alum Ridge Rd). Go straight on Rt 730 (now Duncan’s Chapel) to a Left on RT 787 (Indian Valley Rd). Go 4 miles to the Replenish Festival on the Left! If you are coming down I-77\, use the West/South directions.
URL:https://visitfloydva.com/event/replenish-festival-8/
LOCATION:Burnett Farm\, 5555 Indian Valley Road\, Willis\, VA\, 24380\, United States
CATEGORIES:Entertainment,Family,Festivals,Kid friendly,Music,Outdoor Recreation
ATTACH;FMTTYPE=image/jpeg:https://visitfloydva.com/wp-content/uploads/2024/07/Building429_Replenishfest-VA.jpg
ORGANIZER;CN="Replenish Ministries%2C Inc.":MAILTO:info@replenishfest.com
GEO:36.8856031;-80.5322364
X-APPLE-STRUCTURED-LOCATION;VALUE=URI;X-ADDRESS=Burnett Farm 5555 Indian Valley Road Willis VA 24380 United States;X-APPLE-RADIUS=500;X-TITLE=5555 Indian Valley Road:geo:-80.5322364,36.8856031
END:VEVENT
END:VCALENDAR