BEGIN:VCALENDAR
VERSION:2.0
PRODID:-//Visit Floyd Virginia - ECPv6.15.20//NONSGML v1.0//EN
CALSCALE:GREGORIAN
METHOD:PUBLISH
X-WR-CALNAME:Visit Floyd Virginia
X-ORIGINAL-URL:https://visitfloydva.com
X-WR-CALDESC:Events for Visit Floyd Virginia
REFRESH-INTERVAL;VALUE=DURATION:PT1H
X-Robots-Tag:noindex
X-PUBLISHED-TTL:PT1H
BEGIN:VTIMEZONE
TZID:America/New_York
BEGIN:DAYLIGHT
TZOFFSETFROM:-0500
TZOFFSETTO:-0400
TZNAME:EDT
DTSTART:20250309T070000
END:DAYLIGHT
BEGIN:STANDARD
TZOFFSETFROM:-0400
TZOFFSETTO:-0500
TZNAME:EST
DTSTART:20251102T060000
END:STANDARD
BEGIN:DAYLIGHT
TZOFFSETFROM:-0500
TZOFFSETTO:-0400
TZNAME:EDT
DTSTART:20260308T070000
END:DAYLIGHT
BEGIN:STANDARD
TZOFFSETFROM:-0400
TZOFFSETTO:-0500
TZNAME:EST
DTSTART:20261101T060000
END:STANDARD
BEGIN:DAYLIGHT
TZOFFSETFROM:-0500
TZOFFSETTO:-0400
TZNAME:EDT
DTSTART:20270314T070000
END:DAYLIGHT
BEGIN:STANDARD
TZOFFSETFROM:-0400
TZOFFSETTO:-0500
TZNAME:EST
DTSTART:20271107T060000
END:STANDARD
END:VTIMEZONE
BEGIN:VEVENT
DTSTART;TZID=America/New_York:20260613T103000
DTEND;TZID=America/New_York:20260613T113000
DTSTAMP:20260420T031123
CREATED:20260217T184338Z
LAST-MODIFIED:20260217T184338Z
UID:10031751-1781346600-1781350200@visitfloydva.com
SUMMARY:Tour of Pine Creek Cemetery
DESCRIPTION:Society President Gino Williams will lead a tour of the historic Pine Creek Cemetery.
URL:https://visitfloydva.com/event/tour-of-pine-creek-cemetery/
LOCATION:Pine Creek Cemetery\, 389 Spangler Mill Rd NE\, Floyd\, VA\, 24091
END:VEVENT
BEGIN:VEVENT
DTSTART;TZID=America/New_York:20260704T100000
DTEND;TZID=America/New_York:20260704T110000
DTSTAMP:20260420T031123
CREATED:20260217T184444Z
LAST-MODIFIED:20260217T184444Z
UID:10031752-1783159200-1783162800@visitfloydva.com
SUMMARY:Laying of a Wreath at Pine Creek Cemetery
DESCRIPTION:Please join the Floyd County Historical Society for a laying of a Wreath at Pine Creek Cemetery.
URL:https://visitfloydva.com/event/laying-of-a-wreath-at-pine-creek-cemetery/
LOCATION:Pine Creek Cemetery\, 389 Spangler Mill Rd NE\, Floyd\, VA\, 24091
END:VEVENT
END:VCALENDAR