BEGIN:VCALENDAR
VERSION:2.0
PRODID:-//Visit Floyd Virginia - ECPv6.15.20//NONSGML v1.0//EN
CALSCALE:GREGORIAN
METHOD:PUBLISH
X-ORIGINAL-URL:https://visitfloydva.com
X-WR-CALDESC:Events for Visit Floyd Virginia
REFRESH-INTERVAL;VALUE=DURATION:PT1H
X-Robots-Tag:noindex
X-PUBLISHED-TTL:PT1H
BEGIN:VTIMEZONE
TZID:America/New_York
BEGIN:DAYLIGHT
TZOFFSETFROM:-0500
TZOFFSETTO:-0400
TZNAME:EDT
DTSTART:20230312T070000
END:DAYLIGHT
BEGIN:STANDARD
TZOFFSETFROM:-0400
TZOFFSETTO:-0500
TZNAME:EST
DTSTART:20231105T060000
END:STANDARD
BEGIN:DAYLIGHT
TZOFFSETFROM:-0500
TZOFFSETTO:-0400
TZNAME:EDT
DTSTART:20240310T070000
END:DAYLIGHT
BEGIN:STANDARD
TZOFFSETFROM:-0400
TZOFFSETTO:-0500
TZNAME:EST
DTSTART:20241103T060000
END:STANDARD
BEGIN:DAYLIGHT
TZOFFSETFROM:-0500
TZOFFSETTO:-0400
TZNAME:EDT
DTSTART:20250309T070000
END:DAYLIGHT
BEGIN:STANDARD
TZOFFSETFROM:-0400
TZOFFSETTO:-0500
TZNAME:EST
DTSTART:20251102T060000
END:STANDARD
END:VTIMEZONE
BEGIN:VEVENT
DTSTART;TZID=America/New_York:20240419T200000
DTEND;TZID=America/New_York:20240419T230000
DTSTAMP:20260420T092049
CREATED:20240206T212958Z
LAST-MODIFIED:20240206T212958Z
UID:10027520-1713556800-1713567600@visitfloydva.com
SUMMARY:The Mallett Brothers Band
DESCRIPTION:$5 cover ~ \nWe are THRILLED to welcome The Mallett Brothers Band to our stage for the first time! We guarantee this is a show you’ll want to catch! \nThe Mallett Brothers Band is an independent rock and roll / Americana / country band from Maine. Their busy tour schedule since forming in 2009 has helped them to build a dedicated fanbase across the U.S. and beyond while still calling the state of Maine their home. With a style that ranges from alt-country to Americana\, country\, jam and roots rock\, theirs is a musical melting pot that’s influenced equally by the singer/songwriter tradition as by harder rock\, classic country and psychedelic sounds. \n“FOUNDED IN 2009\, THE MALLETT BROTHERS BAND HAVE HAD MULTIPLE LINEUP CHANGES AND STYLISTIC SHIFTS OVER THE YEARS\, BUT THEY’VE REMAINED STEADFAST IN DELIVERING HEARTFELT SONGS WITH EMOTIONAL LYRICISM\, VIVID IMAGERY\, AND DYNAMIC MUSICAL TONES…” – NO DEPRESSION \nwww.themallettbrothersband.com \nhttps://songwhip.com/themallettbrothersband
URL:https://visitfloydva.com/event/the-mallett-brothers-band/
LOCATION:Dogtown Pizza\, 302 S. Locust St.\, Floyd\, VA\, 24091\, United States
GEO:36.9099373;-80.3197514
X-APPLE-STRUCTURED-LOCATION;VALUE=URI;X-ADDRESS=Dogtown Pizza 302 S. Locust St. Floyd VA 24091 United States;X-APPLE-RADIUS=500;X-TITLE=302 S. Locust St.:geo:-80.3197514,36.9099373
END:VEVENT
BEGIN:VEVENT
DTSTART;TZID=America/New_York:20240413T200000
DTEND;TZID=America/New_York:20240413T230000
DTSTAMP:20260420T092049
CREATED:20240411T173046Z
LAST-MODIFIED:20240411T173046Z
UID:10029298-1713038400-1713049200@visitfloydva.com
SUMMARY:Gote
DESCRIPTION:$5 cover ~ \nGote is a rock and roll four-piece band from the Roanoke valley that specializes in bringing a unique live show of original music sprinkled with songs from their influences like the Grateful Dead and Allman Brothers.
URL:https://visitfloydva.com/event/gote-3/
LOCATION:Dogtown Pizza\, 302 S. Locust St.\, Floyd\, VA\, 24091\, United States
GEO:36.9099373;-80.3197514
X-APPLE-STRUCTURED-LOCATION;VALUE=URI;X-ADDRESS=Dogtown Pizza 302 S. Locust St. Floyd VA 24091 United States;X-APPLE-RADIUS=500;X-TITLE=302 S. Locust St.:geo:-80.3197514,36.9099373
END:VEVENT
END:VCALENDAR