BEGIN:VCALENDAR
VERSION:2.0
PRODID:-//Visit Floyd Virginia - ECPv6.15.20//NONSGML v1.0//EN
CALSCALE:GREGORIAN
METHOD:PUBLISH
X-WR-CALNAME:Visit Floyd Virginia
X-ORIGINAL-URL:https://visitfloydva.com
X-WR-CALDESC:Events for Visit Floyd Virginia
REFRESH-INTERVAL;VALUE=DURATION:PT1H
X-Robots-Tag:noindex
X-PUBLISHED-TTL:PT1H
BEGIN:VTIMEZONE
TZID:America/New_York
BEGIN:DAYLIGHT
TZOFFSETFROM:-0500
TZOFFSETTO:-0400
TZNAME:EDT
DTSTART:20240310T070000
END:DAYLIGHT
BEGIN:STANDARD
TZOFFSETFROM:-0400
TZOFFSETTO:-0500
TZNAME:EST
DTSTART:20241103T060000
END:STANDARD
BEGIN:DAYLIGHT
TZOFFSETFROM:-0500
TZOFFSETTO:-0400
TZNAME:EDT
DTSTART:20250309T070000
END:DAYLIGHT
BEGIN:STANDARD
TZOFFSETFROM:-0400
TZOFFSETTO:-0500
TZNAME:EST
DTSTART:20251102T060000
END:STANDARD
BEGIN:DAYLIGHT
TZOFFSETFROM:-0500
TZOFFSETTO:-0400
TZNAME:EDT
DTSTART:20260308T070000
END:DAYLIGHT
BEGIN:STANDARD
TZOFFSETFROM:-0400
TZOFFSETTO:-0500
TZNAME:EST
DTSTART:20261101T060000
END:STANDARD
END:VTIMEZONE
BEGIN:VEVENT
DTSTART;TZID=America/New_York:20250506T100000
DTEND;TZID=America/New_York:20250506T110000
DTSTAMP:20260420T024241
CREATED:20191129T185700Z
LAST-MODIFIED:20251106T164120Z
UID:10026199-1746525600-1746529200@visitfloydva.com
SUMMARY:Sun Moon Flow Yoga with Shirley Ann
DESCRIPTION:Join Shirley Ann for Sun Moon Flow Yoga from 10 am to 11 pm.
URL:https://visitfloydva.com/event/sun-moon-flow-with-shirley-ann/2025-05-06/
LOCATION:Living Light River Studio\, 407 Slusher Store Rd NE\, Floyd\, VA\, 24091\, United States
CATEGORIES:Wellness
GEO:36.971665;-80.371947
X-APPLE-STRUCTURED-LOCATION;VALUE=URI;X-ADDRESS=Living Light River Studio 407 Slusher Store Rd NE Floyd VA 24091 United States;X-APPLE-RADIUS=500;X-TITLE=407 Slusher Store Rd NE:geo:-80.371947,36.971665
END:VEVENT
BEGIN:VEVENT
DTSTART;TZID=America/New_York:20250505T180000
DTEND;TZID=America/New_York:20250505T190000
DTSTAMP:20260420T024241
CREATED:20211229T143658Z
LAST-MODIFIED:20251106T163945Z
UID:10026556-1746468000-1746471600@visitfloydva.com
SUMMARY:Gentle Moderate Yoga
DESCRIPTION:Join Shirley Ann for Gentle Moderate Yoga from 6 pm to 7 pm.
URL:https://visitfloydva.com/event/gentle-yoga-with-shirley-ann-2022-10-05/2025-05-05/
LOCATION:Living Light River Studio\, 407 Slusher Store Rd NE\, Floyd\, VA\, 24091\, United States
CATEGORIES:Wellness
GEO:36.971665;-80.371947
X-APPLE-STRUCTURED-LOCATION;VALUE=URI;X-ADDRESS=Living Light River Studio 407 Slusher Store Rd NE Floyd VA 24091 United States;X-APPLE-RADIUS=500;X-TITLE=407 Slusher Store Rd NE:geo:-80.371947,36.971665
END:VEVENT
BEGIN:VEVENT
DTSTART;TZID=America/New_York:20250429T100000
DTEND;TZID=America/New_York:20250429T110000
DTSTAMP:20260420T024241
CREATED:20191129T185700Z
LAST-MODIFIED:20251106T164120Z
UID:10026198-1745920800-1745924400@visitfloydva.com
SUMMARY:Sun Moon Flow Yoga with Shirley Ann
DESCRIPTION:Join Shirley Ann for Sun Moon Flow Yoga from 10 am to 11 pm.
URL:https://visitfloydva.com/event/sun-moon-flow-with-shirley-ann/2025-04-29/
LOCATION:Living Light River Studio\, 407 Slusher Store Rd NE\, Floyd\, VA\, 24091\, United States
CATEGORIES:Wellness
GEO:36.971665;-80.371947
X-APPLE-STRUCTURED-LOCATION;VALUE=URI;X-ADDRESS=Living Light River Studio 407 Slusher Store Rd NE Floyd VA 24091 United States;X-APPLE-RADIUS=500;X-TITLE=407 Slusher Store Rd NE:geo:-80.371947,36.971665
END:VEVENT
BEGIN:VEVENT
DTSTART;TZID=America/New_York:20250428T180000
DTEND;TZID=America/New_York:20250428T190000
DTSTAMP:20260420T024241
CREATED:20211229T143658Z
LAST-MODIFIED:20251106T163945Z
UID:10026555-1745863200-1745866800@visitfloydva.com
SUMMARY:Gentle Moderate Yoga
DESCRIPTION:Join Shirley Ann for Gentle Moderate Yoga from 6 pm to 7 pm.
URL:https://visitfloydva.com/event/gentle-yoga-with-shirley-ann-2022-10-05/2025-04-28/
LOCATION:Living Light River Studio\, 407 Slusher Store Rd NE\, Floyd\, VA\, 24091\, United States
CATEGORIES:Wellness
GEO:36.971665;-80.371947
X-APPLE-STRUCTURED-LOCATION;VALUE=URI;X-ADDRESS=Living Light River Studio 407 Slusher Store Rd NE Floyd VA 24091 United States;X-APPLE-RADIUS=500;X-TITLE=407 Slusher Store Rd NE:geo:-80.371947,36.971665
END:VEVENT
BEGIN:VEVENT
DTSTART;TZID=America/New_York:20250422T100000
DTEND;TZID=America/New_York:20250422T110000
DTSTAMP:20260420T024241
CREATED:20191129T185700Z
LAST-MODIFIED:20251106T164120Z
UID:10026197-1745316000-1745319600@visitfloydva.com
SUMMARY:Sun Moon Flow Yoga with Shirley Ann
DESCRIPTION:Join Shirley Ann for Sun Moon Flow Yoga from 10 am to 11 pm.
URL:https://visitfloydva.com/event/sun-moon-flow-with-shirley-ann/2025-04-22/
LOCATION:Living Light River Studio\, 407 Slusher Store Rd NE\, Floyd\, VA\, 24091\, United States
CATEGORIES:Wellness
GEO:36.971665;-80.371947
X-APPLE-STRUCTURED-LOCATION;VALUE=URI;X-ADDRESS=Living Light River Studio 407 Slusher Store Rd NE Floyd VA 24091 United States;X-APPLE-RADIUS=500;X-TITLE=407 Slusher Store Rd NE:geo:-80.371947,36.971665
END:VEVENT
BEGIN:VEVENT
DTSTART;TZID=America/New_York:20250421T180000
DTEND;TZID=America/New_York:20250421T190000
DTSTAMP:20260420T024241
CREATED:20211229T143658Z
LAST-MODIFIED:20251106T163945Z
UID:10026554-1745258400-1745262000@visitfloydva.com
SUMMARY:Gentle Moderate Yoga
DESCRIPTION:Join Shirley Ann for Gentle Moderate Yoga from 6 pm to 7 pm.
URL:https://visitfloydva.com/event/gentle-yoga-with-shirley-ann-2022-10-05/2025-04-21/
LOCATION:Living Light River Studio\, 407 Slusher Store Rd NE\, Floyd\, VA\, 24091\, United States
CATEGORIES:Wellness
GEO:36.971665;-80.371947
X-APPLE-STRUCTURED-LOCATION;VALUE=URI;X-ADDRESS=Living Light River Studio 407 Slusher Store Rd NE Floyd VA 24091 United States;X-APPLE-RADIUS=500;X-TITLE=407 Slusher Store Rd NE:geo:-80.371947,36.971665
END:VEVENT
BEGIN:VEVENT
DTSTART;TZID=America/New_York:20250415T100000
DTEND;TZID=America/New_York:20250415T110000
DTSTAMP:20260420T024241
CREATED:20191129T185700Z
LAST-MODIFIED:20251106T164120Z
UID:10026196-1744711200-1744714800@visitfloydva.com
SUMMARY:Sun Moon Flow Yoga with Shirley Ann
DESCRIPTION:Join Shirley Ann for Sun Moon Flow Yoga from 10 am to 11 pm.
URL:https://visitfloydva.com/event/sun-moon-flow-with-shirley-ann/2025-04-15/
LOCATION:Living Light River Studio\, 407 Slusher Store Rd NE\, Floyd\, VA\, 24091\, United States
CATEGORIES:Wellness
GEO:36.971665;-80.371947
X-APPLE-STRUCTURED-LOCATION;VALUE=URI;X-ADDRESS=Living Light River Studio 407 Slusher Store Rd NE Floyd VA 24091 United States;X-APPLE-RADIUS=500;X-TITLE=407 Slusher Store Rd NE:geo:-80.371947,36.971665
END:VEVENT
BEGIN:VEVENT
DTSTART;TZID=America/New_York:20250414T180000
DTEND;TZID=America/New_York:20250414T190000
DTSTAMP:20260420T024241
CREATED:20211229T143658Z
LAST-MODIFIED:20251106T163945Z
UID:10026553-1744653600-1744657200@visitfloydva.com
SUMMARY:Gentle Moderate Yoga
DESCRIPTION:Join Shirley Ann for Gentle Moderate Yoga from 6 pm to 7 pm.
URL:https://visitfloydva.com/event/gentle-yoga-with-shirley-ann-2022-10-05/2025-04-14/
LOCATION:Living Light River Studio\, 407 Slusher Store Rd NE\, Floyd\, VA\, 24091\, United States
CATEGORIES:Wellness
GEO:36.971665;-80.371947
X-APPLE-STRUCTURED-LOCATION;VALUE=URI;X-ADDRESS=Living Light River Studio 407 Slusher Store Rd NE Floyd VA 24091 United States;X-APPLE-RADIUS=500;X-TITLE=407 Slusher Store Rd NE:geo:-80.371947,36.971665
END:VEVENT
BEGIN:VEVENT
DTSTART;TZID=America/New_York:20250408T100000
DTEND;TZID=America/New_York:20250408T110000
DTSTAMP:20260420T024241
CREATED:20191129T185700Z
LAST-MODIFIED:20251106T164120Z
UID:10026195-1744106400-1744110000@visitfloydva.com
SUMMARY:Sun Moon Flow Yoga with Shirley Ann
DESCRIPTION:Join Shirley Ann for Sun Moon Flow Yoga from 10 am to 11 pm.
URL:https://visitfloydva.com/event/sun-moon-flow-with-shirley-ann/2025-04-08/
LOCATION:Living Light River Studio\, 407 Slusher Store Rd NE\, Floyd\, VA\, 24091\, United States
CATEGORIES:Wellness
GEO:36.971665;-80.371947
X-APPLE-STRUCTURED-LOCATION;VALUE=URI;X-ADDRESS=Living Light River Studio 407 Slusher Store Rd NE Floyd VA 24091 United States;X-APPLE-RADIUS=500;X-TITLE=407 Slusher Store Rd NE:geo:-80.371947,36.971665
END:VEVENT
BEGIN:VEVENT
DTSTART;TZID=America/New_York:20250407T180000
DTEND;TZID=America/New_York:20250407T190000
DTSTAMP:20260420T024241
CREATED:20211229T143658Z
LAST-MODIFIED:20251106T163945Z
UID:10026552-1744048800-1744052400@visitfloydva.com
SUMMARY:Gentle Moderate Yoga
DESCRIPTION:Join Shirley Ann for Gentle Moderate Yoga from 6 pm to 7 pm.
URL:https://visitfloydva.com/event/gentle-yoga-with-shirley-ann-2022-10-05/2025-04-07/
LOCATION:Living Light River Studio\, 407 Slusher Store Rd NE\, Floyd\, VA\, 24091\, United States
CATEGORIES:Wellness
GEO:36.971665;-80.371947
X-APPLE-STRUCTURED-LOCATION;VALUE=URI;X-ADDRESS=Living Light River Studio 407 Slusher Store Rd NE Floyd VA 24091 United States;X-APPLE-RADIUS=500;X-TITLE=407 Slusher Store Rd NE:geo:-80.371947,36.971665
END:VEVENT
BEGIN:VEVENT
DTSTART;TZID=America/New_York:20250401T100000
DTEND;TZID=America/New_York:20250401T110000
DTSTAMP:20260420T024241
CREATED:20191129T185700Z
LAST-MODIFIED:20251106T164120Z
UID:10026194-1743501600-1743505200@visitfloydva.com
SUMMARY:Sun Moon Flow Yoga with Shirley Ann
DESCRIPTION:Join Shirley Ann for Sun Moon Flow Yoga from 10 am to 11 pm.
URL:https://visitfloydva.com/event/sun-moon-flow-with-shirley-ann/2025-04-01/
LOCATION:Living Light River Studio\, 407 Slusher Store Rd NE\, Floyd\, VA\, 24091\, United States
CATEGORIES:Wellness
GEO:36.971665;-80.371947
X-APPLE-STRUCTURED-LOCATION;VALUE=URI;X-ADDRESS=Living Light River Studio 407 Slusher Store Rd NE Floyd VA 24091 United States;X-APPLE-RADIUS=500;X-TITLE=407 Slusher Store Rd NE:geo:-80.371947,36.971665
END:VEVENT
BEGIN:VEVENT
DTSTART;TZID=America/New_York:20250331T180000
DTEND;TZID=America/New_York:20250331T190000
DTSTAMP:20260420T024241
CREATED:20211229T143658Z
LAST-MODIFIED:20251106T163945Z
UID:10026551-1743444000-1743447600@visitfloydva.com
SUMMARY:Gentle Moderate Yoga
DESCRIPTION:Join Shirley Ann for Gentle Moderate Yoga from 6 pm to 7 pm.
URL:https://visitfloydva.com/event/gentle-yoga-with-shirley-ann-2022-10-05/2025-03-31/
LOCATION:Living Light River Studio\, 407 Slusher Store Rd NE\, Floyd\, VA\, 24091\, United States
CATEGORIES:Wellness
GEO:36.971665;-80.371947
X-APPLE-STRUCTURED-LOCATION;VALUE=URI;X-ADDRESS=Living Light River Studio 407 Slusher Store Rd NE Floyd VA 24091 United States;X-APPLE-RADIUS=500;X-TITLE=407 Slusher Store Rd NE:geo:-80.371947,36.971665
END:VEVENT
BEGIN:VEVENT
DTSTART;TZID=America/New_York:20250325T100000
DTEND;TZID=America/New_York:20250325T110000
DTSTAMP:20260420T024241
CREATED:20191129T185700Z
LAST-MODIFIED:20251106T164120Z
UID:10026193-1742896800-1742900400@visitfloydva.com
SUMMARY:Sun Moon Flow Yoga with Shirley Ann
DESCRIPTION:Join Shirley Ann for Sun Moon Flow Yoga from 10 am to 11 pm.
URL:https://visitfloydva.com/event/sun-moon-flow-with-shirley-ann/2025-03-25/
LOCATION:Living Light River Studio\, 407 Slusher Store Rd NE\, Floyd\, VA\, 24091\, United States
CATEGORIES:Wellness
GEO:36.971665;-80.371947
X-APPLE-STRUCTURED-LOCATION;VALUE=URI;X-ADDRESS=Living Light River Studio 407 Slusher Store Rd NE Floyd VA 24091 United States;X-APPLE-RADIUS=500;X-TITLE=407 Slusher Store Rd NE:geo:-80.371947,36.971665
END:VEVENT
BEGIN:VEVENT
DTSTART;TZID=America/New_York:20250324T180000
DTEND;TZID=America/New_York:20250324T190000
DTSTAMP:20260420T024241
CREATED:20211229T143658Z
LAST-MODIFIED:20251106T163945Z
UID:10026550-1742839200-1742842800@visitfloydva.com
SUMMARY:Gentle Moderate Yoga
DESCRIPTION:Join Shirley Ann for Gentle Moderate Yoga from 6 pm to 7 pm.
URL:https://visitfloydva.com/event/gentle-yoga-with-shirley-ann-2022-10-05/2025-03-24/
LOCATION:Living Light River Studio\, 407 Slusher Store Rd NE\, Floyd\, VA\, 24091\, United States
CATEGORIES:Wellness
GEO:36.971665;-80.371947
X-APPLE-STRUCTURED-LOCATION;VALUE=URI;X-ADDRESS=Living Light River Studio 407 Slusher Store Rd NE Floyd VA 24091 United States;X-APPLE-RADIUS=500;X-TITLE=407 Slusher Store Rd NE:geo:-80.371947,36.971665
END:VEVENT
BEGIN:VEVENT
DTSTART;TZID=America/New_York:20250318T100000
DTEND;TZID=America/New_York:20250318T110000
DTSTAMP:20260420T024241
CREATED:20191129T185700Z
LAST-MODIFIED:20251106T164120Z
UID:10026192-1742292000-1742295600@visitfloydva.com
SUMMARY:Sun Moon Flow Yoga with Shirley Ann
DESCRIPTION:Join Shirley Ann for Sun Moon Flow Yoga from 10 am to 11 pm.
URL:https://visitfloydva.com/event/sun-moon-flow-with-shirley-ann/2025-03-18/
LOCATION:Living Light River Studio\, 407 Slusher Store Rd NE\, Floyd\, VA\, 24091\, United States
CATEGORIES:Wellness
GEO:36.971665;-80.371947
X-APPLE-STRUCTURED-LOCATION;VALUE=URI;X-ADDRESS=Living Light River Studio 407 Slusher Store Rd NE Floyd VA 24091 United States;X-APPLE-RADIUS=500;X-TITLE=407 Slusher Store Rd NE:geo:-80.371947,36.971665
END:VEVENT
BEGIN:VEVENT
DTSTART;TZID=America/New_York:20250317T180000
DTEND;TZID=America/New_York:20250317T190000
DTSTAMP:20260420T024241
CREATED:20211229T143658Z
LAST-MODIFIED:20251106T163945Z
UID:10026549-1742234400-1742238000@visitfloydva.com
SUMMARY:Gentle Moderate Yoga
DESCRIPTION:Join Shirley Ann for Gentle Moderate Yoga from 6 pm to 7 pm.
URL:https://visitfloydva.com/event/gentle-yoga-with-shirley-ann-2022-10-05/2025-03-17/
LOCATION:Living Light River Studio\, 407 Slusher Store Rd NE\, Floyd\, VA\, 24091\, United States
CATEGORIES:Wellness
GEO:36.971665;-80.371947
X-APPLE-STRUCTURED-LOCATION;VALUE=URI;X-ADDRESS=Living Light River Studio 407 Slusher Store Rd NE Floyd VA 24091 United States;X-APPLE-RADIUS=500;X-TITLE=407 Slusher Store Rd NE:geo:-80.371947,36.971665
END:VEVENT
BEGIN:VEVENT
DTSTART;TZID=America/New_York:20250311T100000
DTEND;TZID=America/New_York:20250311T110000
DTSTAMP:20260420T024241
CREATED:20191129T185700Z
LAST-MODIFIED:20251106T164120Z
UID:10026191-1741687200-1741690800@visitfloydva.com
SUMMARY:Sun Moon Flow Yoga with Shirley Ann
DESCRIPTION:Join Shirley Ann for Sun Moon Flow Yoga from 10 am to 11 pm.
URL:https://visitfloydva.com/event/sun-moon-flow-with-shirley-ann/2025-03-11/
LOCATION:Living Light River Studio\, 407 Slusher Store Rd NE\, Floyd\, VA\, 24091\, United States
CATEGORIES:Wellness
GEO:36.971665;-80.371947
X-APPLE-STRUCTURED-LOCATION;VALUE=URI;X-ADDRESS=Living Light River Studio 407 Slusher Store Rd NE Floyd VA 24091 United States;X-APPLE-RADIUS=500;X-TITLE=407 Slusher Store Rd NE:geo:-80.371947,36.971665
END:VEVENT
BEGIN:VEVENT
DTSTART;TZID=America/New_York:20250310T180000
DTEND;TZID=America/New_York:20250310T190000
DTSTAMP:20260420T024241
CREATED:20211229T143658Z
LAST-MODIFIED:20251106T163945Z
UID:10026548-1741629600-1741633200@visitfloydva.com
SUMMARY:Gentle Moderate Yoga
DESCRIPTION:Join Shirley Ann for Gentle Moderate Yoga from 6 pm to 7 pm.
URL:https://visitfloydva.com/event/gentle-yoga-with-shirley-ann-2022-10-05/2025-03-10/
LOCATION:Living Light River Studio\, 407 Slusher Store Rd NE\, Floyd\, VA\, 24091\, United States
CATEGORIES:Wellness
GEO:36.971665;-80.371947
X-APPLE-STRUCTURED-LOCATION;VALUE=URI;X-ADDRESS=Living Light River Studio 407 Slusher Store Rd NE Floyd VA 24091 United States;X-APPLE-RADIUS=500;X-TITLE=407 Slusher Store Rd NE:geo:-80.371947,36.971665
END:VEVENT
BEGIN:VEVENT
DTSTART;TZID=America/New_York:20250304T100000
DTEND;TZID=America/New_York:20250304T110000
DTSTAMP:20260420T024241
CREATED:20191129T185700Z
LAST-MODIFIED:20251106T164120Z
UID:10026190-1741082400-1741086000@visitfloydva.com
SUMMARY:Sun Moon Flow Yoga with Shirley Ann
DESCRIPTION:Join Shirley Ann for Sun Moon Flow Yoga from 10 am to 11 pm.
URL:https://visitfloydva.com/event/sun-moon-flow-with-shirley-ann/2025-03-04/
LOCATION:Living Light River Studio\, 407 Slusher Store Rd NE\, Floyd\, VA\, 24091\, United States
CATEGORIES:Wellness
GEO:36.971665;-80.371947
X-APPLE-STRUCTURED-LOCATION;VALUE=URI;X-ADDRESS=Living Light River Studio 407 Slusher Store Rd NE Floyd VA 24091 United States;X-APPLE-RADIUS=500;X-TITLE=407 Slusher Store Rd NE:geo:-80.371947,36.971665
END:VEVENT
BEGIN:VEVENT
DTSTART;TZID=America/New_York:20250303T180000
DTEND;TZID=America/New_York:20250303T190000
DTSTAMP:20260420T024241
CREATED:20211229T143658Z
LAST-MODIFIED:20251106T163945Z
UID:10026547-1741024800-1741028400@visitfloydva.com
SUMMARY:Gentle Moderate Yoga
DESCRIPTION:Join Shirley Ann for Gentle Moderate Yoga from 6 pm to 7 pm.
URL:https://visitfloydva.com/event/gentle-yoga-with-shirley-ann-2022-10-05/2025-03-03/
LOCATION:Living Light River Studio\, 407 Slusher Store Rd NE\, Floyd\, VA\, 24091\, United States
CATEGORIES:Wellness
GEO:36.971665;-80.371947
X-APPLE-STRUCTURED-LOCATION;VALUE=URI;X-ADDRESS=Living Light River Studio 407 Slusher Store Rd NE Floyd VA 24091 United States;X-APPLE-RADIUS=500;X-TITLE=407 Slusher Store Rd NE:geo:-80.371947,36.971665
END:VEVENT
BEGIN:VEVENT
DTSTART;TZID=America/New_York:20250225T100000
DTEND;TZID=America/New_York:20250225T110000
DTSTAMP:20260420T024241
CREATED:20191129T185700Z
LAST-MODIFIED:20251106T164120Z
UID:10026189-1740477600-1740481200@visitfloydva.com
SUMMARY:Sun Moon Flow Yoga with Shirley Ann
DESCRIPTION:Join Shirley Ann for Sun Moon Flow Yoga from 10 am to 11 pm.
URL:https://visitfloydva.com/event/sun-moon-flow-with-shirley-ann/2025-02-25/
LOCATION:Living Light River Studio\, 407 Slusher Store Rd NE\, Floyd\, VA\, 24091\, United States
CATEGORIES:Wellness
GEO:36.971665;-80.371947
X-APPLE-STRUCTURED-LOCATION;VALUE=URI;X-ADDRESS=Living Light River Studio 407 Slusher Store Rd NE Floyd VA 24091 United States;X-APPLE-RADIUS=500;X-TITLE=407 Slusher Store Rd NE:geo:-80.371947,36.971665
END:VEVENT
BEGIN:VEVENT
DTSTART;TZID=America/New_York:20250224T180000
DTEND;TZID=America/New_York:20250224T190000
DTSTAMP:20260420T024241
CREATED:20211229T143658Z
LAST-MODIFIED:20251106T163945Z
UID:10026546-1740420000-1740423600@visitfloydva.com
SUMMARY:Gentle Moderate Yoga
DESCRIPTION:Join Shirley Ann for Gentle Moderate Yoga from 6 pm to 7 pm.
URL:https://visitfloydva.com/event/gentle-yoga-with-shirley-ann-2022-10-05/2025-02-24/
LOCATION:Living Light River Studio\, 407 Slusher Store Rd NE\, Floyd\, VA\, 24091\, United States
CATEGORIES:Wellness
GEO:36.971665;-80.371947
X-APPLE-STRUCTURED-LOCATION;VALUE=URI;X-ADDRESS=Living Light River Studio 407 Slusher Store Rd NE Floyd VA 24091 United States;X-APPLE-RADIUS=500;X-TITLE=407 Slusher Store Rd NE:geo:-80.371947,36.971665
END:VEVENT
BEGIN:VEVENT
DTSTART;TZID=America/New_York:20250218T100000
DTEND;TZID=America/New_York:20250218T110000
DTSTAMP:20260420T024241
CREATED:20191129T185700Z
LAST-MODIFIED:20251106T164120Z
UID:10026188-1739872800-1739876400@visitfloydva.com
SUMMARY:Sun Moon Flow Yoga with Shirley Ann
DESCRIPTION:Join Shirley Ann for Sun Moon Flow Yoga from 10 am to 11 pm.
URL:https://visitfloydva.com/event/sun-moon-flow-with-shirley-ann/2025-02-18/
LOCATION:Living Light River Studio\, 407 Slusher Store Rd NE\, Floyd\, VA\, 24091\, United States
CATEGORIES:Wellness
GEO:36.971665;-80.371947
X-APPLE-STRUCTURED-LOCATION;VALUE=URI;X-ADDRESS=Living Light River Studio 407 Slusher Store Rd NE Floyd VA 24091 United States;X-APPLE-RADIUS=500;X-TITLE=407 Slusher Store Rd NE:geo:-80.371947,36.971665
END:VEVENT
BEGIN:VEVENT
DTSTART;TZID=America/New_York:20250217T180000
DTEND;TZID=America/New_York:20250217T190000
DTSTAMP:20260420T024241
CREATED:20211229T143658Z
LAST-MODIFIED:20251106T163945Z
UID:10026545-1739815200-1739818800@visitfloydva.com
SUMMARY:Gentle Moderate Yoga
DESCRIPTION:Join Shirley Ann for Gentle Moderate Yoga from 6 pm to 7 pm.
URL:https://visitfloydva.com/event/gentle-yoga-with-shirley-ann-2022-10-05/2025-02-17/
LOCATION:Living Light River Studio\, 407 Slusher Store Rd NE\, Floyd\, VA\, 24091\, United States
CATEGORIES:Wellness
GEO:36.971665;-80.371947
X-APPLE-STRUCTURED-LOCATION;VALUE=URI;X-ADDRESS=Living Light River Studio 407 Slusher Store Rd NE Floyd VA 24091 United States;X-APPLE-RADIUS=500;X-TITLE=407 Slusher Store Rd NE:geo:-80.371947,36.971665
END:VEVENT
BEGIN:VEVENT
DTSTART;TZID=America/New_York:20250211T100000
DTEND;TZID=America/New_York:20250211T110000
DTSTAMP:20260420T024241
CREATED:20191129T185700Z
LAST-MODIFIED:20251106T164120Z
UID:10026187-1739268000-1739271600@visitfloydva.com
SUMMARY:Sun Moon Flow Yoga with Shirley Ann
DESCRIPTION:Join Shirley Ann for Sun Moon Flow Yoga from 10 am to 11 pm.
URL:https://visitfloydva.com/event/sun-moon-flow-with-shirley-ann/2025-02-11/
LOCATION:Living Light River Studio\, 407 Slusher Store Rd NE\, Floyd\, VA\, 24091\, United States
CATEGORIES:Wellness
GEO:36.971665;-80.371947
X-APPLE-STRUCTURED-LOCATION;VALUE=URI;X-ADDRESS=Living Light River Studio 407 Slusher Store Rd NE Floyd VA 24091 United States;X-APPLE-RADIUS=500;X-TITLE=407 Slusher Store Rd NE:geo:-80.371947,36.971665
END:VEVENT
BEGIN:VEVENT
DTSTART;TZID=America/New_York:20250210T180000
DTEND;TZID=America/New_York:20250210T190000
DTSTAMP:20260420T024241
CREATED:20211229T143658Z
LAST-MODIFIED:20251106T163945Z
UID:10026544-1739210400-1739214000@visitfloydva.com
SUMMARY:Gentle Moderate Yoga
DESCRIPTION:Join Shirley Ann for Gentle Moderate Yoga from 6 pm to 7 pm.
URL:https://visitfloydva.com/event/gentle-yoga-with-shirley-ann-2022-10-05/2025-02-10/
LOCATION:Living Light River Studio\, 407 Slusher Store Rd NE\, Floyd\, VA\, 24091\, United States
CATEGORIES:Wellness
GEO:36.971665;-80.371947
X-APPLE-STRUCTURED-LOCATION;VALUE=URI;X-ADDRESS=Living Light River Studio 407 Slusher Store Rd NE Floyd VA 24091 United States;X-APPLE-RADIUS=500;X-TITLE=407 Slusher Store Rd NE:geo:-80.371947,36.971665
END:VEVENT
BEGIN:VEVENT
DTSTART;TZID=America/New_York:20250204T100000
DTEND;TZID=America/New_York:20250204T110000
DTSTAMP:20260420T024241
CREATED:20191129T185700Z
LAST-MODIFIED:20251106T164120Z
UID:10026186-1738663200-1738666800@visitfloydva.com
SUMMARY:Sun Moon Flow Yoga with Shirley Ann
DESCRIPTION:Join Shirley Ann for Sun Moon Flow Yoga from 10 am to 11 pm.
URL:https://visitfloydva.com/event/sun-moon-flow-with-shirley-ann/2025-02-04/
LOCATION:Living Light River Studio\, 407 Slusher Store Rd NE\, Floyd\, VA\, 24091\, United States
CATEGORIES:Wellness
GEO:36.971665;-80.371947
X-APPLE-STRUCTURED-LOCATION;VALUE=URI;X-ADDRESS=Living Light River Studio 407 Slusher Store Rd NE Floyd VA 24091 United States;X-APPLE-RADIUS=500;X-TITLE=407 Slusher Store Rd NE:geo:-80.371947,36.971665
END:VEVENT
BEGIN:VEVENT
DTSTART;TZID=America/New_York:20250203T180000
DTEND;TZID=America/New_York:20250203T190000
DTSTAMP:20260420T024241
CREATED:20211229T143658Z
LAST-MODIFIED:20251106T163945Z
UID:10026543-1738605600-1738609200@visitfloydva.com
SUMMARY:Gentle Moderate Yoga
DESCRIPTION:Join Shirley Ann for Gentle Moderate Yoga from 6 pm to 7 pm.
URL:https://visitfloydva.com/event/gentle-yoga-with-shirley-ann-2022-10-05/2025-02-03/
LOCATION:Living Light River Studio\, 407 Slusher Store Rd NE\, Floyd\, VA\, 24091\, United States
CATEGORIES:Wellness
GEO:36.971665;-80.371947
X-APPLE-STRUCTURED-LOCATION;VALUE=URI;X-ADDRESS=Living Light River Studio 407 Slusher Store Rd NE Floyd VA 24091 United States;X-APPLE-RADIUS=500;X-TITLE=407 Slusher Store Rd NE:geo:-80.371947,36.971665
END:VEVENT
BEGIN:VEVENT
DTSTART;TZID=America/New_York:20250128T100000
DTEND;TZID=America/New_York:20250128T110000
DTSTAMP:20260420T024241
CREATED:20191129T185700Z
LAST-MODIFIED:20251106T164120Z
UID:10026185-1738058400-1738062000@visitfloydva.com
SUMMARY:Sun Moon Flow Yoga with Shirley Ann
DESCRIPTION:Join Shirley Ann for Sun Moon Flow Yoga from 10 am to 11 pm.
URL:https://visitfloydva.com/event/sun-moon-flow-with-shirley-ann/2025-01-28/
LOCATION:Living Light River Studio\, 407 Slusher Store Rd NE\, Floyd\, VA\, 24091\, United States
CATEGORIES:Wellness
GEO:36.971665;-80.371947
X-APPLE-STRUCTURED-LOCATION;VALUE=URI;X-ADDRESS=Living Light River Studio 407 Slusher Store Rd NE Floyd VA 24091 United States;X-APPLE-RADIUS=500;X-TITLE=407 Slusher Store Rd NE:geo:-80.371947,36.971665
END:VEVENT
BEGIN:VEVENT
DTSTART;TZID=America/New_York:20250127T180000
DTEND;TZID=America/New_York:20250127T190000
DTSTAMP:20260420T024241
CREATED:20211229T143658Z
LAST-MODIFIED:20251106T163945Z
UID:10026542-1738000800-1738004400@visitfloydva.com
SUMMARY:Gentle Moderate Yoga
DESCRIPTION:Join Shirley Ann for Gentle Moderate Yoga from 6 pm to 7 pm.
URL:https://visitfloydva.com/event/gentle-yoga-with-shirley-ann-2022-10-05/2025-01-27/
LOCATION:Living Light River Studio\, 407 Slusher Store Rd NE\, Floyd\, VA\, 24091\, United States
CATEGORIES:Wellness
GEO:36.971665;-80.371947
X-APPLE-STRUCTURED-LOCATION;VALUE=URI;X-ADDRESS=Living Light River Studio 407 Slusher Store Rd NE Floyd VA 24091 United States;X-APPLE-RADIUS=500;X-TITLE=407 Slusher Store Rd NE:geo:-80.371947,36.971665
END:VEVENT
END:VCALENDAR