BEGIN:VCALENDAR
VERSION:2.0
PRODID:-//Visit Floyd Virginia - ECPv6.15.20//NONSGML v1.0//EN
CALSCALE:GREGORIAN
METHOD:PUBLISH
X-ORIGINAL-URL:https://visitfloydva.com
X-WR-CALDESC:Events for Visit Floyd Virginia
REFRESH-INTERVAL;VALUE=DURATION:PT1H
X-Robots-Tag:noindex
X-PUBLISHED-TTL:PT1H
BEGIN:VTIMEZONE
TZID:America/New_York
BEGIN:DAYLIGHT
TZOFFSETFROM:-0500
TZOFFSETTO:-0400
TZNAME:EDT
DTSTART:20240310T070000
END:DAYLIGHT
BEGIN:STANDARD
TZOFFSETFROM:-0400
TZOFFSETTO:-0500
TZNAME:EST
DTSTART:20241103T060000
END:STANDARD
BEGIN:DAYLIGHT
TZOFFSETFROM:-0500
TZOFFSETTO:-0400
TZNAME:EDT
DTSTART:20250309T070000
END:DAYLIGHT
BEGIN:STANDARD
TZOFFSETFROM:-0400
TZOFFSETTO:-0500
TZNAME:EST
DTSTART:20251102T060000
END:STANDARD
BEGIN:DAYLIGHT
TZOFFSETFROM:-0500
TZOFFSETTO:-0400
TZNAME:EDT
DTSTART:20260308T070000
END:DAYLIGHT
BEGIN:STANDARD
TZOFFSETFROM:-0400
TZOFFSETTO:-0500
TZNAME:EST
DTSTART:20261101T060000
END:STANDARD
END:VTIMEZONE
BEGIN:VEVENT
DTSTART;TZID=America/New_York:20251028T100000
DTEND;TZID=America/New_York:20251028T110000
DTSTAMP:20260419T233321
CREATED:20191129T185700Z
LAST-MODIFIED:20251106T164120Z
UID:10026224-1761645600-1761649200@visitfloydva.com
SUMMARY:Sun Moon Flow Yoga with Shirley Ann
DESCRIPTION:Join Shirley Ann for Sun Moon Flow Yoga from 10 am to 11 pm.
URL:https://visitfloydva.com/event/sun-moon-flow-with-shirley-ann/2025-10-28/
LOCATION:Living Light River Studio\, 407 Slusher Store Rd NE\, Floyd\, VA\, 24091\, United States
CATEGORIES:Wellness
GEO:36.971665;-80.371947
X-APPLE-STRUCTURED-LOCATION;VALUE=URI;X-ADDRESS=Living Light River Studio 407 Slusher Store Rd NE Floyd VA 24091 United States;X-APPLE-RADIUS=500;X-TITLE=407 Slusher Store Rd NE:geo:-80.371947,36.971665
END:VEVENT
BEGIN:VEVENT
DTSTART;TZID=America/New_York:20251027T180000
DTEND;TZID=America/New_York:20251027T190000
DTSTAMP:20260419T233321
CREATED:20211229T143658Z
LAST-MODIFIED:20251106T163945Z
UID:10026581-1761588000-1761591600@visitfloydva.com
SUMMARY:Gentle Moderate Yoga
DESCRIPTION:Join Shirley Ann for Gentle Moderate Yoga from 6 pm to 7 pm.
URL:https://visitfloydva.com/event/gentle-yoga-with-shirley-ann-2022-10-05/2025-10-27/
LOCATION:Living Light River Studio\, 407 Slusher Store Rd NE\, Floyd\, VA\, 24091\, United States
CATEGORIES:Wellness
GEO:36.971665;-80.371947
X-APPLE-STRUCTURED-LOCATION;VALUE=URI;X-ADDRESS=Living Light River Studio 407 Slusher Store Rd NE Floyd VA 24091 United States;X-APPLE-RADIUS=500;X-TITLE=407 Slusher Store Rd NE:geo:-80.371947,36.971665
END:VEVENT
BEGIN:VEVENT
DTSTART;TZID=America/New_York:20251021T100000
DTEND;TZID=America/New_York:20251021T110000
DTSTAMP:20260419T233321
CREATED:20191129T185700Z
LAST-MODIFIED:20251106T164120Z
UID:10026223-1761040800-1761044400@visitfloydva.com
SUMMARY:Sun Moon Flow Yoga with Shirley Ann
DESCRIPTION:Join Shirley Ann for Sun Moon Flow Yoga from 10 am to 11 pm.
URL:https://visitfloydva.com/event/sun-moon-flow-with-shirley-ann/2025-10-21/
LOCATION:Living Light River Studio\, 407 Slusher Store Rd NE\, Floyd\, VA\, 24091\, United States
CATEGORIES:Wellness
GEO:36.971665;-80.371947
X-APPLE-STRUCTURED-LOCATION;VALUE=URI;X-ADDRESS=Living Light River Studio 407 Slusher Store Rd NE Floyd VA 24091 United States;X-APPLE-RADIUS=500;X-TITLE=407 Slusher Store Rd NE:geo:-80.371947,36.971665
END:VEVENT
BEGIN:VEVENT
DTSTART;TZID=America/New_York:20251020T180000
DTEND;TZID=America/New_York:20251020T190000
DTSTAMP:20260419T233321
CREATED:20211229T143658Z
LAST-MODIFIED:20251106T163945Z
UID:10026580-1760983200-1760986800@visitfloydva.com
SUMMARY:Gentle Moderate Yoga
DESCRIPTION:Join Shirley Ann for Gentle Moderate Yoga from 6 pm to 7 pm.
URL:https://visitfloydva.com/event/gentle-yoga-with-shirley-ann-2022-10-05/2025-10-20/
LOCATION:Living Light River Studio\, 407 Slusher Store Rd NE\, Floyd\, VA\, 24091\, United States
CATEGORIES:Wellness
GEO:36.971665;-80.371947
X-APPLE-STRUCTURED-LOCATION;VALUE=URI;X-ADDRESS=Living Light River Studio 407 Slusher Store Rd NE Floyd VA 24091 United States;X-APPLE-RADIUS=500;X-TITLE=407 Slusher Store Rd NE:geo:-80.371947,36.971665
END:VEVENT
BEGIN:VEVENT
DTSTART;TZID=America/New_York:20251014T100000
DTEND;TZID=America/New_York:20251014T110000
DTSTAMP:20260419T233321
CREATED:20191129T185700Z
LAST-MODIFIED:20251106T164120Z
UID:10026222-1760436000-1760439600@visitfloydva.com
SUMMARY:Sun Moon Flow Yoga with Shirley Ann
DESCRIPTION:Join Shirley Ann for Sun Moon Flow Yoga from 10 am to 11 pm.
URL:https://visitfloydva.com/event/sun-moon-flow-with-shirley-ann/2025-10-14/
LOCATION:Living Light River Studio\, 407 Slusher Store Rd NE\, Floyd\, VA\, 24091\, United States
CATEGORIES:Wellness
GEO:36.971665;-80.371947
X-APPLE-STRUCTURED-LOCATION;VALUE=URI;X-ADDRESS=Living Light River Studio 407 Slusher Store Rd NE Floyd VA 24091 United States;X-APPLE-RADIUS=500;X-TITLE=407 Slusher Store Rd NE:geo:-80.371947,36.971665
END:VEVENT
BEGIN:VEVENT
DTSTART;TZID=America/New_York:20251013T180000
DTEND;TZID=America/New_York:20251013T190000
DTSTAMP:20260419T233321
CREATED:20211229T143658Z
LAST-MODIFIED:20251106T163945Z
UID:10026579-1760378400-1760382000@visitfloydva.com
SUMMARY:Gentle Moderate Yoga
DESCRIPTION:Join Shirley Ann for Gentle Moderate Yoga from 6 pm to 7 pm.
URL:https://visitfloydva.com/event/gentle-yoga-with-shirley-ann-2022-10-05/2025-10-13/
LOCATION:Living Light River Studio\, 407 Slusher Store Rd NE\, Floyd\, VA\, 24091\, United States
CATEGORIES:Wellness
GEO:36.971665;-80.371947
X-APPLE-STRUCTURED-LOCATION;VALUE=URI;X-ADDRESS=Living Light River Studio 407 Slusher Store Rd NE Floyd VA 24091 United States;X-APPLE-RADIUS=500;X-TITLE=407 Slusher Store Rd NE:geo:-80.371947,36.971665
END:VEVENT
BEGIN:VEVENT
DTSTART;TZID=America/New_York:20251007T100000
DTEND;TZID=America/New_York:20251007T110000
DTSTAMP:20260419T233321
CREATED:20191129T185700Z
LAST-MODIFIED:20251106T164120Z
UID:10026221-1759831200-1759834800@visitfloydva.com
SUMMARY:Sun Moon Flow Yoga with Shirley Ann
DESCRIPTION:Join Shirley Ann for Sun Moon Flow Yoga from 10 am to 11 pm.
URL:https://visitfloydva.com/event/sun-moon-flow-with-shirley-ann/2025-10-07/
LOCATION:Living Light River Studio\, 407 Slusher Store Rd NE\, Floyd\, VA\, 24091\, United States
CATEGORIES:Wellness
GEO:36.971665;-80.371947
X-APPLE-STRUCTURED-LOCATION;VALUE=URI;X-ADDRESS=Living Light River Studio 407 Slusher Store Rd NE Floyd VA 24091 United States;X-APPLE-RADIUS=500;X-TITLE=407 Slusher Store Rd NE:geo:-80.371947,36.971665
END:VEVENT
BEGIN:VEVENT
DTSTART;TZID=America/New_York:20251006T180000
DTEND;TZID=America/New_York:20251006T190000
DTSTAMP:20260419T233321
CREATED:20211229T143658Z
LAST-MODIFIED:20251106T163945Z
UID:10026578-1759773600-1759777200@visitfloydva.com
SUMMARY:Gentle Moderate Yoga
DESCRIPTION:Join Shirley Ann for Gentle Moderate Yoga from 6 pm to 7 pm.
URL:https://visitfloydva.com/event/gentle-yoga-with-shirley-ann-2022-10-05/2025-10-06/
LOCATION:Living Light River Studio\, 407 Slusher Store Rd NE\, Floyd\, VA\, 24091\, United States
CATEGORIES:Wellness
GEO:36.971665;-80.371947
X-APPLE-STRUCTURED-LOCATION;VALUE=URI;X-ADDRESS=Living Light River Studio 407 Slusher Store Rd NE Floyd VA 24091 United States;X-APPLE-RADIUS=500;X-TITLE=407 Slusher Store Rd NE:geo:-80.371947,36.971665
END:VEVENT
BEGIN:VEVENT
DTSTART;TZID=America/New_York:20250930T100000
DTEND;TZID=America/New_York:20250930T110000
DTSTAMP:20260419T233321
CREATED:20191129T185700Z
LAST-MODIFIED:20251106T164120Z
UID:10026220-1759226400-1759230000@visitfloydva.com
SUMMARY:Sun Moon Flow Yoga with Shirley Ann
DESCRIPTION:Join Shirley Ann for Sun Moon Flow Yoga from 10 am to 11 pm.
URL:https://visitfloydva.com/event/sun-moon-flow-with-shirley-ann/2025-09-30/
LOCATION:Living Light River Studio\, 407 Slusher Store Rd NE\, Floyd\, VA\, 24091\, United States
CATEGORIES:Wellness
GEO:36.971665;-80.371947
X-APPLE-STRUCTURED-LOCATION;VALUE=URI;X-ADDRESS=Living Light River Studio 407 Slusher Store Rd NE Floyd VA 24091 United States;X-APPLE-RADIUS=500;X-TITLE=407 Slusher Store Rd NE:geo:-80.371947,36.971665
END:VEVENT
BEGIN:VEVENT
DTSTART;TZID=America/New_York:20250929T180000
DTEND;TZID=America/New_York:20250929T190000
DTSTAMP:20260419T233321
CREATED:20211229T143658Z
LAST-MODIFIED:20251106T163945Z
UID:10026577-1759168800-1759172400@visitfloydva.com
SUMMARY:Gentle Moderate Yoga
DESCRIPTION:Join Shirley Ann for Gentle Moderate Yoga from 6 pm to 7 pm.
URL:https://visitfloydva.com/event/gentle-yoga-with-shirley-ann-2022-10-05/2025-09-29/
LOCATION:Living Light River Studio\, 407 Slusher Store Rd NE\, Floyd\, VA\, 24091\, United States
CATEGORIES:Wellness
GEO:36.971665;-80.371947
X-APPLE-STRUCTURED-LOCATION;VALUE=URI;X-ADDRESS=Living Light River Studio 407 Slusher Store Rd NE Floyd VA 24091 United States;X-APPLE-RADIUS=500;X-TITLE=407 Slusher Store Rd NE:geo:-80.371947,36.971665
END:VEVENT
BEGIN:VEVENT
DTSTART;TZID=America/New_York:20250923T100000
DTEND;TZID=America/New_York:20250923T110000
DTSTAMP:20260419T233321
CREATED:20191129T185700Z
LAST-MODIFIED:20251106T164120Z
UID:10026219-1758621600-1758625200@visitfloydva.com
SUMMARY:Sun Moon Flow Yoga with Shirley Ann
DESCRIPTION:Join Shirley Ann for Sun Moon Flow Yoga from 10 am to 11 pm.
URL:https://visitfloydva.com/event/sun-moon-flow-with-shirley-ann/2025-09-23/
LOCATION:Living Light River Studio\, 407 Slusher Store Rd NE\, Floyd\, VA\, 24091\, United States
CATEGORIES:Wellness
GEO:36.971665;-80.371947
X-APPLE-STRUCTURED-LOCATION;VALUE=URI;X-ADDRESS=Living Light River Studio 407 Slusher Store Rd NE Floyd VA 24091 United States;X-APPLE-RADIUS=500;X-TITLE=407 Slusher Store Rd NE:geo:-80.371947,36.971665
END:VEVENT
BEGIN:VEVENT
DTSTART;TZID=America/New_York:20250922T180000
DTEND;TZID=America/New_York:20250922T190000
DTSTAMP:20260419T233321
CREATED:20211229T143658Z
LAST-MODIFIED:20251106T163945Z
UID:10026576-1758564000-1758567600@visitfloydva.com
SUMMARY:Gentle Moderate Yoga
DESCRIPTION:Join Shirley Ann for Gentle Moderate Yoga from 6 pm to 7 pm.
URL:https://visitfloydva.com/event/gentle-yoga-with-shirley-ann-2022-10-05/2025-09-22/
LOCATION:Living Light River Studio\, 407 Slusher Store Rd NE\, Floyd\, VA\, 24091\, United States
CATEGORIES:Wellness
GEO:36.971665;-80.371947
X-APPLE-STRUCTURED-LOCATION;VALUE=URI;X-ADDRESS=Living Light River Studio 407 Slusher Store Rd NE Floyd VA 24091 United States;X-APPLE-RADIUS=500;X-TITLE=407 Slusher Store Rd NE:geo:-80.371947,36.971665
END:VEVENT
BEGIN:VEVENT
DTSTART;TZID=America/New_York:20250916T100000
DTEND;TZID=America/New_York:20250916T110000
DTSTAMP:20260419T233321
CREATED:20191129T185700Z
LAST-MODIFIED:20251106T164120Z
UID:10026218-1758016800-1758020400@visitfloydva.com
SUMMARY:Sun Moon Flow Yoga with Shirley Ann
DESCRIPTION:Join Shirley Ann for Sun Moon Flow Yoga from 10 am to 11 pm.
URL:https://visitfloydva.com/event/sun-moon-flow-with-shirley-ann/2025-09-16/
LOCATION:Living Light River Studio\, 407 Slusher Store Rd NE\, Floyd\, VA\, 24091\, United States
CATEGORIES:Wellness
GEO:36.971665;-80.371947
X-APPLE-STRUCTURED-LOCATION;VALUE=URI;X-ADDRESS=Living Light River Studio 407 Slusher Store Rd NE Floyd VA 24091 United States;X-APPLE-RADIUS=500;X-TITLE=407 Slusher Store Rd NE:geo:-80.371947,36.971665
END:VEVENT
BEGIN:VEVENT
DTSTART;TZID=America/New_York:20250915T180000
DTEND;TZID=America/New_York:20250915T190000
DTSTAMP:20260419T233321
CREATED:20211229T143658Z
LAST-MODIFIED:20251106T163945Z
UID:10026575-1757959200-1757962800@visitfloydva.com
SUMMARY:Gentle Moderate Yoga
DESCRIPTION:Join Shirley Ann for Gentle Moderate Yoga from 6 pm to 7 pm.
URL:https://visitfloydva.com/event/gentle-yoga-with-shirley-ann-2022-10-05/2025-09-15/
LOCATION:Living Light River Studio\, 407 Slusher Store Rd NE\, Floyd\, VA\, 24091\, United States
CATEGORIES:Wellness
GEO:36.971665;-80.371947
X-APPLE-STRUCTURED-LOCATION;VALUE=URI;X-ADDRESS=Living Light River Studio 407 Slusher Store Rd NE Floyd VA 24091 United States;X-APPLE-RADIUS=500;X-TITLE=407 Slusher Store Rd NE:geo:-80.371947,36.971665
END:VEVENT
BEGIN:VEVENT
DTSTART;TZID=America/New_York:20250909T100000
DTEND;TZID=America/New_York:20250909T110000
DTSTAMP:20260419T233321
CREATED:20191129T185700Z
LAST-MODIFIED:20251106T164120Z
UID:10026217-1757412000-1757415600@visitfloydva.com
SUMMARY:Sun Moon Flow Yoga with Shirley Ann
DESCRIPTION:Join Shirley Ann for Sun Moon Flow Yoga from 10 am to 11 pm.
URL:https://visitfloydva.com/event/sun-moon-flow-with-shirley-ann/2025-09-09/
LOCATION:Living Light River Studio\, 407 Slusher Store Rd NE\, Floyd\, VA\, 24091\, United States
CATEGORIES:Wellness
GEO:36.971665;-80.371947
X-APPLE-STRUCTURED-LOCATION;VALUE=URI;X-ADDRESS=Living Light River Studio 407 Slusher Store Rd NE Floyd VA 24091 United States;X-APPLE-RADIUS=500;X-TITLE=407 Slusher Store Rd NE:geo:-80.371947,36.971665
END:VEVENT
BEGIN:VEVENT
DTSTART;TZID=America/New_York:20250908T180000
DTEND;TZID=America/New_York:20250908T190000
DTSTAMP:20260419T233321
CREATED:20211229T143658Z
LAST-MODIFIED:20251106T163945Z
UID:10026574-1757354400-1757358000@visitfloydva.com
SUMMARY:Gentle Moderate Yoga
DESCRIPTION:Join Shirley Ann for Gentle Moderate Yoga from 6 pm to 7 pm.
URL:https://visitfloydva.com/event/gentle-yoga-with-shirley-ann-2022-10-05/2025-09-08/
LOCATION:Living Light River Studio\, 407 Slusher Store Rd NE\, Floyd\, VA\, 24091\, United States
CATEGORIES:Wellness
GEO:36.971665;-80.371947
X-APPLE-STRUCTURED-LOCATION;VALUE=URI;X-ADDRESS=Living Light River Studio 407 Slusher Store Rd NE Floyd VA 24091 United States;X-APPLE-RADIUS=500;X-TITLE=407 Slusher Store Rd NE:geo:-80.371947,36.971665
END:VEVENT
BEGIN:VEVENT
DTSTART;TZID=America/New_York:20250902T100000
DTEND;TZID=America/New_York:20250902T110000
DTSTAMP:20260419T233321
CREATED:20191129T185700Z
LAST-MODIFIED:20251106T164120Z
UID:10026216-1756807200-1756810800@visitfloydva.com
SUMMARY:Sun Moon Flow Yoga with Shirley Ann
DESCRIPTION:Join Shirley Ann for Sun Moon Flow Yoga from 10 am to 11 pm.
URL:https://visitfloydva.com/event/sun-moon-flow-with-shirley-ann/2025-09-02/
LOCATION:Living Light River Studio\, 407 Slusher Store Rd NE\, Floyd\, VA\, 24091\, United States
CATEGORIES:Wellness
GEO:36.971665;-80.371947
X-APPLE-STRUCTURED-LOCATION;VALUE=URI;X-ADDRESS=Living Light River Studio 407 Slusher Store Rd NE Floyd VA 24091 United States;X-APPLE-RADIUS=500;X-TITLE=407 Slusher Store Rd NE:geo:-80.371947,36.971665
END:VEVENT
BEGIN:VEVENT
DTSTART;TZID=America/New_York:20250901T180000
DTEND;TZID=America/New_York:20250901T190000
DTSTAMP:20260419T233321
CREATED:20211229T143658Z
LAST-MODIFIED:20251106T163945Z
UID:10026573-1756749600-1756753200@visitfloydva.com
SUMMARY:Gentle Moderate Yoga
DESCRIPTION:Join Shirley Ann for Gentle Moderate Yoga from 6 pm to 7 pm.
URL:https://visitfloydva.com/event/gentle-yoga-with-shirley-ann-2022-10-05/2025-09-01/
LOCATION:Living Light River Studio\, 407 Slusher Store Rd NE\, Floyd\, VA\, 24091\, United States
CATEGORIES:Wellness
GEO:36.971665;-80.371947
X-APPLE-STRUCTURED-LOCATION;VALUE=URI;X-ADDRESS=Living Light River Studio 407 Slusher Store Rd NE Floyd VA 24091 United States;X-APPLE-RADIUS=500;X-TITLE=407 Slusher Store Rd NE:geo:-80.371947,36.971665
END:VEVENT
BEGIN:VEVENT
DTSTART;TZID=America/New_York:20250826T100000
DTEND;TZID=America/New_York:20250826T110000
DTSTAMP:20260419T233321
CREATED:20191129T185700Z
LAST-MODIFIED:20251106T164120Z
UID:10026215-1756202400-1756206000@visitfloydva.com
SUMMARY:Sun Moon Flow Yoga with Shirley Ann
DESCRIPTION:Join Shirley Ann for Sun Moon Flow Yoga from 10 am to 11 pm.
URL:https://visitfloydva.com/event/sun-moon-flow-with-shirley-ann/2025-08-26/
LOCATION:Living Light River Studio\, 407 Slusher Store Rd NE\, Floyd\, VA\, 24091\, United States
CATEGORIES:Wellness
GEO:36.971665;-80.371947
X-APPLE-STRUCTURED-LOCATION;VALUE=URI;X-ADDRESS=Living Light River Studio 407 Slusher Store Rd NE Floyd VA 24091 United States;X-APPLE-RADIUS=500;X-TITLE=407 Slusher Store Rd NE:geo:-80.371947,36.971665
END:VEVENT
BEGIN:VEVENT
DTSTART;TZID=America/New_York:20250825T180000
DTEND;TZID=America/New_York:20250825T190000
DTSTAMP:20260419T233321
CREATED:20211229T143658Z
LAST-MODIFIED:20251106T163945Z
UID:10026572-1756144800-1756148400@visitfloydva.com
SUMMARY:Gentle Moderate Yoga
DESCRIPTION:Join Shirley Ann for Gentle Moderate Yoga from 6 pm to 7 pm.
URL:https://visitfloydva.com/event/gentle-yoga-with-shirley-ann-2022-10-05/2025-08-25/
LOCATION:Living Light River Studio\, 407 Slusher Store Rd NE\, Floyd\, VA\, 24091\, United States
CATEGORIES:Wellness
GEO:36.971665;-80.371947
X-APPLE-STRUCTURED-LOCATION;VALUE=URI;X-ADDRESS=Living Light River Studio 407 Slusher Store Rd NE Floyd VA 24091 United States;X-APPLE-RADIUS=500;X-TITLE=407 Slusher Store Rd NE:geo:-80.371947,36.971665
END:VEVENT
BEGIN:VEVENT
DTSTART;TZID=America/New_York:20250819T100000
DTEND;TZID=America/New_York:20250819T110000
DTSTAMP:20260419T233321
CREATED:20191129T185700Z
LAST-MODIFIED:20251106T164120Z
UID:10026214-1755597600-1755601200@visitfloydva.com
SUMMARY:Sun Moon Flow Yoga with Shirley Ann
DESCRIPTION:Join Shirley Ann for Sun Moon Flow Yoga from 10 am to 11 pm.
URL:https://visitfloydva.com/event/sun-moon-flow-with-shirley-ann/2025-08-19/
LOCATION:Living Light River Studio\, 407 Slusher Store Rd NE\, Floyd\, VA\, 24091\, United States
CATEGORIES:Wellness
GEO:36.971665;-80.371947
X-APPLE-STRUCTURED-LOCATION;VALUE=URI;X-ADDRESS=Living Light River Studio 407 Slusher Store Rd NE Floyd VA 24091 United States;X-APPLE-RADIUS=500;X-TITLE=407 Slusher Store Rd NE:geo:-80.371947,36.971665
END:VEVENT
BEGIN:VEVENT
DTSTART;TZID=America/New_York:20250818T180000
DTEND;TZID=America/New_York:20250818T190000
DTSTAMP:20260419T233321
CREATED:20211229T143658Z
LAST-MODIFIED:20251106T163945Z
UID:10026571-1755540000-1755543600@visitfloydva.com
SUMMARY:Gentle Moderate Yoga
DESCRIPTION:Join Shirley Ann for Gentle Moderate Yoga from 6 pm to 7 pm.
URL:https://visitfloydva.com/event/gentle-yoga-with-shirley-ann-2022-10-05/2025-08-18/
LOCATION:Living Light River Studio\, 407 Slusher Store Rd NE\, Floyd\, VA\, 24091\, United States
CATEGORIES:Wellness
GEO:36.971665;-80.371947
X-APPLE-STRUCTURED-LOCATION;VALUE=URI;X-ADDRESS=Living Light River Studio 407 Slusher Store Rd NE Floyd VA 24091 United States;X-APPLE-RADIUS=500;X-TITLE=407 Slusher Store Rd NE:geo:-80.371947,36.971665
END:VEVENT
BEGIN:VEVENT
DTSTART;TZID=America/New_York:20250812T100000
DTEND;TZID=America/New_York:20250812T110000
DTSTAMP:20260419T233321
CREATED:20191129T185700Z
LAST-MODIFIED:20251106T164120Z
UID:10026213-1754992800-1754996400@visitfloydva.com
SUMMARY:Sun Moon Flow Yoga with Shirley Ann
DESCRIPTION:Join Shirley Ann for Sun Moon Flow Yoga from 10 am to 11 pm.
URL:https://visitfloydva.com/event/sun-moon-flow-with-shirley-ann/2025-08-12/
LOCATION:Living Light River Studio\, 407 Slusher Store Rd NE\, Floyd\, VA\, 24091\, United States
CATEGORIES:Wellness
GEO:36.971665;-80.371947
X-APPLE-STRUCTURED-LOCATION;VALUE=URI;X-ADDRESS=Living Light River Studio 407 Slusher Store Rd NE Floyd VA 24091 United States;X-APPLE-RADIUS=500;X-TITLE=407 Slusher Store Rd NE:geo:-80.371947,36.971665
END:VEVENT
BEGIN:VEVENT
DTSTART;TZID=America/New_York:20250811T180000
DTEND;TZID=America/New_York:20250811T190000
DTSTAMP:20260419T233321
CREATED:20211229T143658Z
LAST-MODIFIED:20251106T163945Z
UID:10026570-1754935200-1754938800@visitfloydva.com
SUMMARY:Gentle Moderate Yoga
DESCRIPTION:Join Shirley Ann for Gentle Moderate Yoga from 6 pm to 7 pm.
URL:https://visitfloydva.com/event/gentle-yoga-with-shirley-ann-2022-10-05/2025-08-11/
LOCATION:Living Light River Studio\, 407 Slusher Store Rd NE\, Floyd\, VA\, 24091\, United States
CATEGORIES:Wellness
GEO:36.971665;-80.371947
X-APPLE-STRUCTURED-LOCATION;VALUE=URI;X-ADDRESS=Living Light River Studio 407 Slusher Store Rd NE Floyd VA 24091 United States;X-APPLE-RADIUS=500;X-TITLE=407 Slusher Store Rd NE:geo:-80.371947,36.971665
END:VEVENT
BEGIN:VEVENT
DTSTART;TZID=America/New_York:20250805T100000
DTEND;TZID=America/New_York:20250805T110000
DTSTAMP:20260419T233321
CREATED:20191129T185700Z
LAST-MODIFIED:20251106T164120Z
UID:10026212-1754388000-1754391600@visitfloydva.com
SUMMARY:Sun Moon Flow Yoga with Shirley Ann
DESCRIPTION:Join Shirley Ann for Sun Moon Flow Yoga from 10 am to 11 pm.
URL:https://visitfloydva.com/event/sun-moon-flow-with-shirley-ann/2025-08-05/
LOCATION:Living Light River Studio\, 407 Slusher Store Rd NE\, Floyd\, VA\, 24091\, United States
CATEGORIES:Wellness
GEO:36.971665;-80.371947
X-APPLE-STRUCTURED-LOCATION;VALUE=URI;X-ADDRESS=Living Light River Studio 407 Slusher Store Rd NE Floyd VA 24091 United States;X-APPLE-RADIUS=500;X-TITLE=407 Slusher Store Rd NE:geo:-80.371947,36.971665
END:VEVENT
BEGIN:VEVENT
DTSTART;TZID=America/New_York:20250804T180000
DTEND;TZID=America/New_York:20250804T190000
DTSTAMP:20260419T233321
CREATED:20211229T143658Z
LAST-MODIFIED:20251106T163945Z
UID:10026569-1754330400-1754334000@visitfloydva.com
SUMMARY:Gentle Moderate Yoga
DESCRIPTION:Join Shirley Ann for Gentle Moderate Yoga from 6 pm to 7 pm.
URL:https://visitfloydva.com/event/gentle-yoga-with-shirley-ann-2022-10-05/2025-08-04/
LOCATION:Living Light River Studio\, 407 Slusher Store Rd NE\, Floyd\, VA\, 24091\, United States
CATEGORIES:Wellness
GEO:36.971665;-80.371947
X-APPLE-STRUCTURED-LOCATION;VALUE=URI;X-ADDRESS=Living Light River Studio 407 Slusher Store Rd NE Floyd VA 24091 United States;X-APPLE-RADIUS=500;X-TITLE=407 Slusher Store Rd NE:geo:-80.371947,36.971665
END:VEVENT
BEGIN:VEVENT
DTSTART;TZID=America/New_York:20250729T100000
DTEND;TZID=America/New_York:20250729T110000
DTSTAMP:20260419T233321
CREATED:20191129T185700Z
LAST-MODIFIED:20251106T164120Z
UID:10026211-1753783200-1753786800@visitfloydva.com
SUMMARY:Sun Moon Flow Yoga with Shirley Ann
DESCRIPTION:Join Shirley Ann for Sun Moon Flow Yoga from 10 am to 11 pm.
URL:https://visitfloydva.com/event/sun-moon-flow-with-shirley-ann/2025-07-29/
LOCATION:Living Light River Studio\, 407 Slusher Store Rd NE\, Floyd\, VA\, 24091\, United States
CATEGORIES:Wellness
GEO:36.971665;-80.371947
X-APPLE-STRUCTURED-LOCATION;VALUE=URI;X-ADDRESS=Living Light River Studio 407 Slusher Store Rd NE Floyd VA 24091 United States;X-APPLE-RADIUS=500;X-TITLE=407 Slusher Store Rd NE:geo:-80.371947,36.971665
END:VEVENT
BEGIN:VEVENT
DTSTART;TZID=America/New_York:20250728T180000
DTEND;TZID=America/New_York:20250728T190000
DTSTAMP:20260419T233321
CREATED:20211229T143658Z
LAST-MODIFIED:20251106T163945Z
UID:10026568-1753725600-1753729200@visitfloydva.com
SUMMARY:Gentle Moderate Yoga
DESCRIPTION:Join Shirley Ann for Gentle Moderate Yoga from 6 pm to 7 pm.
URL:https://visitfloydva.com/event/gentle-yoga-with-shirley-ann-2022-10-05/2025-07-28/
LOCATION:Living Light River Studio\, 407 Slusher Store Rd NE\, Floyd\, VA\, 24091\, United States
CATEGORIES:Wellness
GEO:36.971665;-80.371947
X-APPLE-STRUCTURED-LOCATION;VALUE=URI;X-ADDRESS=Living Light River Studio 407 Slusher Store Rd NE Floyd VA 24091 United States;X-APPLE-RADIUS=500;X-TITLE=407 Slusher Store Rd NE:geo:-80.371947,36.971665
END:VEVENT
BEGIN:VEVENT
DTSTART;TZID=America/New_York:20250722T100000
DTEND;TZID=America/New_York:20250722T110000
DTSTAMP:20260419T233321
CREATED:20191129T185700Z
LAST-MODIFIED:20251106T164120Z
UID:10026210-1753178400-1753182000@visitfloydva.com
SUMMARY:Sun Moon Flow Yoga with Shirley Ann
DESCRIPTION:Join Shirley Ann for Sun Moon Flow Yoga from 10 am to 11 pm.
URL:https://visitfloydva.com/event/sun-moon-flow-with-shirley-ann/2025-07-22/
LOCATION:Living Light River Studio\, 407 Slusher Store Rd NE\, Floyd\, VA\, 24091\, United States
CATEGORIES:Wellness
GEO:36.971665;-80.371947
X-APPLE-STRUCTURED-LOCATION;VALUE=URI;X-ADDRESS=Living Light River Studio 407 Slusher Store Rd NE Floyd VA 24091 United States;X-APPLE-RADIUS=500;X-TITLE=407 Slusher Store Rd NE:geo:-80.371947,36.971665
END:VEVENT
BEGIN:VEVENT
DTSTART;TZID=America/New_York:20250721T180000
DTEND;TZID=America/New_York:20250721T190000
DTSTAMP:20260419T233321
CREATED:20211229T143658Z
LAST-MODIFIED:20251106T163945Z
UID:10026567-1753120800-1753124400@visitfloydva.com
SUMMARY:Gentle Moderate Yoga
DESCRIPTION:Join Shirley Ann for Gentle Moderate Yoga from 6 pm to 7 pm.
URL:https://visitfloydva.com/event/gentle-yoga-with-shirley-ann-2022-10-05/2025-07-21/
LOCATION:Living Light River Studio\, 407 Slusher Store Rd NE\, Floyd\, VA\, 24091\, United States
CATEGORIES:Wellness
GEO:36.971665;-80.371947
X-APPLE-STRUCTURED-LOCATION;VALUE=URI;X-ADDRESS=Living Light River Studio 407 Slusher Store Rd NE Floyd VA 24091 United States;X-APPLE-RADIUS=500;X-TITLE=407 Slusher Store Rd NE:geo:-80.371947,36.971665
END:VEVENT
END:VCALENDAR