BEGIN:VCALENDAR
VERSION:2.0
PRODID:-//Visit Floyd Virginia - ECPv6.15.20//NONSGML v1.0//EN
CALSCALE:GREGORIAN
METHOD:PUBLISH
X-ORIGINAL-URL:https://visitfloydva.com
X-WR-CALDESC:Events for Visit Floyd Virginia
REFRESH-INTERVAL;VALUE=DURATION:PT1H
X-Robots-Tag:noindex
X-PUBLISHED-TTL:PT1H
BEGIN:VTIMEZONE
TZID:America/New_York
BEGIN:DAYLIGHT
TZOFFSETFROM:-0500
TZOFFSETTO:-0400
TZNAME:EDT
DTSTART:20250309T070000
END:DAYLIGHT
BEGIN:STANDARD
TZOFFSETFROM:-0400
TZOFFSETTO:-0500
TZNAME:EST
DTSTART:20251102T060000
END:STANDARD
BEGIN:DAYLIGHT
TZOFFSETFROM:-0500
TZOFFSETTO:-0400
TZNAME:EDT
DTSTART:20260308T070000
END:DAYLIGHT
BEGIN:STANDARD
TZOFFSETFROM:-0400
TZOFFSETTO:-0500
TZNAME:EST
DTSTART:20261101T060000
END:STANDARD
BEGIN:DAYLIGHT
TZOFFSETFROM:-0500
TZOFFSETTO:-0400
TZNAME:EDT
DTSTART:20270314T070000
END:DAYLIGHT
BEGIN:STANDARD
TZOFFSETFROM:-0400
TZOFFSETTO:-0500
TZNAME:EST
DTSTART:20271107T060000
END:STANDARD
END:VTIMEZONE
BEGIN:VEVENT
DTSTART;TZID=America/New_York:20260714T100000
DTEND;TZID=America/New_York:20260714T110000
DTSTAMP:20260419T195832
CREATED:20191129T185700Z
LAST-MODIFIED:20251106T164120Z
UID:10026261-1784023200-1784026800@visitfloydva.com
SUMMARY:Sun Moon Flow Yoga with Shirley Ann
DESCRIPTION:Join Shirley Ann for Sun Moon Flow Yoga from 10 am to 11 pm.
URL:https://visitfloydva.com/event/sun-moon-flow-with-shirley-ann/2026-07-14/
LOCATION:Living Light River Studio\, 407 Slusher Store Rd NE\, Floyd\, VA\, 24091\, United States
CATEGORIES:Wellness
GEO:36.971665;-80.371947
X-APPLE-STRUCTURED-LOCATION;VALUE=URI;X-ADDRESS=Living Light River Studio 407 Slusher Store Rd NE Floyd VA 24091 United States;X-APPLE-RADIUS=500;X-TITLE=407 Slusher Store Rd NE:geo:-80.371947,36.971665
END:VEVENT
BEGIN:VEVENT
DTSTART;TZID=America/New_York:20260720T180000
DTEND;TZID=America/New_York:20260720T190000
DTSTAMP:20260419T195832
CREATED:20211229T143658Z
LAST-MODIFIED:20251106T163945Z
UID:10026619-1784570400-1784574000@visitfloydva.com
SUMMARY:Gentle Moderate Yoga
DESCRIPTION:Join Shirley Ann for Gentle Moderate Yoga from 6 pm to 7 pm.
URL:https://visitfloydva.com/event/gentle-yoga-with-shirley-ann-2022-10-05/2026-07-20/
LOCATION:Living Light River Studio\, 407 Slusher Store Rd NE\, Floyd\, VA\, 24091\, United States
CATEGORIES:Wellness
GEO:36.971665;-80.371947
X-APPLE-STRUCTURED-LOCATION;VALUE=URI;X-ADDRESS=Living Light River Studio 407 Slusher Store Rd NE Floyd VA 24091 United States;X-APPLE-RADIUS=500;X-TITLE=407 Slusher Store Rd NE:geo:-80.371947,36.971665
END:VEVENT
BEGIN:VEVENT
DTSTART;TZID=America/New_York:20260721T100000
DTEND;TZID=America/New_York:20260721T110000
DTSTAMP:20260419T195832
CREATED:20191129T185700Z
LAST-MODIFIED:20251106T164120Z
UID:10026262-1784628000-1784631600@visitfloydva.com
SUMMARY:Sun Moon Flow Yoga with Shirley Ann
DESCRIPTION:Join Shirley Ann for Sun Moon Flow Yoga from 10 am to 11 pm.
URL:https://visitfloydva.com/event/sun-moon-flow-with-shirley-ann/2026-07-21/
LOCATION:Living Light River Studio\, 407 Slusher Store Rd NE\, Floyd\, VA\, 24091\, United States
CATEGORIES:Wellness
GEO:36.971665;-80.371947
X-APPLE-STRUCTURED-LOCATION;VALUE=URI;X-ADDRESS=Living Light River Studio 407 Slusher Store Rd NE Floyd VA 24091 United States;X-APPLE-RADIUS=500;X-TITLE=407 Slusher Store Rd NE:geo:-80.371947,36.971665
END:VEVENT
BEGIN:VEVENT
DTSTART;TZID=America/New_York:20260727T180000
DTEND;TZID=America/New_York:20260727T190000
DTSTAMP:20260419T195832
CREATED:20211229T143658Z
LAST-MODIFIED:20251106T163945Z
UID:10026620-1785175200-1785178800@visitfloydva.com
SUMMARY:Gentle Moderate Yoga
DESCRIPTION:Join Shirley Ann for Gentle Moderate Yoga from 6 pm to 7 pm.
URL:https://visitfloydva.com/event/gentle-yoga-with-shirley-ann-2022-10-05/2026-07-27/
LOCATION:Living Light River Studio\, 407 Slusher Store Rd NE\, Floyd\, VA\, 24091\, United States
CATEGORIES:Wellness
GEO:36.971665;-80.371947
X-APPLE-STRUCTURED-LOCATION;VALUE=URI;X-ADDRESS=Living Light River Studio 407 Slusher Store Rd NE Floyd VA 24091 United States;X-APPLE-RADIUS=500;X-TITLE=407 Slusher Store Rd NE:geo:-80.371947,36.971665
END:VEVENT
BEGIN:VEVENT
DTSTART;TZID=America/New_York:20260728T100000
DTEND;TZID=America/New_York:20260728T110000
DTSTAMP:20260419T195832
CREATED:20191129T185700Z
LAST-MODIFIED:20251106T164120Z
UID:10026263-1785232800-1785236400@visitfloydva.com
SUMMARY:Sun Moon Flow Yoga with Shirley Ann
DESCRIPTION:Join Shirley Ann for Sun Moon Flow Yoga from 10 am to 11 pm.
URL:https://visitfloydva.com/event/sun-moon-flow-with-shirley-ann/2026-07-28/
LOCATION:Living Light River Studio\, 407 Slusher Store Rd NE\, Floyd\, VA\, 24091\, United States
CATEGORIES:Wellness
GEO:36.971665;-80.371947
X-APPLE-STRUCTURED-LOCATION;VALUE=URI;X-ADDRESS=Living Light River Studio 407 Slusher Store Rd NE Floyd VA 24091 United States;X-APPLE-RADIUS=500;X-TITLE=407 Slusher Store Rd NE:geo:-80.371947,36.971665
END:VEVENT
BEGIN:VEVENT
DTSTART;TZID=America/New_York:20260803T180000
DTEND;TZID=America/New_York:20260803T190000
DTSTAMP:20260419T195832
CREATED:20211229T143658Z
LAST-MODIFIED:20251106T163945Z
UID:10026621-1785780000-1785783600@visitfloydva.com
SUMMARY:Gentle Moderate Yoga
DESCRIPTION:Join Shirley Ann for Gentle Moderate Yoga from 6 pm to 7 pm.
URL:https://visitfloydva.com/event/gentle-yoga-with-shirley-ann-2022-10-05/2026-08-03/
LOCATION:Living Light River Studio\, 407 Slusher Store Rd NE\, Floyd\, VA\, 24091\, United States
CATEGORIES:Wellness
GEO:36.971665;-80.371947
X-APPLE-STRUCTURED-LOCATION;VALUE=URI;X-ADDRESS=Living Light River Studio 407 Slusher Store Rd NE Floyd VA 24091 United States;X-APPLE-RADIUS=500;X-TITLE=407 Slusher Store Rd NE:geo:-80.371947,36.971665
END:VEVENT
BEGIN:VEVENT
DTSTART;TZID=America/New_York:20260804T100000
DTEND;TZID=America/New_York:20260804T110000
DTSTAMP:20260419T195832
CREATED:20191129T185700Z
LAST-MODIFIED:20251106T164120Z
UID:10026264-1785837600-1785841200@visitfloydva.com
SUMMARY:Sun Moon Flow Yoga with Shirley Ann
DESCRIPTION:Join Shirley Ann for Sun Moon Flow Yoga from 10 am to 11 pm.
URL:https://visitfloydva.com/event/sun-moon-flow-with-shirley-ann/2026-08-04/
LOCATION:Living Light River Studio\, 407 Slusher Store Rd NE\, Floyd\, VA\, 24091\, United States
CATEGORIES:Wellness
GEO:36.971665;-80.371947
X-APPLE-STRUCTURED-LOCATION;VALUE=URI;X-ADDRESS=Living Light River Studio 407 Slusher Store Rd NE Floyd VA 24091 United States;X-APPLE-RADIUS=500;X-TITLE=407 Slusher Store Rd NE:geo:-80.371947,36.971665
END:VEVENT
BEGIN:VEVENT
DTSTART;TZID=America/New_York:20260810T180000
DTEND;TZID=America/New_York:20260810T190000
DTSTAMP:20260419T195832
CREATED:20211229T143658Z
LAST-MODIFIED:20251106T163945Z
UID:10026622-1786384800-1786388400@visitfloydva.com
SUMMARY:Gentle Moderate Yoga
DESCRIPTION:Join Shirley Ann for Gentle Moderate Yoga from 6 pm to 7 pm.
URL:https://visitfloydva.com/event/gentle-yoga-with-shirley-ann-2022-10-05/2026-08-10/
LOCATION:Living Light River Studio\, 407 Slusher Store Rd NE\, Floyd\, VA\, 24091\, United States
CATEGORIES:Wellness
GEO:36.971665;-80.371947
X-APPLE-STRUCTURED-LOCATION;VALUE=URI;X-ADDRESS=Living Light River Studio 407 Slusher Store Rd NE Floyd VA 24091 United States;X-APPLE-RADIUS=500;X-TITLE=407 Slusher Store Rd NE:geo:-80.371947,36.971665
END:VEVENT
BEGIN:VEVENT
DTSTART;TZID=America/New_York:20260811T100000
DTEND;TZID=America/New_York:20260811T110000
DTSTAMP:20260419T195832
CREATED:20191129T185700Z
LAST-MODIFIED:20251106T164120Z
UID:10026265-1786442400-1786446000@visitfloydva.com
SUMMARY:Sun Moon Flow Yoga with Shirley Ann
DESCRIPTION:Join Shirley Ann for Sun Moon Flow Yoga from 10 am to 11 pm.
URL:https://visitfloydva.com/event/sun-moon-flow-with-shirley-ann/2026-08-11/
LOCATION:Living Light River Studio\, 407 Slusher Store Rd NE\, Floyd\, VA\, 24091\, United States
CATEGORIES:Wellness
GEO:36.971665;-80.371947
X-APPLE-STRUCTURED-LOCATION;VALUE=URI;X-ADDRESS=Living Light River Studio 407 Slusher Store Rd NE Floyd VA 24091 United States;X-APPLE-RADIUS=500;X-TITLE=407 Slusher Store Rd NE:geo:-80.371947,36.971665
END:VEVENT
BEGIN:VEVENT
DTSTART;TZID=America/New_York:20260817T180000
DTEND;TZID=America/New_York:20260817T190000
DTSTAMP:20260419T195832
CREATED:20211229T143658Z
LAST-MODIFIED:20251106T163945Z
UID:10026623-1786989600-1786993200@visitfloydva.com
SUMMARY:Gentle Moderate Yoga
DESCRIPTION:Join Shirley Ann for Gentle Moderate Yoga from 6 pm to 7 pm.
URL:https://visitfloydva.com/event/gentle-yoga-with-shirley-ann-2022-10-05/2026-08-17/
LOCATION:Living Light River Studio\, 407 Slusher Store Rd NE\, Floyd\, VA\, 24091\, United States
CATEGORIES:Wellness
GEO:36.971665;-80.371947
X-APPLE-STRUCTURED-LOCATION;VALUE=URI;X-ADDRESS=Living Light River Studio 407 Slusher Store Rd NE Floyd VA 24091 United States;X-APPLE-RADIUS=500;X-TITLE=407 Slusher Store Rd NE:geo:-80.371947,36.971665
END:VEVENT
BEGIN:VEVENT
DTSTART;TZID=America/New_York:20260818T100000
DTEND;TZID=America/New_York:20260818T110000
DTSTAMP:20260419T195832
CREATED:20191129T185700Z
LAST-MODIFIED:20251106T164120Z
UID:10026266-1787047200-1787050800@visitfloydva.com
SUMMARY:Sun Moon Flow Yoga with Shirley Ann
DESCRIPTION:Join Shirley Ann for Sun Moon Flow Yoga from 10 am to 11 pm.
URL:https://visitfloydva.com/event/sun-moon-flow-with-shirley-ann/2026-08-18/
LOCATION:Living Light River Studio\, 407 Slusher Store Rd NE\, Floyd\, VA\, 24091\, United States
CATEGORIES:Wellness
GEO:36.971665;-80.371947
X-APPLE-STRUCTURED-LOCATION;VALUE=URI;X-ADDRESS=Living Light River Studio 407 Slusher Store Rd NE Floyd VA 24091 United States;X-APPLE-RADIUS=500;X-TITLE=407 Slusher Store Rd NE:geo:-80.371947,36.971665
END:VEVENT
BEGIN:VEVENT
DTSTART;TZID=America/New_York:20260824T180000
DTEND;TZID=America/New_York:20260824T190000
DTSTAMP:20260419T195832
CREATED:20211229T143658Z
LAST-MODIFIED:20251106T163945Z
UID:10026624-1787594400-1787598000@visitfloydva.com
SUMMARY:Gentle Moderate Yoga
DESCRIPTION:Join Shirley Ann for Gentle Moderate Yoga from 6 pm to 7 pm.
URL:https://visitfloydva.com/event/gentle-yoga-with-shirley-ann-2022-10-05/2026-08-24/
LOCATION:Living Light River Studio\, 407 Slusher Store Rd NE\, Floyd\, VA\, 24091\, United States
CATEGORIES:Wellness
GEO:36.971665;-80.371947
X-APPLE-STRUCTURED-LOCATION;VALUE=URI;X-ADDRESS=Living Light River Studio 407 Slusher Store Rd NE Floyd VA 24091 United States;X-APPLE-RADIUS=500;X-TITLE=407 Slusher Store Rd NE:geo:-80.371947,36.971665
END:VEVENT
BEGIN:VEVENT
DTSTART;TZID=America/New_York:20260825T100000
DTEND;TZID=America/New_York:20260825T110000
DTSTAMP:20260419T195832
CREATED:20191129T185700Z
LAST-MODIFIED:20251106T164120Z
UID:10026267-1787652000-1787655600@visitfloydva.com
SUMMARY:Sun Moon Flow Yoga with Shirley Ann
DESCRIPTION:Join Shirley Ann for Sun Moon Flow Yoga from 10 am to 11 pm.
URL:https://visitfloydva.com/event/sun-moon-flow-with-shirley-ann/2026-08-25/
LOCATION:Living Light River Studio\, 407 Slusher Store Rd NE\, Floyd\, VA\, 24091\, United States
CATEGORIES:Wellness
GEO:36.971665;-80.371947
X-APPLE-STRUCTURED-LOCATION;VALUE=URI;X-ADDRESS=Living Light River Studio 407 Slusher Store Rd NE Floyd VA 24091 United States;X-APPLE-RADIUS=500;X-TITLE=407 Slusher Store Rd NE:geo:-80.371947,36.971665
END:VEVENT
BEGIN:VEVENT
DTSTART;TZID=America/New_York:20260831T180000
DTEND;TZID=America/New_York:20260831T190000
DTSTAMP:20260419T195832
CREATED:20211229T143658Z
LAST-MODIFIED:20251106T163945Z
UID:10026625-1788199200-1788202800@visitfloydva.com
SUMMARY:Gentle Moderate Yoga
DESCRIPTION:Join Shirley Ann for Gentle Moderate Yoga from 6 pm to 7 pm.
URL:https://visitfloydva.com/event/gentle-yoga-with-shirley-ann-2022-10-05/2026-08-31/
LOCATION:Living Light River Studio\, 407 Slusher Store Rd NE\, Floyd\, VA\, 24091\, United States
CATEGORIES:Wellness
GEO:36.971665;-80.371947
X-APPLE-STRUCTURED-LOCATION;VALUE=URI;X-ADDRESS=Living Light River Studio 407 Slusher Store Rd NE Floyd VA 24091 United States;X-APPLE-RADIUS=500;X-TITLE=407 Slusher Store Rd NE:geo:-80.371947,36.971665
END:VEVENT
BEGIN:VEVENT
DTSTART;TZID=America/New_York:20260901T100000
DTEND;TZID=America/New_York:20260901T110000
DTSTAMP:20260419T195832
CREATED:20191129T185700Z
LAST-MODIFIED:20251106T164120Z
UID:10026268-1788256800-1788260400@visitfloydva.com
SUMMARY:Sun Moon Flow Yoga with Shirley Ann
DESCRIPTION:Join Shirley Ann for Sun Moon Flow Yoga from 10 am to 11 pm.
URL:https://visitfloydva.com/event/sun-moon-flow-with-shirley-ann/2026-09-01/
LOCATION:Living Light River Studio\, 407 Slusher Store Rd NE\, Floyd\, VA\, 24091\, United States
CATEGORIES:Wellness
GEO:36.971665;-80.371947
X-APPLE-STRUCTURED-LOCATION;VALUE=URI;X-ADDRESS=Living Light River Studio 407 Slusher Store Rd NE Floyd VA 24091 United States;X-APPLE-RADIUS=500;X-TITLE=407 Slusher Store Rd NE:geo:-80.371947,36.971665
END:VEVENT
BEGIN:VEVENT
DTSTART;TZID=America/New_York:20260907T180000
DTEND;TZID=America/New_York:20260907T190000
DTSTAMP:20260419T195832
CREATED:20211229T143658Z
LAST-MODIFIED:20251106T163945Z
UID:10026626-1788804000-1788807600@visitfloydva.com
SUMMARY:Gentle Moderate Yoga
DESCRIPTION:Join Shirley Ann for Gentle Moderate Yoga from 6 pm to 7 pm.
URL:https://visitfloydva.com/event/gentle-yoga-with-shirley-ann-2022-10-05/2026-09-07/
LOCATION:Living Light River Studio\, 407 Slusher Store Rd NE\, Floyd\, VA\, 24091\, United States
CATEGORIES:Wellness
GEO:36.971665;-80.371947
X-APPLE-STRUCTURED-LOCATION;VALUE=URI;X-ADDRESS=Living Light River Studio 407 Slusher Store Rd NE Floyd VA 24091 United States;X-APPLE-RADIUS=500;X-TITLE=407 Slusher Store Rd NE:geo:-80.371947,36.971665
END:VEVENT
BEGIN:VEVENT
DTSTART;TZID=America/New_York:20260908T100000
DTEND;TZID=America/New_York:20260908T110000
DTSTAMP:20260419T195832
CREATED:20191129T185700Z
LAST-MODIFIED:20251106T164120Z
UID:10026269-1788861600-1788865200@visitfloydva.com
SUMMARY:Sun Moon Flow Yoga with Shirley Ann
DESCRIPTION:Join Shirley Ann for Sun Moon Flow Yoga from 10 am to 11 pm.
URL:https://visitfloydva.com/event/sun-moon-flow-with-shirley-ann/2026-09-08/
LOCATION:Living Light River Studio\, 407 Slusher Store Rd NE\, Floyd\, VA\, 24091\, United States
CATEGORIES:Wellness
GEO:36.971665;-80.371947
X-APPLE-STRUCTURED-LOCATION;VALUE=URI;X-ADDRESS=Living Light River Studio 407 Slusher Store Rd NE Floyd VA 24091 United States;X-APPLE-RADIUS=500;X-TITLE=407 Slusher Store Rd NE:geo:-80.371947,36.971665
END:VEVENT
BEGIN:VEVENT
DTSTART;TZID=America/New_York:20260914T180000
DTEND;TZID=America/New_York:20260914T190000
DTSTAMP:20260419T195832
CREATED:20211229T143658Z
LAST-MODIFIED:20251106T163945Z
UID:10026627-1789408800-1789412400@visitfloydva.com
SUMMARY:Gentle Moderate Yoga
DESCRIPTION:Join Shirley Ann for Gentle Moderate Yoga from 6 pm to 7 pm.
URL:https://visitfloydva.com/event/gentle-yoga-with-shirley-ann-2022-10-05/2026-09-14/
LOCATION:Living Light River Studio\, 407 Slusher Store Rd NE\, Floyd\, VA\, 24091\, United States
CATEGORIES:Wellness
GEO:36.971665;-80.371947
X-APPLE-STRUCTURED-LOCATION;VALUE=URI;X-ADDRESS=Living Light River Studio 407 Slusher Store Rd NE Floyd VA 24091 United States;X-APPLE-RADIUS=500;X-TITLE=407 Slusher Store Rd NE:geo:-80.371947,36.971665
END:VEVENT
BEGIN:VEVENT
DTSTART;TZID=America/New_York:20260915T100000
DTEND;TZID=America/New_York:20260915T110000
DTSTAMP:20260419T195832
CREATED:20191129T185700Z
LAST-MODIFIED:20251106T164120Z
UID:10026270-1789466400-1789470000@visitfloydva.com
SUMMARY:Sun Moon Flow Yoga with Shirley Ann
DESCRIPTION:Join Shirley Ann for Sun Moon Flow Yoga from 10 am to 11 pm.
URL:https://visitfloydva.com/event/sun-moon-flow-with-shirley-ann/2026-09-15/
LOCATION:Living Light River Studio\, 407 Slusher Store Rd NE\, Floyd\, VA\, 24091\, United States
CATEGORIES:Wellness
GEO:36.971665;-80.371947
X-APPLE-STRUCTURED-LOCATION;VALUE=URI;X-ADDRESS=Living Light River Studio 407 Slusher Store Rd NE Floyd VA 24091 United States;X-APPLE-RADIUS=500;X-TITLE=407 Slusher Store Rd NE:geo:-80.371947,36.971665
END:VEVENT
BEGIN:VEVENT
DTSTART;TZID=America/New_York:20260921T180000
DTEND;TZID=America/New_York:20260921T190000
DTSTAMP:20260419T195832
CREATED:20211229T143658Z
LAST-MODIFIED:20251106T163945Z
UID:10026628-1790013600-1790017200@visitfloydva.com
SUMMARY:Gentle Moderate Yoga
DESCRIPTION:Join Shirley Ann for Gentle Moderate Yoga from 6 pm to 7 pm.
URL:https://visitfloydva.com/event/gentle-yoga-with-shirley-ann-2022-10-05/2026-09-21/
LOCATION:Living Light River Studio\, 407 Slusher Store Rd NE\, Floyd\, VA\, 24091\, United States
CATEGORIES:Wellness
GEO:36.971665;-80.371947
X-APPLE-STRUCTURED-LOCATION;VALUE=URI;X-ADDRESS=Living Light River Studio 407 Slusher Store Rd NE Floyd VA 24091 United States;X-APPLE-RADIUS=500;X-TITLE=407 Slusher Store Rd NE:geo:-80.371947,36.971665
END:VEVENT
BEGIN:VEVENT
DTSTART;TZID=America/New_York:20260922T100000
DTEND;TZID=America/New_York:20260922T110000
DTSTAMP:20260419T195832
CREATED:20191129T185700Z
LAST-MODIFIED:20251106T164120Z
UID:10026271-1790071200-1790074800@visitfloydva.com
SUMMARY:Sun Moon Flow Yoga with Shirley Ann
DESCRIPTION:Join Shirley Ann for Sun Moon Flow Yoga from 10 am to 11 pm.
URL:https://visitfloydva.com/event/sun-moon-flow-with-shirley-ann/2026-09-22/
LOCATION:Living Light River Studio\, 407 Slusher Store Rd NE\, Floyd\, VA\, 24091\, United States
CATEGORIES:Wellness
GEO:36.971665;-80.371947
X-APPLE-STRUCTURED-LOCATION;VALUE=URI;X-ADDRESS=Living Light River Studio 407 Slusher Store Rd NE Floyd VA 24091 United States;X-APPLE-RADIUS=500;X-TITLE=407 Slusher Store Rd NE:geo:-80.371947,36.971665
END:VEVENT
BEGIN:VEVENT
DTSTART;TZID=America/New_York:20260928T180000
DTEND;TZID=America/New_York:20260928T190000
DTSTAMP:20260419T195832
CREATED:20211229T143658Z
LAST-MODIFIED:20251106T163945Z
UID:10026629-1790618400-1790622000@visitfloydva.com
SUMMARY:Gentle Moderate Yoga
DESCRIPTION:Join Shirley Ann for Gentle Moderate Yoga from 6 pm to 7 pm.
URL:https://visitfloydva.com/event/gentle-yoga-with-shirley-ann-2022-10-05/2026-09-28/
LOCATION:Living Light River Studio\, 407 Slusher Store Rd NE\, Floyd\, VA\, 24091\, United States
CATEGORIES:Wellness
GEO:36.971665;-80.371947
X-APPLE-STRUCTURED-LOCATION;VALUE=URI;X-ADDRESS=Living Light River Studio 407 Slusher Store Rd NE Floyd VA 24091 United States;X-APPLE-RADIUS=500;X-TITLE=407 Slusher Store Rd NE:geo:-80.371947,36.971665
END:VEVENT
BEGIN:VEVENT
DTSTART;TZID=America/New_York:20260929T100000
DTEND;TZID=America/New_York:20260929T110000
DTSTAMP:20260419T195832
CREATED:20191129T185700Z
LAST-MODIFIED:20251106T164120Z
UID:10026272-1790676000-1790679600@visitfloydva.com
SUMMARY:Sun Moon Flow Yoga with Shirley Ann
DESCRIPTION:Join Shirley Ann for Sun Moon Flow Yoga from 10 am to 11 pm.
URL:https://visitfloydva.com/event/sun-moon-flow-with-shirley-ann/2026-09-29/
LOCATION:Living Light River Studio\, 407 Slusher Store Rd NE\, Floyd\, VA\, 24091\, United States
CATEGORIES:Wellness
GEO:36.971665;-80.371947
X-APPLE-STRUCTURED-LOCATION;VALUE=URI;X-ADDRESS=Living Light River Studio 407 Slusher Store Rd NE Floyd VA 24091 United States;X-APPLE-RADIUS=500;X-TITLE=407 Slusher Store Rd NE:geo:-80.371947,36.971665
END:VEVENT
BEGIN:VEVENT
DTSTART;TZID=America/New_York:20261005T180000
DTEND;TZID=America/New_York:20261005T190000
DTSTAMP:20260419T195832
CREATED:20211229T143658Z
LAST-MODIFIED:20251106T163945Z
UID:10026630-1791223200-1791226800@visitfloydva.com
SUMMARY:Gentle Moderate Yoga
DESCRIPTION:Join Shirley Ann for Gentle Moderate Yoga from 6 pm to 7 pm.
URL:https://visitfloydva.com/event/gentle-yoga-with-shirley-ann-2022-10-05/2026-10-05/
LOCATION:Living Light River Studio\, 407 Slusher Store Rd NE\, Floyd\, VA\, 24091\, United States
CATEGORIES:Wellness
GEO:36.971665;-80.371947
X-APPLE-STRUCTURED-LOCATION;VALUE=URI;X-ADDRESS=Living Light River Studio 407 Slusher Store Rd NE Floyd VA 24091 United States;X-APPLE-RADIUS=500;X-TITLE=407 Slusher Store Rd NE:geo:-80.371947,36.971665
END:VEVENT
BEGIN:VEVENT
DTSTART;TZID=America/New_York:20261006T100000
DTEND;TZID=America/New_York:20261006T110000
DTSTAMP:20260419T195832
CREATED:20191129T185700Z
LAST-MODIFIED:20251106T164120Z
UID:10026273-1791280800-1791284400@visitfloydva.com
SUMMARY:Sun Moon Flow Yoga with Shirley Ann
DESCRIPTION:Join Shirley Ann for Sun Moon Flow Yoga from 10 am to 11 pm.
URL:https://visitfloydva.com/event/sun-moon-flow-with-shirley-ann/2026-10-06/
LOCATION:Living Light River Studio\, 407 Slusher Store Rd NE\, Floyd\, VA\, 24091\, United States
CATEGORIES:Wellness
GEO:36.971665;-80.371947
X-APPLE-STRUCTURED-LOCATION;VALUE=URI;X-ADDRESS=Living Light River Studio 407 Slusher Store Rd NE Floyd VA 24091 United States;X-APPLE-RADIUS=500;X-TITLE=407 Slusher Store Rd NE:geo:-80.371947,36.971665
END:VEVENT
BEGIN:VEVENT
DTSTART;TZID=America/New_York:20261012T180000
DTEND;TZID=America/New_York:20261012T190000
DTSTAMP:20260419T195832
CREATED:20211229T143658Z
LAST-MODIFIED:20251106T163945Z
UID:10026631-1791828000-1791831600@visitfloydva.com
SUMMARY:Gentle Moderate Yoga
DESCRIPTION:Join Shirley Ann for Gentle Moderate Yoga from 6 pm to 7 pm.
URL:https://visitfloydva.com/event/gentle-yoga-with-shirley-ann-2022-10-05/2026-10-12/
LOCATION:Living Light River Studio\, 407 Slusher Store Rd NE\, Floyd\, VA\, 24091\, United States
CATEGORIES:Wellness
GEO:36.971665;-80.371947
X-APPLE-STRUCTURED-LOCATION;VALUE=URI;X-ADDRESS=Living Light River Studio 407 Slusher Store Rd NE Floyd VA 24091 United States;X-APPLE-RADIUS=500;X-TITLE=407 Slusher Store Rd NE:geo:-80.371947,36.971665
END:VEVENT
BEGIN:VEVENT
DTSTART;TZID=America/New_York:20261013T100000
DTEND;TZID=America/New_York:20261013T110000
DTSTAMP:20260419T195832
CREATED:20191129T185700Z
LAST-MODIFIED:20251106T164120Z
UID:10026274-1791885600-1791889200@visitfloydva.com
SUMMARY:Sun Moon Flow Yoga with Shirley Ann
DESCRIPTION:Join Shirley Ann for Sun Moon Flow Yoga from 10 am to 11 pm.
URL:https://visitfloydva.com/event/sun-moon-flow-with-shirley-ann/2026-10-13/
LOCATION:Living Light River Studio\, 407 Slusher Store Rd NE\, Floyd\, VA\, 24091\, United States
CATEGORIES:Wellness
GEO:36.971665;-80.371947
X-APPLE-STRUCTURED-LOCATION;VALUE=URI;X-ADDRESS=Living Light River Studio 407 Slusher Store Rd NE Floyd VA 24091 United States;X-APPLE-RADIUS=500;X-TITLE=407 Slusher Store Rd NE:geo:-80.371947,36.971665
END:VEVENT
BEGIN:VEVENT
DTSTART;TZID=America/New_York:20261019T180000
DTEND;TZID=America/New_York:20261019T190000
DTSTAMP:20260419T195832
CREATED:20211229T143658Z
LAST-MODIFIED:20251106T163945Z
UID:10026632-1792432800-1792436400@visitfloydva.com
SUMMARY:Gentle Moderate Yoga
DESCRIPTION:Join Shirley Ann for Gentle Moderate Yoga from 6 pm to 7 pm.
URL:https://visitfloydva.com/event/gentle-yoga-with-shirley-ann-2022-10-05/2026-10-19/
LOCATION:Living Light River Studio\, 407 Slusher Store Rd NE\, Floyd\, VA\, 24091\, United States
CATEGORIES:Wellness
GEO:36.971665;-80.371947
X-APPLE-STRUCTURED-LOCATION;VALUE=URI;X-ADDRESS=Living Light River Studio 407 Slusher Store Rd NE Floyd VA 24091 United States;X-APPLE-RADIUS=500;X-TITLE=407 Slusher Store Rd NE:geo:-80.371947,36.971665
END:VEVENT
BEGIN:VEVENT
DTSTART;TZID=America/New_York:20261020T100000
DTEND;TZID=America/New_York:20261020T110000
DTSTAMP:20260419T195832
CREATED:20191129T185700Z
LAST-MODIFIED:20251106T164120Z
UID:10026275-1792490400-1792494000@visitfloydva.com
SUMMARY:Sun Moon Flow Yoga with Shirley Ann
DESCRIPTION:Join Shirley Ann for Sun Moon Flow Yoga from 10 am to 11 pm.
URL:https://visitfloydva.com/event/sun-moon-flow-with-shirley-ann/2026-10-20/
LOCATION:Living Light River Studio\, 407 Slusher Store Rd NE\, Floyd\, VA\, 24091\, United States
CATEGORIES:Wellness
GEO:36.971665;-80.371947
X-APPLE-STRUCTURED-LOCATION;VALUE=URI;X-ADDRESS=Living Light River Studio 407 Slusher Store Rd NE Floyd VA 24091 United States;X-APPLE-RADIUS=500;X-TITLE=407 Slusher Store Rd NE:geo:-80.371947,36.971665
END:VEVENT
BEGIN:VEVENT
DTSTART;TZID=America/New_York:20261026T180000
DTEND;TZID=America/New_York:20261026T190000
DTSTAMP:20260419T195832
CREATED:20211229T143658Z
LAST-MODIFIED:20251106T163945Z
UID:10026633-1793037600-1793041200@visitfloydva.com
SUMMARY:Gentle Moderate Yoga
DESCRIPTION:Join Shirley Ann for Gentle Moderate Yoga from 6 pm to 7 pm.
URL:https://visitfloydva.com/event/gentle-yoga-with-shirley-ann-2022-10-05/2026-10-26/
LOCATION:Living Light River Studio\, 407 Slusher Store Rd NE\, Floyd\, VA\, 24091\, United States
CATEGORIES:Wellness
GEO:36.971665;-80.371947
X-APPLE-STRUCTURED-LOCATION;VALUE=URI;X-ADDRESS=Living Light River Studio 407 Slusher Store Rd NE Floyd VA 24091 United States;X-APPLE-RADIUS=500;X-TITLE=407 Slusher Store Rd NE:geo:-80.371947,36.971665
END:VEVENT
END:VCALENDAR