BEGIN:VCALENDAR
VERSION:2.0
PRODID:-//Visit Floyd Virginia - ECPv6.15.20//NONSGML v1.0//EN
CALSCALE:GREGORIAN
METHOD:PUBLISH
X-ORIGINAL-URL:https://visitfloydva.com
X-WR-CALDESC:Events for Visit Floyd Virginia
REFRESH-INTERVAL;VALUE=DURATION:PT1H
X-Robots-Tag:noindex
X-PUBLISHED-TTL:PT1H
BEGIN:VTIMEZONE
TZID:America/New_York
BEGIN:DAYLIGHT
TZOFFSETFROM:-0500
TZOFFSETTO:-0400
TZNAME:EDT
DTSTART:20250309T070000
END:DAYLIGHT
BEGIN:STANDARD
TZOFFSETFROM:-0400
TZOFFSETTO:-0500
TZNAME:EST
DTSTART:20251102T060000
END:STANDARD
BEGIN:DAYLIGHT
TZOFFSETFROM:-0500
TZOFFSETTO:-0400
TZNAME:EDT
DTSTART:20260308T070000
END:DAYLIGHT
BEGIN:STANDARD
TZOFFSETFROM:-0400
TZOFFSETTO:-0500
TZNAME:EST
DTSTART:20261101T060000
END:STANDARD
BEGIN:DAYLIGHT
TZOFFSETFROM:-0500
TZOFFSETTO:-0400
TZNAME:EDT
DTSTART:20270314T070000
END:DAYLIGHT
BEGIN:STANDARD
TZOFFSETFROM:-0400
TZOFFSETTO:-0500
TZNAME:EST
DTSTART:20271107T060000
END:STANDARD
END:VTIMEZONE
BEGIN:VEVENT
DTSTART;TZID=America/New_York:20260423T173000
DTEND;TZID=America/New_York:20260423T193000
DTSTAMP:20260419T163301
CREATED:20260410T154433Z
LAST-MODIFIED:20260410T154433Z
UID:10032432-1776965400-1776972600@visitfloydva.com
SUMMARY:Headshot Happy Hour
DESCRIPTION:This is a focused\, professional headshot event designed to make updating your image simple\, efficient\, and actually enjoyable. \nEach session is quick and fully guided\, using a high-end lighting setup to create clean\, modern\, and professional portraits suitable for LinkedIn\, business websites\, and marketing use. \nBut beyond the headshots themselves\, the evening is intentionally designed to feel relaxed and social. \nThere will be live acoustic music on the front porch\, light refreshments\, and space to connect with other local professionals. It’s an opportunity not only to update your image\, but to step out of the day-to-day and engage with others in the Floyd business community.
URL:https://visitfloydva.com/event/headshot-happy-hour/
LOCATION:Kelly Phillips Photography
CATEGORIES:Entertainment
ATTACH;FMTTYPE=image/jpeg:https://visitfloydva.com/wp-content/uploads/2026/04/Kelly-Phillips-black-low-res-copy.jpg
ORGANIZER;CN="Kelly Phillips Photography":MAILTO:info@kellyphillipsphoto.com
END:VEVENT
END:VCALENDAR