BEGIN:VCALENDAR
VERSION:2.0
PRODID:-//Visit Floyd Virginia - ECPv6.15.20//NONSGML v1.0//EN
CALSCALE:GREGORIAN
METHOD:PUBLISH
X-ORIGINAL-URL:https://visitfloydva.com
X-WR-CALDESC:Events for Visit Floyd Virginia
REFRESH-INTERVAL;VALUE=DURATION:PT1H
X-Robots-Tag:noindex
X-PUBLISHED-TTL:PT1H
BEGIN:VTIMEZONE
TZID:America/New_York
BEGIN:DAYLIGHT
TZOFFSETFROM:-0500
TZOFFSETTO:-0400
TZNAME:EDT
DTSTART:20230312T070000
END:DAYLIGHT
BEGIN:STANDARD
TZOFFSETFROM:-0400
TZOFFSETTO:-0500
TZNAME:EST
DTSTART:20231105T060000
END:STANDARD
BEGIN:DAYLIGHT
TZOFFSETFROM:-0500
TZOFFSETTO:-0400
TZNAME:EDT
DTSTART:20240310T070000
END:DAYLIGHT
BEGIN:STANDARD
TZOFFSETFROM:-0400
TZOFFSETTO:-0500
TZNAME:EST
DTSTART:20241103T060000
END:STANDARD
BEGIN:DAYLIGHT
TZOFFSETFROM:-0500
TZOFFSETTO:-0400
TZNAME:EDT
DTSTART:20250309T070000
END:DAYLIGHT
BEGIN:STANDARD
TZOFFSETFROM:-0400
TZOFFSETTO:-0500
TZNAME:EST
DTSTART:20251102T060000
END:STANDARD
BEGIN:DAYLIGHT
TZOFFSETFROM:-0500
TZOFFSETTO:-0400
TZNAME:EDT
DTSTART:20260308T070000
END:DAYLIGHT
BEGIN:STANDARD
TZOFFSETFROM:-0400
TZOFFSETTO:-0500
TZNAME:EST
DTSTART:20261101T060000
END:STANDARD
END:VTIMEZONE
BEGIN:VEVENT
DTSTART;TZID=America/New_York:20251207T183000
DTEND;TZID=America/New_York:20251207T200000
DTSTAMP:20260420T060131
CREATED:20251204T141700Z
LAST-MODIFIED:20251204T141700Z
UID:10030902-1765132200-1765137600@visitfloydva.com
SUMMARY:Christmas in Floyd
DESCRIPTION:The event will include our annual children’s nativity\, Christmas carols\, and music from Carson Peters & Iron Mountain\, returning for a second year. Tickets are free and they go fast! You can reserve your tickets here.
URL:https://visitfloydva.com/event/christmas-in-floyd-2/
LOCATION:Floyd United Methodist Church\, 417 East Main Street\, Floyd\, VA\, 24091\, United States
GEO:36.911677;-80.315006
X-APPLE-STRUCTURED-LOCATION;VALUE=URI;X-ADDRESS=Floyd United Methodist Church 417 East Main Street Floyd VA 24091 United States;X-APPLE-RADIUS=500;X-TITLE=417 East Main Street:geo:-80.315006,36.911677
END:VEVENT
BEGIN:VEVENT
DTSTART;TZID=America/New_York:20251031T170000
DTEND;TZID=America/New_York:20251031T190000
DTSTAMP:20260420T060131
CREATED:20251029T144907Z
LAST-MODIFIED:20251029T144907Z
UID:10030767-1761930000-1761937200@visitfloydva.com
SUMMARY:Trunk or Treat @ Floyd United Methodist Church
DESCRIPTION:Stop by for some Halloween treats!
URL:https://visitfloydva.com/event/trunk-or-treat-floyd-united-methodist-church/
LOCATION:Floyd United Methodist Church\, 417 East Main Street\, Floyd\, VA\, 24091\, United States
GEO:36.911677;-80.315006
X-APPLE-STRUCTURED-LOCATION;VALUE=URI;X-ADDRESS=Floyd United Methodist Church 417 East Main Street Floyd VA 24091 United States;X-APPLE-RADIUS=500;X-TITLE=417 East Main Street:geo:-80.315006,36.911677
END:VEVENT
BEGIN:VEVENT
DTSTART;TZID=America/New_York:20251011T110000
DTEND;TZID=America/New_York:20251011T150000
DTSTAMP:20260420T060131
CREATED:20250924T150651Z
LAST-MODIFIED:20250924T150651Z
UID:10030424-1760180400-1760194800@visitfloydva.com
SUMMARY:Fall Festival
DESCRIPTION:Our annual Fall Festival will be on Saturday\, October 11\, from 11 a.m.–3 p.m. The day will include live music from local musicians\, as well as local artists and vendors. There will also be delicious free food\, a bounce house for kids\, and so much more. If you are a local artist/vendor and would like to set up at the event (at no cost!)\, please contact the church.
URL:https://visitfloydva.com/event/fall-festival/
LOCATION:Floyd United Methodist Church\, 417 East Main Street\, Floyd\, VA\, 24091\, United States
GEO:36.911677;-80.315006
X-APPLE-STRUCTURED-LOCATION;VALUE=URI;X-ADDRESS=Floyd United Methodist Church 417 East Main Street Floyd VA 24091 United States;X-APPLE-RADIUS=500;X-TITLE=417 East Main Street:geo:-80.315006,36.911677
END:VEVENT
BEGIN:VEVENT
DTSTART;TZID=America/New_York:20250816T110000
DTEND;TZID=America/New_York:20250816T110000
DTSTAMP:20260420T060131
CREATED:20250813T184743Z
LAST-MODIFIED:20250813T184743Z
UID:10030237-1755342000-1755342000@visitfloydva.com
SUMMARY:Floyd Music School Summer Recital
DESCRIPTION:We can’t wait for the next recital! We will be celebrating the beginning of our 18th year\, here in Floyd County. We sure have seen (and heard!) a lot of kiddos learn to read music\, learn to jam\, learn to play in bands and orchestras and church—we are so proud of all that has been accomplished in well over a decade.\nPlease join us on Saturday\, August 16 for our summer recital! Potluck at noon!
URL:https://visitfloydva.com/event/floyd-music-school-summer-recital/
LOCATION:Floyd United Methodist Church\, 417 East Main Street\, Floyd\, VA\, 24091\, United States
GEO:36.911677;-80.315006
X-APPLE-STRUCTURED-LOCATION;VALUE=URI;X-ADDRESS=Floyd United Methodist Church 417 East Main Street Floyd VA 24091 United States;X-APPLE-RADIUS=500;X-TITLE=417 East Main Street:geo:-80.315006,36.911677
END:VEVENT
BEGIN:VEVENT
DTSTART;TZID=America/New_York:20241201T183000
DTEND;TZID=America/New_York:20241201T200000
DTSTAMP:20260420T060131
CREATED:20241021T132401Z
LAST-MODIFIED:20241021T132401Z
UID:10029785-1733077800-1733083200@visitfloydva.com
SUMMARY:Christmas in Floyd
DESCRIPTION:Christmas in Floyd is a free Christmas celebration for the whole community. This year will feature music from Carson Peters & Iron Mountain\, as well as our annual children’s nativity pageant.
URL:https://visitfloydva.com/event/christmas-in-floyd/
LOCATION:Floyd United Methodist Church\, 417 East Main Street\, Floyd\, VA\, 24091\, United States
CATEGORIES:Community,Family,Holiday,Music
ATTACH;FMTTYPE=image/jpeg:https://visitfloydva.com/wp-content/uploads/2024/10/Poster.jpg
GEO:36.911677;-80.315006
X-APPLE-STRUCTURED-LOCATION;VALUE=URI;X-ADDRESS=Floyd United Methodist Church 417 East Main Street Floyd VA 24091 United States;X-APPLE-RADIUS=500;X-TITLE=417 East Main Street:geo:-80.315006,36.911677
END:VEVENT
BEGIN:VEVENT
DTSTART;TZID=America/New_York:20241012T110000
DTEND;TZID=America/New_York:20241012T150000
DTSTAMP:20260420T060132
CREATED:20241009T184313Z
LAST-MODIFIED:20241009T184313Z
UID:10027923-1728730800-1728745200@visitfloydva.com
SUMMARY:Fall Festival
DESCRIPTION:Our 2024 Fall Festival will be on Saturday\, October 12 from 11 a.m.–3 p.m. This is a day that we give back to our community. We’ll have free food\, a bounce house and actives for kids\, vendors\, and live music. We can’t wait! If you know of a vendor that would like to set up\, please contact the church. Vendors can set up for free! | More Church News – https://mailchi.mp/floydumc/2024-fall-festival
URL:https://visitfloydva.com/event/fall-festival-2/
LOCATION:Floyd United Methodist Church\, 417 East Main Street\, Floyd\, VA\, 24091\, United States
GEO:36.911677;-80.315006
X-APPLE-STRUCTURED-LOCATION;VALUE=URI;X-ADDRESS=Floyd United Methodist Church 417 East Main Street Floyd VA 24091 United States;X-APPLE-RADIUS=500;X-TITLE=417 East Main Street:geo:-80.315006,36.911677
END:VEVENT
BEGIN:VEVENT
DTSTART;TZID=America/New_York:20240818T160000
DTEND;TZID=America/New_York:20240818T160000
DTSTAMP:20260420T060132
CREATED:20240815T180528Z
LAST-MODIFIED:20240815T180528Z
UID:10027827-1723996800-1723996800@visitfloydva.com
SUMMARY:Mark Schatz & Bryan McDowell
DESCRIPTION:Mark & Bryan’s new CD\, Grit & Polish\, went to #1 on the DJ Folk chart in June 2021. These two versatile multi-instrumentalists deliver a high energy show full of fiddle tunes\, songs\, clogging & hambone.Pack all of the roots and branches of contemporary string band music into one dynamic duo and you have Mark Schatz & Bryan McDowell. With finesse\, kinetic synergy\, and humor they deliver Fiddlin’ Arthur Smith\, Bob Dylan\, and everything in between.Fiddle and banjo blazing\, guitar and mandolin crooning\, Schatz & McDowell bust loose with a contemporary string band extravaganza. RSVP to our email or message us here for reserves
URL:https://visitfloydva.com/event/mark-schatz-bryan-mcdowell/
LOCATION:Floyd United Methodist Church\, 417 East Main Street\, Floyd\, VA\, 24091\, United States
GEO:36.911677;-80.315006
X-APPLE-STRUCTURED-LOCATION;VALUE=URI;X-ADDRESS=Floyd United Methodist Church 417 East Main Street Floyd VA 24091 United States;X-APPLE-RADIUS=500;X-TITLE=417 East Main Street:geo:-80.315006,36.911677
END:VEVENT
END:VCALENDAR