BEGIN:VCALENDAR
VERSION:2.0
PRODID:-//Visit Floyd Virginia - ECPv6.15.20//NONSGML v1.0//EN
CALSCALE:GREGORIAN
METHOD:PUBLISH
X-WR-CALNAME:Visit Floyd Virginia
X-ORIGINAL-URL:https://visitfloydva.com
X-WR-CALDESC:Events for Visit Floyd Virginia
REFRESH-INTERVAL;VALUE=DURATION:PT1H
X-Robots-Tag:noindex
X-PUBLISHED-TTL:PT1H
BEGIN:VTIMEZONE
TZID:America/New_York
BEGIN:DAYLIGHT
TZOFFSETFROM:-0500
TZOFFSETTO:-0400
TZNAME:EDT
DTSTART:20230312T070000
END:DAYLIGHT
BEGIN:STANDARD
TZOFFSETFROM:-0400
TZOFFSETTO:-0500
TZNAME:EST
DTSTART:20231105T060000
END:STANDARD
BEGIN:DAYLIGHT
TZOFFSETFROM:-0500
TZOFFSETTO:-0400
TZNAME:EDT
DTSTART:20240310T070000
END:DAYLIGHT
BEGIN:STANDARD
TZOFFSETFROM:-0400
TZOFFSETTO:-0500
TZNAME:EST
DTSTART:20241103T060000
END:STANDARD
BEGIN:DAYLIGHT
TZOFFSETFROM:-0500
TZOFFSETTO:-0400
TZNAME:EDT
DTSTART:20250309T070000
END:DAYLIGHT
BEGIN:STANDARD
TZOFFSETFROM:-0400
TZOFFSETTO:-0500
TZNAME:EST
DTSTART:20251102T060000
END:STANDARD
END:VTIMEZONE
BEGIN:VEVENT
DTSTART;TZID=America/New_York:20240914T100000
DTEND;TZID=America/New_York:20240914T140000
DTSTAMP:20260420T074753
CREATED:20240829T214432Z
LAST-MODIFIED:20240829T214432Z
UID:10029524-1726308000-1726322400@visitfloydva.com
SUMMARY:2nd Annual Cornhole Tournament
DESCRIPTION:Join us for the 2nd Annual Cornhole Tournament benefiting and sponsored by Floyd County Young Life.\nGet some friends together and come as a team or just show up and teams will be formed.\nWe will be meeting at the Outdoor Pavilion/Playground area of Floyd Elementary. Rain location: FCHS (old gym)\nFood (Pizza) and drinks will be available for purchase.\nCost: $30/team
URL:https://visitfloydva.com/event/2nd-annual-cornhole-tournament/
LOCATION:Floyd Elementary School\, 531 Oak Hill Dr SW\, Floyd\, VA\, 24091\, United States
CATEGORIES:Family,Fundraising,Games,Outdoor Recreation
ORGANIZER;CN="Young Life":MAILTO:Ellieroe@yahoo.com
END:VEVENT
END:VCALENDAR