BEGIN:VCALENDAR
VERSION:2.0
PRODID:-//Visit Floyd Virginia - ECPv6.15.20//NONSGML v1.0//EN
CALSCALE:GREGORIAN
METHOD:PUBLISH
X-WR-CALNAME:Visit Floyd Virginia
X-ORIGINAL-URL:https://visitfloydva.com
X-WR-CALDESC:Events for Visit Floyd Virginia
REFRESH-INTERVAL;VALUE=DURATION:PT1H
X-Robots-Tag:noindex
X-PUBLISHED-TTL:PT1H
BEGIN:VTIMEZONE
TZID:America/New_York
BEGIN:DAYLIGHT
TZOFFSETFROM:-0500
TZOFFSETTO:-0400
TZNAME:EDT
DTSTART:20240310T070000
END:DAYLIGHT
BEGIN:STANDARD
TZOFFSETFROM:-0400
TZOFFSETTO:-0500
TZNAME:EST
DTSTART:20241103T060000
END:STANDARD
BEGIN:DAYLIGHT
TZOFFSETFROM:-0500
TZOFFSETTO:-0400
TZNAME:EDT
DTSTART:20250309T070000
END:DAYLIGHT
BEGIN:STANDARD
TZOFFSETFROM:-0400
TZOFFSETTO:-0500
TZNAME:EST
DTSTART:20251102T060000
END:STANDARD
BEGIN:DAYLIGHT
TZOFFSETFROM:-0500
TZOFFSETTO:-0400
TZNAME:EDT
DTSTART:20260308T070000
END:DAYLIGHT
BEGIN:STANDARD
TZOFFSETFROM:-0400
TZOFFSETTO:-0500
TZNAME:EST
DTSTART:20261101T060000
END:STANDARD
END:VTIMEZONE
BEGIN:VTIMEZONE
TZID:America/Noronha
BEGIN:STANDARD
TZOFFSETFROM:-0200
TZOFFSETTO:-0200
TZNAME:-02
DTSTART:20230101T000000
END:STANDARD
END:VTIMEZONE
BEGIN:VEVENT
DTSTART;TZID=America/New_York:20251207T110000
DTEND;TZID=America/New_York:20251207T170000
DTSTAMP:20260420T012813
CREATED:20251120T152643Z
LAST-MODIFIED:20251120T152643Z
UID:10030861-1765105200-1765126800@visitfloydva.com
SUMMARY:Earth Dance Holiday Celebration
DESCRIPTION:Join us at Earth Dance Jewelry & Gems for a Holiday Celebration – featuring holiday specials and give aways – including $50 gift certificates. Earth Dance features gem jewelry by Pat Sharkey\, gem jewelry and art from around the earth\, and gem/mineral specimens for all level of collectors.\nDecember 5-7\, 2025. Friday 10-7; Saturday 10-6\, Sunday 11-5\n203 S. Locust St. Floyd VA – downtown Floyd in The Station building (across from the Floyd Country Store)\nMore info:\n540-230-7955 (can text)\nEarthdancejewelrygems@gmail.com
URL:https://visitfloydva.com/event/earth-dance-holiday-celebration/2025-12-07/
LOCATION:Earth Dance Jewelry & Gems\, 203 South Locust St. St. L in The Station\, Floyd\, VA\, 24091\, United States
CATEGORIES:Arts & Handcraft,Holiday,Shopping
ATTACH;FMTTYPE=image/png:https://visitfloydva.com/wp-content/uploads/2025/11/2025-Facebook-cover-HOLIDAY-Celebration-12-5-7-.png
END:VEVENT
BEGIN:VEVENT
DTSTART;TZID=America/New_York:20251206T100000
DTEND;TZID=America/New_York:20251206T180000
DTSTAMP:20260420T012813
CREATED:20251120T152643Z
LAST-MODIFIED:20251120T152643Z
UID:10030860-1765015200-1765044000@visitfloydva.com
SUMMARY:Earth Dance Holiday Celebration
DESCRIPTION:Join us at Earth Dance Jewelry & Gems for a Holiday Celebration – featuring holiday specials and give aways – including $50 gift certificates. Earth Dance features gem jewelry by Pat Sharkey\, gem jewelry and art from around the earth\, and gem/mineral specimens for all level of collectors.\nDecember 5-7\, 2025. Friday 10-7; Saturday 10-6\, Sunday 11-5\n203 S. Locust St. Floyd VA – downtown Floyd in The Station building (across from the Floyd Country Store)\nMore info:\n540-230-7955 (can text)\nEarthdancejewelrygems@gmail.com
URL:https://visitfloydva.com/event/earth-dance-holiday-celebration/2025-12-06/
LOCATION:Earth Dance Jewelry & Gems\, 203 South Locust St. St. L in The Station\, Floyd\, VA\, 24091\, United States
CATEGORIES:Arts & Handcraft,Holiday,Shopping
ATTACH;FMTTYPE=image/png:https://visitfloydva.com/wp-content/uploads/2025/11/2025-Facebook-cover-HOLIDAY-Celebration-12-5-7-.png
END:VEVENT
BEGIN:VEVENT
DTSTART;TZID=America/New_York:20251205T100000
DTEND;TZID=America/New_York:20251205T190000
DTSTAMP:20260420T012813
CREATED:20251120T152643Z
LAST-MODIFIED:20251120T152643Z
UID:10030859-1764928800-1764961200@visitfloydva.com
SUMMARY:Earth Dance Holiday Celebration
DESCRIPTION:Join us at Earth Dance Jewelry & Gems for a Holiday Celebration – featuring holiday specials and give aways – including $50 gift certificates. Earth Dance features gem jewelry by Pat Sharkey\, gem jewelry and art from around the earth\, and gem/mineral specimens for all level of collectors.\nDecember 5-7\, 2025. Friday 10-7; Saturday 10-6\, Sunday 11-5\n203 S. Locust St. Floyd VA – downtown Floyd in The Station building (across from the Floyd Country Store)\nMore info:\n540-230-7955 (can text)\nEarthdancejewelrygems@gmail.com
URL:https://visitfloydva.com/event/earth-dance-holiday-celebration/2025-12-05/
LOCATION:Earth Dance Jewelry & Gems\, 203 South Locust St. St. L in The Station\, Floyd\, VA\, 24091\, United States
CATEGORIES:Arts & Handcraft,Holiday,Shopping
ATTACH;FMTTYPE=image/png:https://visitfloydva.com/wp-content/uploads/2025/11/2025-Facebook-cover-HOLIDAY-Celebration-12-5-7-.png
END:VEVENT
BEGIN:VEVENT
DTSTART;TZID=America/Noronha:20241208T110000
DTEND;TZID=America/Noronha:20241208T170000
DTSTAMP:20260420T012813
CREATED:20241120T151305Z
LAST-MODIFIED:20241120T151305Z
UID:10028041-1733655600-1733677200@visitfloydva.com
SUMMARY:Earth Dance Holiday Celebration
DESCRIPTION:Come join us at Earth Dance Jewelry & Gems’ Holiday Celebration\n— with daily door prizes (Including $50 Gift Certificates)\, Specials & Refreshments.\nFriday Dec 6\, 10-7; Sat. Dec 7. 10-6 and Sun Dec 8\, 11-5. \nEarth Dance features unique hand-crafted gem jewelry\, gem art and gem/rock specimens. \nExtended holiday hours: \nOPEN DAILY – Mon. Nov23 through Dec 31\n(Closed Thksgiving&Christmas Days) \n540-230-7955\nearthdancejewelrygems@gmail.com
URL:https://visitfloydva.com/event/earth-dance-holiday-celebration-3/2024-12-08/
LOCATION:Earth Dance Jewelry & Gems\, 203 South Locust St. St. L in The Station\, Floyd\, VA\, 24091\, United States
CATEGORIES:Arts & Handcraft,Holiday
ATTACH;FMTTYPE=image/png:https://visitfloydva.com/wp-content/uploads/2024/11/2024-dec-Holiday-Celebration-Facebook-cover-851-x-315-.png
END:VEVENT
BEGIN:VEVENT
DTSTART;TZID=America/Noronha:20241207T100000
DTEND;TZID=America/Noronha:20241207T180000
DTSTAMP:20260420T012813
CREATED:20241120T151305Z
LAST-MODIFIED:20241120T151305Z
UID:10028040-1733565600-1733594400@visitfloydva.com
SUMMARY:Earth Dance Holiday Celebration
DESCRIPTION:Come join us at Earth Dance Jewelry & Gems’ Holiday Celebration\n— with daily door prizes (Including $50 Gift Certificates)\, Specials & Refreshments.\nFriday Dec 6\, 10-7; Sat. Dec 7. 10-6 and Sun Dec 8\, 11-5. \nEarth Dance features unique hand-crafted gem jewelry\, gem art and gem/rock specimens. \nExtended holiday hours: \nOPEN DAILY – Mon. Nov23 through Dec 31\n(Closed Thksgiving&Christmas Days) \n540-230-7955\nearthdancejewelrygems@gmail.com
URL:https://visitfloydva.com/event/earth-dance-holiday-celebration-3/2024-12-07/
LOCATION:Earth Dance Jewelry & Gems\, 203 South Locust St. St. L in The Station\, Floyd\, VA\, 24091\, United States
CATEGORIES:Arts & Handcraft,Holiday
ATTACH;FMTTYPE=image/png:https://visitfloydva.com/wp-content/uploads/2024/11/2024-dec-Holiday-Celebration-Facebook-cover-851-x-315-.png
END:VEVENT
BEGIN:VEVENT
DTSTART;TZID=America/Noronha:20241206T100000
DTEND;TZID=America/Noronha:20241206T190000
DTSTAMP:20260420T012813
CREATED:20241120T151305Z
LAST-MODIFIED:20241120T151305Z
UID:10028039-1733479200-1733511600@visitfloydva.com
SUMMARY:Earth Dance Holiday Celebration
DESCRIPTION:Come join us at Earth Dance Jewelry & Gems’ Holiday Celebration\n— with daily door prizes (Including $50 Gift Certificates)\, Specials & Refreshments.\nFriday Dec 6\, 10-7; Sat. Dec 7. 10-6 and Sun Dec 8\, 11-5. \nEarth Dance features unique hand-crafted gem jewelry\, gem art and gem/rock specimens. \nExtended holiday hours: \nOPEN DAILY – Mon. Nov23 through Dec 31\n(Closed Thksgiving&Christmas Days) \n540-230-7955\nearthdancejewelrygems@gmail.com
URL:https://visitfloydva.com/event/earth-dance-holiday-celebration-3/2024-12-06/
LOCATION:Earth Dance Jewelry & Gems\, 203 South Locust St. St. L in The Station\, Floyd\, VA\, 24091\, United States
CATEGORIES:Arts & Handcraft,Holiday
ATTACH;FMTTYPE=image/png:https://visitfloydva.com/wp-content/uploads/2024/11/2024-dec-Holiday-Celebration-Facebook-cover-851-x-315-.png
END:VEVENT
END:VCALENDAR