BEGIN:VCALENDAR
VERSION:2.0
PRODID:-//Visit Floyd Virginia - ECPv6.15.20//NONSGML v1.0//EN
CALSCALE:GREGORIAN
METHOD:PUBLISH
X-ORIGINAL-URL:https://visitfloydva.com
X-WR-CALDESC:Events for Visit Floyd Virginia
REFRESH-INTERVAL;VALUE=DURATION:PT1H
X-Robots-Tag:noindex
X-PUBLISHED-TTL:PT1H
BEGIN:VTIMEZONE
TZID:America/New_York
BEGIN:DAYLIGHT
TZOFFSETFROM:-0500
TZOFFSETTO:-0400
TZNAME:EDT
DTSTART:20240310T070000
END:DAYLIGHT
BEGIN:STANDARD
TZOFFSETFROM:-0400
TZOFFSETTO:-0500
TZNAME:EST
DTSTART:20241103T060000
END:STANDARD
BEGIN:DAYLIGHT
TZOFFSETFROM:-0500
TZOFFSETTO:-0400
TZNAME:EDT
DTSTART:20250309T070000
END:DAYLIGHT
BEGIN:STANDARD
TZOFFSETFROM:-0400
TZOFFSETTO:-0500
TZNAME:EST
DTSTART:20251102T060000
END:STANDARD
BEGIN:DAYLIGHT
TZOFFSETFROM:-0500
TZOFFSETTO:-0400
TZNAME:EDT
DTSTART:20260308T070000
END:DAYLIGHT
BEGIN:STANDARD
TZOFFSETFROM:-0400
TZOFFSETTO:-0500
TZNAME:EST
DTSTART:20261101T060000
END:STANDARD
END:VTIMEZONE
BEGIN:VEVENT
DTSTART;TZID=America/New_York:20250216T140000
DTEND;TZID=America/New_York:20250216T153000
DTSTAMP:20260420T103938
CREATED:20250213T153255Z
LAST-MODIFIED:20250213T153255Z
UID:10028245-1739714400-1739719800@visitfloydva.com
SUMMARY:Valentine's Wine & Chocolate Pairing
DESCRIPTION:Cocoa Mia’s Second Annual Valentine’s chocolate and wine paring IN HOUSE/ON SITE!!! Come join us at Pantoufle’s [say PAN TOOF lahs] Bistro! We will be walking you through five perfectly paired truffles and wines in our cozy dinning room! The wines are from all around and have been curated and matched to Cocoa Mia’s truffles by our sommelier\, Grayson! We have seatings to choose from- \nSaturday\, February 15th 12pm to 1:30pm \nSunday\, February 16th\, 2pm to 3:30pm.
URL:https://visitfloydva.com/event/valentines-wine-chocolate-pairing-2/2025-02-16/
LOCATION:Cocoa Mia\, 108 W. Main Street\, Floyd\, 24091
END:VEVENT
BEGIN:VEVENT
DTSTART;TZID=America/New_York:20250215T120000
DTEND;TZID=America/New_York:20250215T133000
DTSTAMP:20260420T103938
CREATED:20250213T153255Z
LAST-MODIFIED:20250213T153255Z
UID:10028244-1739620800-1739626200@visitfloydva.com
SUMMARY:Valentine's Wine & Chocolate Pairing
DESCRIPTION:Cocoa Mia’s Second Annual Valentine’s chocolate and wine paring IN HOUSE/ON SITE!!! Come join us at Pantoufle’s [say PAN TOOF lahs] Bistro! We will be walking you through five perfectly paired truffles and wines in our cozy dinning room! The wines are from all around and have been curated and matched to Cocoa Mia’s truffles by our sommelier\, Grayson! We have seatings to choose from- \nSaturday\, February 15th 12pm to 1:30pm \nSunday\, February 16th\, 2pm to 3:30pm.
URL:https://visitfloydva.com/event/valentines-wine-chocolate-pairing-2/2025-02-15/
LOCATION:Cocoa Mia\, 108 W. Main Street\, Floyd\, 24091
END:VEVENT
END:VCALENDAR