BEGIN:VCALENDAR
VERSION:2.0
PRODID:-//Visit Floyd Virginia - ECPv6.15.20//NONSGML v1.0//EN
CALSCALE:GREGORIAN
METHOD:PUBLISH
X-WR-CALNAME:Visit Floyd Virginia
X-ORIGINAL-URL:https://visitfloydva.com
X-WR-CALDESC:Events for Visit Floyd Virginia
REFRESH-INTERVAL;VALUE=DURATION:PT1H
X-Robots-Tag:noindex
X-PUBLISHED-TTL:PT1H
BEGIN:VTIMEZONE
TZID:America/New_York
BEGIN:DAYLIGHT
TZOFFSETFROM:-0500
TZOFFSETTO:-0400
TZNAME:EDT
DTSTART:20240310T070000
END:DAYLIGHT
BEGIN:STANDARD
TZOFFSETFROM:-0400
TZOFFSETTO:-0500
TZNAME:EST
DTSTART:20241103T060000
END:STANDARD
BEGIN:DAYLIGHT
TZOFFSETFROM:-0500
TZOFFSETTO:-0400
TZNAME:EDT
DTSTART:20250309T070000
END:DAYLIGHT
BEGIN:STANDARD
TZOFFSETFROM:-0400
TZOFFSETTO:-0500
TZNAME:EST
DTSTART:20251102T060000
END:STANDARD
BEGIN:DAYLIGHT
TZOFFSETFROM:-0500
TZOFFSETTO:-0400
TZNAME:EDT
DTSTART:20260308T070000
END:DAYLIGHT
BEGIN:STANDARD
TZOFFSETFROM:-0400
TZOFFSETTO:-0500
TZNAME:EST
DTSTART:20261101T060000
END:STANDARD
END:VTIMEZONE
BEGIN:VEVENT
DTSTART;TZID=America/New_York:20250424T160000
DTEND;TZID=America/New_York:20250424T190000
DTSTAMP:20260420T055253
CREATED:20211201T122116Z
LAST-MODIFIED:20251106T163202Z
UID:10026499-1745510400-1745521200@visitfloydva.com
SUMMARY:Happy Hour at the Brewery!
DESCRIPTION:Celebrate the weekend’s approach and enjoy $1 off all pint pours from 4-7pm at Buffalo Mountain Brewery.\nGrab your favorite local craft brew\, or try a new seasonal!
URL:https://visitfloydva.com/event/happy-hour-buffalo-mountain-brewery/2025-04-24/
LOCATION:Buffalo Mountain Brewery & McDaniel’s Tavern\, 332 Webbs Mill Rd.\, Floyd\, VA\, 24091\, United States
CATEGORIES:Brewery
ATTACH;FMTTYPE=image/jpeg:https://visitfloydva.com/wp-content/uploads/2021/11/Happy-Hour-2.jpg
GEO:36.9212216;-80.3255321
X-APPLE-STRUCTURED-LOCATION;VALUE=URI;X-ADDRESS=Buffalo Mountain Brewery & McDaniel’s Tavern 332 Webbs Mill Rd. Floyd VA 24091 United States;X-APPLE-RADIUS=500;X-TITLE=332 Webbs Mill Rd.:geo:-80.3255321,36.9212216
END:VEVENT
BEGIN:VEVENT
DTSTART;TZID=America/New_York:20250417T160000
DTEND;TZID=America/New_York:20250417T190000
DTSTAMP:20260420T055253
CREATED:20211201T122116Z
LAST-MODIFIED:20251106T163202Z
UID:10026498-1744905600-1744916400@visitfloydva.com
SUMMARY:Happy Hour at the Brewery!
DESCRIPTION:Celebrate the weekend’s approach and enjoy $1 off all pint pours from 4-7pm at Buffalo Mountain Brewery.\nGrab your favorite local craft brew\, or try a new seasonal!
URL:https://visitfloydva.com/event/happy-hour-buffalo-mountain-brewery/2025-04-17/
LOCATION:Buffalo Mountain Brewery & McDaniel’s Tavern\, 332 Webbs Mill Rd.\, Floyd\, VA\, 24091\, United States
CATEGORIES:Brewery
ATTACH;FMTTYPE=image/jpeg:https://visitfloydva.com/wp-content/uploads/2021/11/Happy-Hour-2.jpg
GEO:36.9212216;-80.3255321
X-APPLE-STRUCTURED-LOCATION;VALUE=URI;X-ADDRESS=Buffalo Mountain Brewery & McDaniel’s Tavern 332 Webbs Mill Rd. Floyd VA 24091 United States;X-APPLE-RADIUS=500;X-TITLE=332 Webbs Mill Rd.:geo:-80.3255321,36.9212216
END:VEVENT
BEGIN:VEVENT
DTSTART;TZID=America/New_York:20250410T160000
DTEND;TZID=America/New_York:20250410T190000
DTSTAMP:20260420T055253
CREATED:20211201T122116Z
LAST-MODIFIED:20251106T163202Z
UID:10026497-1744300800-1744311600@visitfloydva.com
SUMMARY:Happy Hour at the Brewery!
DESCRIPTION:Celebrate the weekend’s approach and enjoy $1 off all pint pours from 4-7pm at Buffalo Mountain Brewery.\nGrab your favorite local craft brew\, or try a new seasonal!
URL:https://visitfloydva.com/event/happy-hour-buffalo-mountain-brewery/2025-04-10/
LOCATION:Buffalo Mountain Brewery & McDaniel’s Tavern\, 332 Webbs Mill Rd.\, Floyd\, VA\, 24091\, United States
CATEGORIES:Brewery
ATTACH;FMTTYPE=image/jpeg:https://visitfloydva.com/wp-content/uploads/2021/11/Happy-Hour-2.jpg
GEO:36.9212216;-80.3255321
X-APPLE-STRUCTURED-LOCATION;VALUE=URI;X-ADDRESS=Buffalo Mountain Brewery & McDaniel’s Tavern 332 Webbs Mill Rd. Floyd VA 24091 United States;X-APPLE-RADIUS=500;X-TITLE=332 Webbs Mill Rd.:geo:-80.3255321,36.9212216
END:VEVENT
BEGIN:VEVENT
DTSTART;TZID=America/New_York:20250403T160000
DTEND;TZID=America/New_York:20250403T200000
DTSTAMP:20260420T055253
CREATED:20240917T160633Z
LAST-MODIFIED:20240917T160633Z
UID:10027869-1743696000-1743710400@visitfloydva.com
SUMMARY:Veteran's Social
DESCRIPTION:Floyd VFW and AL posts are offering a social gathering for veterans.This isn’t a fundraiser\, membership drive\, or meeting – just an opportunity for area veterans to meet and chat with fellow vets in a social setting.\nWhat: Veterans social gatheringWhere: Buffalo Mountain Brewery/McDaniels Tavern\, 332 Webbs Mill Rd N\, FloydWhen: First Thursday every Month\, 4-8pmWhy: To hang with other vets\, not at home\, farm\, or work!Cost: No entry fee\, veteran’s discount for food and beverage\nPlease spread the word and bring another vet with you!
URL:https://visitfloydva.com/event/veterans-social/2025-04-03/
LOCATION:Buffalo Mountain Brewery & McDaniel’s Tavern\, 332 Webbs Mill Rd.\, Floyd\, VA\, 24091\, United States
ATTACH;FMTTYPE=image/jpeg:https://visitfloydva.com/wp-content/uploads/2024/09/278025033_4930640470389646_3014122763355022439_n.jpg
GEO:36.9212216;-80.3255321
X-APPLE-STRUCTURED-LOCATION;VALUE=URI;X-ADDRESS=Buffalo Mountain Brewery & McDaniel’s Tavern 332 Webbs Mill Rd. Floyd VA 24091 United States;X-APPLE-RADIUS=500;X-TITLE=332 Webbs Mill Rd.:geo:-80.3255321,36.9212216
END:VEVENT
BEGIN:VEVENT
DTSTART;TZID=America/New_York:20250403T160000
DTEND;TZID=America/New_York:20250403T190000
DTSTAMP:20260420T055253
CREATED:20211201T122116Z
LAST-MODIFIED:20251106T163202Z
UID:10026496-1743696000-1743706800@visitfloydva.com
SUMMARY:Happy Hour at the Brewery!
DESCRIPTION:Celebrate the weekend’s approach and enjoy $1 off all pint pours from 4-7pm at Buffalo Mountain Brewery.\nGrab your favorite local craft brew\, or try a new seasonal!
URL:https://visitfloydva.com/event/happy-hour-buffalo-mountain-brewery/2025-04-03/
LOCATION:Buffalo Mountain Brewery & McDaniel’s Tavern\, 332 Webbs Mill Rd.\, Floyd\, VA\, 24091\, United States
CATEGORIES:Brewery
ATTACH;FMTTYPE=image/jpeg:https://visitfloydva.com/wp-content/uploads/2021/11/Happy-Hour-2.jpg
GEO:36.9212216;-80.3255321
X-APPLE-STRUCTURED-LOCATION;VALUE=URI;X-ADDRESS=Buffalo Mountain Brewery & McDaniel’s Tavern 332 Webbs Mill Rd. Floyd VA 24091 United States;X-APPLE-RADIUS=500;X-TITLE=332 Webbs Mill Rd.:geo:-80.3255321,36.9212216
END:VEVENT
BEGIN:VEVENT
DTSTART;TZID=America/New_York:20250330T140000
DTEND;TZID=America/New_York:20250330T170000
DTSTAMP:20260420T055253
CREATED:20250304T192315Z
LAST-MODIFIED:20250304T192315Z
UID:10029938-1743343200-1743354000@visitfloydva.com
SUMMARY:Virginia Hollow
DESCRIPTION:Enjoy live music and brews at Buffalo Mountain Brewery!
URL:https://visitfloydva.com/event/virginia-hollow-7/
LOCATION:Buffalo Mountain Brewery & McDaniel’s Tavern\, 332 Webbs Mill Rd.\, Floyd\, VA\, 24091\, United States
GEO:36.9212216;-80.3255321
X-APPLE-STRUCTURED-LOCATION;VALUE=URI;X-ADDRESS=Buffalo Mountain Brewery & McDaniel’s Tavern 332 Webbs Mill Rd. Floyd VA 24091 United States;X-APPLE-RADIUS=500;X-TITLE=332 Webbs Mill Rd.:geo:-80.3255321,36.9212216
END:VEVENT
BEGIN:VEVENT
DTSTART;TZID=America/New_York:20250329T170000
DTEND;TZID=America/New_York:20250329T200000
DTSTAMP:20260420T055253
CREATED:20250227T180120Z
LAST-MODIFIED:20250304T191640Z
UID:10028301-1743267600-1743278400@visitfloydva.com
SUMMARY:Paul LeMay and Company
DESCRIPTION:Enjoy live music and brews at Buffalo Mountain Brewery!
URL:https://visitfloydva.com/event/paul-lemay-and-company/
LOCATION:Buffalo Mountain Brewery & McDaniel’s Tavern\, 332 Webbs Mill Rd.\, Floyd\, VA\, 24091\, United States
GEO:36.9212216;-80.3255321
X-APPLE-STRUCTURED-LOCATION;VALUE=URI;X-ADDRESS=Buffalo Mountain Brewery & McDaniel’s Tavern 332 Webbs Mill Rd. Floyd VA 24091 United States;X-APPLE-RADIUS=500;X-TITLE=332 Webbs Mill Rd.:geo:-80.3255321,36.9212216
END:VEVENT
BEGIN:VEVENT
DTSTART;TZID=America/New_York:20250329T130000
DTEND;TZID=America/New_York:20250329T160000
DTSTAMP:20260420T055253
CREATED:20250304T190926Z
LAST-MODIFIED:20250304T190926Z
UID:10029929-1743253200-1743264000@visitfloydva.com
SUMMARY:Barry LeNoir
DESCRIPTION:Enjoy live music and brews at Buffalo Mountain Brewery!
URL:https://visitfloydva.com/event/barry-lenoir-4/2025-03-29/
LOCATION:Buffalo Mountain Brewery & McDaniel’s Tavern\, 332 Webbs Mill Rd.\, Floyd\, VA\, 24091\, United States
GEO:36.9212216;-80.3255321
X-APPLE-STRUCTURED-LOCATION;VALUE=URI;X-ADDRESS=Buffalo Mountain Brewery & McDaniel’s Tavern 332 Webbs Mill Rd. Floyd VA 24091 United States;X-APPLE-RADIUS=500;X-TITLE=332 Webbs Mill Rd.:geo:-80.3255321,36.9212216
END:VEVENT
BEGIN:VEVENT
DTSTART;TZID=America/New_York:20250328T170000
DTEND;TZID=America/New_York:20250328T200000
DTSTAMP:20260420T055253
CREATED:20250227T180204Z
LAST-MODIFIED:20250304T191558Z
UID:10029924-1743181200-1743192000@visitfloydva.com
SUMMARY:Walker's Creek & The Hound Dogs
DESCRIPTION:Enjoy live music and brews at Buffalo Mountain Brewery!
URL:https://visitfloydva.com/event/walkers-creek-the-hound-dogs/
LOCATION:Buffalo Mountain Brewery & McDaniel’s Tavern\, 332 Webbs Mill Rd.\, Floyd\, VA\, 24091\, United States
GEO:36.9212216;-80.3255321
X-APPLE-STRUCTURED-LOCATION;VALUE=URI;X-ADDRESS=Buffalo Mountain Brewery & McDaniel’s Tavern 332 Webbs Mill Rd. Floyd VA 24091 United States;X-APPLE-RADIUS=500;X-TITLE=332 Webbs Mill Rd.:geo:-80.3255321,36.9212216
END:VEVENT
BEGIN:VEVENT
DTSTART;TZID=America/New_York:20250327T180000
DTEND;TZID=America/New_York:20250327T200000
DTSTAMP:20260420T055253
CREATED:20250227T180008Z
LAST-MODIFIED:20250304T191114Z
UID:10028258-1743098400-1743105600@visitfloydva.com
SUMMARY:Henry Hardt's Mudcats
DESCRIPTION:Enjoy live music and brews at Buffalo Mountain Brewery!
URL:https://visitfloydva.com/event/henry-hardts-mudcats-38/2025-03-27/
LOCATION:Buffalo Mountain Brewery & McDaniel’s Tavern\, 332 Webbs Mill Rd.\, Floyd\, VA\, 24091\, United States
GEO:36.9212216;-80.3255321
X-APPLE-STRUCTURED-LOCATION;VALUE=URI;X-ADDRESS=Buffalo Mountain Brewery & McDaniel’s Tavern 332 Webbs Mill Rd. Floyd VA 24091 United States;X-APPLE-RADIUS=500;X-TITLE=332 Webbs Mill Rd.:geo:-80.3255321,36.9212216
END:VEVENT
BEGIN:VEVENT
DTSTART;TZID=America/New_York:20250327T160000
DTEND;TZID=America/New_York:20250327T190000
DTSTAMP:20260420T055253
CREATED:20211201T122116Z
LAST-MODIFIED:20251106T163202Z
UID:10026495-1743091200-1743102000@visitfloydva.com
SUMMARY:Happy Hour at the Brewery!
DESCRIPTION:Celebrate the weekend’s approach and enjoy $1 off all pint pours from 4-7pm at Buffalo Mountain Brewery.\nGrab your favorite local craft brew\, or try a new seasonal!
URL:https://visitfloydva.com/event/happy-hour-buffalo-mountain-brewery/2025-03-27/
LOCATION:Buffalo Mountain Brewery & McDaniel’s Tavern\, 332 Webbs Mill Rd.\, Floyd\, VA\, 24091\, United States
CATEGORIES:Brewery
ATTACH;FMTTYPE=image/jpeg:https://visitfloydva.com/wp-content/uploads/2021/11/Happy-Hour-2.jpg
GEO:36.9212216;-80.3255321
X-APPLE-STRUCTURED-LOCATION;VALUE=URI;X-ADDRESS=Buffalo Mountain Brewery & McDaniel’s Tavern 332 Webbs Mill Rd. Floyd VA 24091 United States;X-APPLE-RADIUS=500;X-TITLE=332 Webbs Mill Rd.:geo:-80.3255321,36.9212216
END:VEVENT
BEGIN:VEVENT
DTSTART;TZID=America/New_York:20250323T140000
DTEND;TZID=America/New_York:20250323T170000
DTSTAMP:20260420T055253
CREATED:20250304T191509Z
LAST-MODIFIED:20250304T192439Z
UID:10029937-1742738400-1742749200@visitfloydva.com
SUMMARY:Bob Chew
DESCRIPTION:Enjoy live music and brews at Buffalo Mountain Brewery!
URL:https://visitfloydva.com/event/bob-chew-5/
LOCATION:Buffalo Mountain Brewery & McDaniel’s Tavern\, 332 Webbs Mill Rd.\, Floyd\, VA\, 24091\, United States
GEO:36.9212216;-80.3255321
X-APPLE-STRUCTURED-LOCATION;VALUE=URI;X-ADDRESS=Buffalo Mountain Brewery & McDaniel’s Tavern 332 Webbs Mill Rd. Floyd VA 24091 United States;X-APPLE-RADIUS=500;X-TITLE=332 Webbs Mill Rd.:geo:-80.3255321,36.9212216
END:VEVENT
BEGIN:VEVENT
DTSTART;TZID=America/New_York:20250322T170000
DTEND;TZID=America/New_York:20250322T200000
DTSTAMP:20260420T055253
CREATED:20250304T191439Z
LAST-MODIFIED:20250304T191439Z
UID:10029936-1742662800-1742673600@visitfloydva.com
SUMMARY:Dan Fox
DESCRIPTION:Enjoy live music and brews at Buffalo Mountain Brewery!
URL:https://visitfloydva.com/event/dan-fox-12/
LOCATION:Buffalo Mountain Brewery & McDaniel’s Tavern\, 332 Webbs Mill Rd.\, Floyd\, VA\, 24091\, United States
GEO:36.9212216;-80.3255321
X-APPLE-STRUCTURED-LOCATION;VALUE=URI;X-ADDRESS=Buffalo Mountain Brewery & McDaniel’s Tavern 332 Webbs Mill Rd. Floyd VA 24091 United States;X-APPLE-RADIUS=500;X-TITLE=332 Webbs Mill Rd.:geo:-80.3255321,36.9212216
END:VEVENT
BEGIN:VEVENT
DTSTART;TZID=America/New_York:20250322T130000
DTEND;TZID=America/New_York:20250322T160000
DTSTAMP:20260420T055253
CREATED:20250304T191358Z
LAST-MODIFIED:20250305T144311Z
UID:10029935-1742648400-1742659200@visitfloydva.com
SUMMARY:Bob Grubel
DESCRIPTION:Enjoy live music and brews at Buffalo Mountain Brewery!
URL:https://visitfloydva.com/event/bob-grubel-4/
LOCATION:Buffalo Mountain Brewery & McDaniel’s Tavern\, 332 Webbs Mill Rd.\, Floyd\, VA\, 24091\, United States
GEO:36.9212216;-80.3255321
X-APPLE-STRUCTURED-LOCATION;VALUE=URI;X-ADDRESS=Buffalo Mountain Brewery & McDaniel’s Tavern 332 Webbs Mill Rd. Floyd VA 24091 United States;X-APPLE-RADIUS=500;X-TITLE=332 Webbs Mill Rd.:geo:-80.3255321,36.9212216
END:VEVENT
BEGIN:VEVENT
DTSTART;TZID=America/New_York:20250321T200000
DTEND;TZID=America/New_York:20250321T200000
DTSTAMP:20260420T055253
CREATED:20250304T193553Z
LAST-MODIFIED:20250304T193553Z
UID:10028300-1742587200-1742587200@visitfloydva.com
SUMMARY:Lua Flora
DESCRIPTION:Free show ~ \nThis group is sublimely impressive and we are thrilled to have them back! \nLua Flora is the soundtrack of your favorite daydream. The Asheville\, NC-based group’s sun-kissed melodies are rooted in the harmonies of Appalachia\, rhythms of the West Indies\, and lyricism of American folk. Live\, the band allures listeners with gut-punching jams weaved between powerful lyrics. \nLua Flora has supported Satsang\, Franc Moody\, Of Good Nature\, Kendall Street Company\, and more. Their most recent EP\, One of the Joys\, amassed 50\,000 streams in the first week.
URL:https://visitfloydva.com/event/lua-flora-4/
LOCATION:Buffalo Mountain Brewery & McDaniel’s Tavern\, 332 Webbs Mill Rd.\, Floyd\, VA\, 24091\, United States
GEO:36.9212216;-80.3255321
X-APPLE-STRUCTURED-LOCATION;VALUE=URI;X-ADDRESS=Buffalo Mountain Brewery & McDaniel’s Tavern 332 Webbs Mill Rd. Floyd VA 24091 United States;X-APPLE-RADIUS=500;X-TITLE=332 Webbs Mill Rd.:geo:-80.3255321,36.9212216
END:VEVENT
BEGIN:VEVENT
DTSTART;TZID=America/New_York:20250320T180000
DTEND;TZID=America/New_York:20250320T200000
DTSTAMP:20260420T055253
CREATED:20250304T190705Z
LAST-MODIFIED:20250304T190705Z
UID:10029926-1742493600-1742500800@visitfloydva.com
SUMMARY:Big Poppa Squat & The Squatters
DESCRIPTION:Enjoy live music and brews at Buffalo Mountain Brewery!
URL:https://visitfloydva.com/event/big-poppa-squat-the-squatters-5/2025-03-20/
LOCATION:Buffalo Mountain Brewery & McDaniel’s Tavern\, 332 Webbs Mill Rd.\, Floyd\, VA\, 24091\, United States
GEO:36.9212216;-80.3255321
X-APPLE-STRUCTURED-LOCATION;VALUE=URI;X-ADDRESS=Buffalo Mountain Brewery & McDaniel’s Tavern 332 Webbs Mill Rd. Floyd VA 24091 United States;X-APPLE-RADIUS=500;X-TITLE=332 Webbs Mill Rd.:geo:-80.3255321,36.9212216
END:VEVENT
BEGIN:VEVENT
DTSTART;TZID=America/New_York:20250320T160000
DTEND;TZID=America/New_York:20250320T190000
DTSTAMP:20260420T055253
CREATED:20211201T122116Z
LAST-MODIFIED:20251106T163202Z
UID:10026494-1742486400-1742497200@visitfloydva.com
SUMMARY:Happy Hour at the Brewery!
DESCRIPTION:Celebrate the weekend’s approach and enjoy $1 off all pint pours from 4-7pm at Buffalo Mountain Brewery.\nGrab your favorite local craft brew\, or try a new seasonal!
URL:https://visitfloydva.com/event/happy-hour-buffalo-mountain-brewery/2025-03-20/
LOCATION:Buffalo Mountain Brewery & McDaniel’s Tavern\, 332 Webbs Mill Rd.\, Floyd\, VA\, 24091\, United States
CATEGORIES:Brewery
ATTACH;FMTTYPE=image/jpeg:https://visitfloydva.com/wp-content/uploads/2021/11/Happy-Hour-2.jpg
GEO:36.9212216;-80.3255321
X-APPLE-STRUCTURED-LOCATION;VALUE=URI;X-ADDRESS=Buffalo Mountain Brewery & McDaniel’s Tavern 332 Webbs Mill Rd. Floyd VA 24091 United States;X-APPLE-RADIUS=500;X-TITLE=332 Webbs Mill Rd.:geo:-80.3255321,36.9212216
END:VEVENT
BEGIN:VEVENT
DTSTART;TZID=America/New_York:20250315T130000
DTEND;TZID=America/New_York:20250315T160000
DTSTAMP:20260420T055253
CREATED:20250304T191244Z
LAST-MODIFIED:20250304T191244Z
UID:10029933-1742043600-1742054400@visitfloydva.com
SUMMARY:High Strung Irish
DESCRIPTION:Enjoy live music and brews at Buffalo Mountain Brewery!
URL:https://visitfloydva.com/event/high-strung-irish-2/
LOCATION:Buffalo Mountain Brewery & McDaniel’s Tavern\, 332 Webbs Mill Rd.\, Floyd\, VA\, 24091\, United States
GEO:36.9212216;-80.3255321
X-APPLE-STRUCTURED-LOCATION;VALUE=URI;X-ADDRESS=Buffalo Mountain Brewery & McDaniel’s Tavern 332 Webbs Mill Rd. Floyd VA 24091 United States;X-APPLE-RADIUS=500;X-TITLE=332 Webbs Mill Rd.:geo:-80.3255321,36.9212216
END:VEVENT
BEGIN:VEVENT
DTSTART;TZID=America/New_York:20250314T170000
DTEND;TZID=America/New_York:20250314T200000
DTSTAMP:20260420T055253
CREATED:20250304T191147Z
LAST-MODIFIED:20250304T191147Z
UID:10029932-1741971600-1741982400@visitfloydva.com
SUMMARY:Clay Blevins
DESCRIPTION:Enjoy live music and brews at Buffalo Mountain Brewery!
URL:https://visitfloydva.com/event/clay-blevins-3/
LOCATION:Buffalo Mountain Brewery & McDaniel’s Tavern\, 332 Webbs Mill Rd.\, Floyd\, VA\, 24091\, United States
GEO:36.9212216;-80.3255321
X-APPLE-STRUCTURED-LOCATION;VALUE=URI;X-ADDRESS=Buffalo Mountain Brewery & McDaniel’s Tavern 332 Webbs Mill Rd. Floyd VA 24091 United States;X-APPLE-RADIUS=500;X-TITLE=332 Webbs Mill Rd.:geo:-80.3255321,36.9212216
END:VEVENT
BEGIN:VEVENT
DTSTART;TZID=America/New_York:20250313T180000
DTEND;TZID=America/New_York:20250313T200000
DTSTAMP:20260420T055253
CREATED:20250227T180008Z
LAST-MODIFIED:20250304T191114Z
UID:10028257-1741888800-1741896000@visitfloydva.com
SUMMARY:Henry Hardt's Mudcats
DESCRIPTION:Enjoy live music and brews at Buffalo Mountain Brewery!
URL:https://visitfloydva.com/event/henry-hardts-mudcats-38/2025-03-13/
LOCATION:Buffalo Mountain Brewery & McDaniel’s Tavern\, 332 Webbs Mill Rd.\, Floyd\, VA\, 24091\, United States
GEO:36.9212216;-80.3255321
X-APPLE-STRUCTURED-LOCATION;VALUE=URI;X-ADDRESS=Buffalo Mountain Brewery & McDaniel’s Tavern 332 Webbs Mill Rd. Floyd VA 24091 United States;X-APPLE-RADIUS=500;X-TITLE=332 Webbs Mill Rd.:geo:-80.3255321,36.9212216
END:VEVENT
BEGIN:VEVENT
DTSTART;TZID=America/New_York:20250313T160000
DTEND;TZID=America/New_York:20250313T190000
DTSTAMP:20260420T055253
CREATED:20211201T122116Z
LAST-MODIFIED:20251106T163202Z
UID:10026493-1741881600-1741892400@visitfloydva.com
SUMMARY:Happy Hour at the Brewery!
DESCRIPTION:Celebrate the weekend’s approach and enjoy $1 off all pint pours from 4-7pm at Buffalo Mountain Brewery.\nGrab your favorite local craft brew\, or try a new seasonal!
URL:https://visitfloydva.com/event/happy-hour-buffalo-mountain-brewery/2025-03-13/
LOCATION:Buffalo Mountain Brewery & McDaniel’s Tavern\, 332 Webbs Mill Rd.\, Floyd\, VA\, 24091\, United States
CATEGORIES:Brewery
ATTACH;FMTTYPE=image/jpeg:https://visitfloydva.com/wp-content/uploads/2021/11/Happy-Hour-2.jpg
GEO:36.9212216;-80.3255321
X-APPLE-STRUCTURED-LOCATION;VALUE=URI;X-ADDRESS=Buffalo Mountain Brewery & McDaniel’s Tavern 332 Webbs Mill Rd. Floyd VA 24091 United States;X-APPLE-RADIUS=500;X-TITLE=332 Webbs Mill Rd.:geo:-80.3255321,36.9212216
END:VEVENT
BEGIN:VEVENT
DTSTART;TZID=America/New_York:20250309T140000
DTEND;TZID=America/New_York:20250309T170000
DTSTAMP:20260420T055254
CREATED:20250304T191029Z
LAST-MODIFIED:20250304T191029Z
UID:10029931-1741528800-1741539600@visitfloydva.com
SUMMARY:Celtic Ceilidh
DESCRIPTION:Enjoy live music and brews at Buffalo Mountain Brewery!
URL:https://visitfloydva.com/event/celtic-ceilidh-3/
LOCATION:Buffalo Mountain Brewery & McDaniel’s Tavern\, 332 Webbs Mill Rd.\, Floyd\, VA\, 24091\, United States
GEO:36.9212216;-80.3255321
X-APPLE-STRUCTURED-LOCATION;VALUE=URI;X-ADDRESS=Buffalo Mountain Brewery & McDaniel’s Tavern 332 Webbs Mill Rd. Floyd VA 24091 United States;X-APPLE-RADIUS=500;X-TITLE=332 Webbs Mill Rd.:geo:-80.3255321,36.9212216
END:VEVENT
BEGIN:VEVENT
DTSTART;TZID=America/New_York:20250308T170000
DTEND;TZID=America/New_York:20250308T200000
DTSTAMP:20260420T055254
CREATED:20250304T191001Z
LAST-MODIFIED:20250304T191001Z
UID:10029930-1741453200-1741464000@visitfloydva.com
SUMMARY:The Deer Run Drifters
DESCRIPTION:Enjoy live music and brews at Buffalo Mountain Brewery!
URL:https://visitfloydva.com/event/the-deer-run-drifters/
LOCATION:Buffalo Mountain Brewery & McDaniel’s Tavern\, 332 Webbs Mill Rd.\, Floyd\, VA\, 24091\, United States
GEO:36.9212216;-80.3255321
X-APPLE-STRUCTURED-LOCATION;VALUE=URI;X-ADDRESS=Buffalo Mountain Brewery & McDaniel’s Tavern 332 Webbs Mill Rd. Floyd VA 24091 United States;X-APPLE-RADIUS=500;X-TITLE=332 Webbs Mill Rd.:geo:-80.3255321,36.9212216
END:VEVENT
BEGIN:VEVENT
DTSTART;TZID=America/New_York:20250308T130000
DTEND;TZID=America/New_York:20250308T160000
DTSTAMP:20260420T055254
CREATED:20250304T190926Z
LAST-MODIFIED:20250304T190926Z
UID:10029928-1741438800-1741449600@visitfloydva.com
SUMMARY:Barry LeNoir
DESCRIPTION:Enjoy live music and brews at Buffalo Mountain Brewery!
URL:https://visitfloydva.com/event/barry-lenoir-4/2025-03-08/
LOCATION:Buffalo Mountain Brewery & McDaniel’s Tavern\, 332 Webbs Mill Rd.\, Floyd\, VA\, 24091\, United States
GEO:36.9212216;-80.3255321
X-APPLE-STRUCTURED-LOCATION;VALUE=URI;X-ADDRESS=Buffalo Mountain Brewery & McDaniel’s Tavern 332 Webbs Mill Rd. Floyd VA 24091 United States;X-APPLE-RADIUS=500;X-TITLE=332 Webbs Mill Rd.:geo:-80.3255321,36.9212216
END:VEVENT
BEGIN:VEVENT
DTSTART;TZID=America/New_York:20250307T170000
DTEND;TZID=America/New_York:20250307T200000
DTSTAMP:20260420T055254
CREATED:20250304T190838Z
LAST-MODIFIED:20250304T190838Z
UID:10029927-1741366800-1741377600@visitfloydva.com
SUMMARY:South 40 Bluegrass
DESCRIPTION:Enjoy live music and brews at Buffalo Mountain Brewery!
URL:https://visitfloydva.com/event/south-40-bluegrass/
LOCATION:Buffalo Mountain Brewery & McDaniel’s Tavern\, 332 Webbs Mill Rd.\, Floyd\, VA\, 24091\, United States
GEO:36.9212216;-80.3255321
X-APPLE-STRUCTURED-LOCATION;VALUE=URI;X-ADDRESS=Buffalo Mountain Brewery & McDaniel’s Tavern 332 Webbs Mill Rd. Floyd VA 24091 United States;X-APPLE-RADIUS=500;X-TITLE=332 Webbs Mill Rd.:geo:-80.3255321,36.9212216
END:VEVENT
BEGIN:VEVENT
DTSTART;TZID=America/New_York:20250306T180000
DTEND;TZID=America/New_York:20250306T200000
DTSTAMP:20260420T055254
CREATED:20250304T190705Z
LAST-MODIFIED:20250304T190705Z
UID:10029925-1741284000-1741291200@visitfloydva.com
SUMMARY:Big Poppa Squat & The Squatters
DESCRIPTION:Enjoy live music and brews at Buffalo Mountain Brewery!
URL:https://visitfloydva.com/event/big-poppa-squat-the-squatters-5/2025-03-06/
LOCATION:Buffalo Mountain Brewery & McDaniel’s Tavern\, 332 Webbs Mill Rd.\, Floyd\, VA\, 24091\, United States
GEO:36.9212216;-80.3255321
X-APPLE-STRUCTURED-LOCATION;VALUE=URI;X-ADDRESS=Buffalo Mountain Brewery & McDaniel’s Tavern 332 Webbs Mill Rd. Floyd VA 24091 United States;X-APPLE-RADIUS=500;X-TITLE=332 Webbs Mill Rd.:geo:-80.3255321,36.9212216
END:VEVENT
BEGIN:VEVENT
DTSTART;TZID=America/New_York:20250306T160000
DTEND;TZID=America/New_York:20250306T200000
DTSTAMP:20260420T055254
CREATED:20240917T160633Z
LAST-MODIFIED:20240917T160633Z
UID:10027868-1741276800-1741291200@visitfloydva.com
SUMMARY:Veteran's Social
DESCRIPTION:Floyd VFW and AL posts are offering a social gathering for veterans.This isn’t a fundraiser\, membership drive\, or meeting – just an opportunity for area veterans to meet and chat with fellow vets in a social setting.\nWhat: Veterans social gatheringWhere: Buffalo Mountain Brewery/McDaniels Tavern\, 332 Webbs Mill Rd N\, FloydWhen: First Thursday every Month\, 4-8pmWhy: To hang with other vets\, not at home\, farm\, or work!Cost: No entry fee\, veteran’s discount for food and beverage\nPlease spread the word and bring another vet with you!
URL:https://visitfloydva.com/event/veterans-social/2025-03-06/
LOCATION:Buffalo Mountain Brewery & McDaniel’s Tavern\, 332 Webbs Mill Rd.\, Floyd\, VA\, 24091\, United States
ATTACH;FMTTYPE=image/jpeg:https://visitfloydva.com/wp-content/uploads/2024/09/278025033_4930640470389646_3014122763355022439_n.jpg
GEO:36.9212216;-80.3255321
X-APPLE-STRUCTURED-LOCATION;VALUE=URI;X-ADDRESS=Buffalo Mountain Brewery & McDaniel’s Tavern 332 Webbs Mill Rd. Floyd VA 24091 United States;X-APPLE-RADIUS=500;X-TITLE=332 Webbs Mill Rd.:geo:-80.3255321,36.9212216
END:VEVENT
BEGIN:VEVENT
DTSTART;TZID=America/New_York:20250306T160000
DTEND;TZID=America/New_York:20250306T190000
DTSTAMP:20260420T055254
CREATED:20211201T122116Z
LAST-MODIFIED:20251106T163202Z
UID:10026492-1741276800-1741287600@visitfloydva.com
SUMMARY:Happy Hour at the Brewery!
DESCRIPTION:Celebrate the weekend’s approach and enjoy $1 off all pint pours from 4-7pm at Buffalo Mountain Brewery.\nGrab your favorite local craft brew\, or try a new seasonal!
URL:https://visitfloydva.com/event/happy-hour-buffalo-mountain-brewery/2025-03-06/
LOCATION:Buffalo Mountain Brewery & McDaniel’s Tavern\, 332 Webbs Mill Rd.\, Floyd\, VA\, 24091\, United States
CATEGORIES:Brewery
ATTACH;FMTTYPE=image/jpeg:https://visitfloydva.com/wp-content/uploads/2021/11/Happy-Hour-2.jpg
GEO:36.9212216;-80.3255321
X-APPLE-STRUCTURED-LOCATION;VALUE=URI;X-ADDRESS=Buffalo Mountain Brewery & McDaniel’s Tavern 332 Webbs Mill Rd. Floyd VA 24091 United States;X-APPLE-RADIUS=500;X-TITLE=332 Webbs Mill Rd.:geo:-80.3255321,36.9212216
END:VEVENT
BEGIN:VEVENT
DTSTART;TZID=America/New_York:20250304T170000
DTEND;TZID=America/New_York:20250304T200000
DTSTAMP:20260420T055254
CREATED:20250304T191318Z
LAST-MODIFIED:20250304T191318Z
UID:10029934-1741107600-1741118400@visitfloydva.com
SUMMARY:Starroot & Friends
DESCRIPTION:Enjoy live music and brews at Buffalo Mountain Brewery!
URL:https://visitfloydva.com/event/starroot-friends/
LOCATION:Buffalo Mountain Brewery & McDaniel’s Tavern\, 332 Webbs Mill Rd.\, Floyd\, VA\, 24091\, United States
GEO:36.9212216;-80.3255321
X-APPLE-STRUCTURED-LOCATION;VALUE=URI;X-ADDRESS=Buffalo Mountain Brewery & McDaniel’s Tavern 332 Webbs Mill Rd. Floyd VA 24091 United States;X-APPLE-RADIUS=500;X-TITLE=332 Webbs Mill Rd.:geo:-80.3255321,36.9212216
END:VEVENT
BEGIN:VEVENT
DTSTART;TZID=America/New_York:20250228T170000
DTEND;TZID=America/New_York:20250228T200000
DTSTAMP:20260420T055254
CREATED:20250227T180039Z
LAST-MODIFIED:20250227T180039Z
UID:10028299-1740762000-1740772800@visitfloydva.com
SUMMARY:Jimmy the Jammer
DESCRIPTION:Enjoy live music and brews at Buffalo Mountain Brewery!
URL:https://visitfloydva.com/event/jimmy-the-jammer-3/
LOCATION:Buffalo Mountain Brewery & McDaniel’s Tavern\, 332 Webbs Mill Rd.\, Floyd\, VA\, 24091\, United States
GEO:36.9212216;-80.3255321
X-APPLE-STRUCTURED-LOCATION;VALUE=URI;X-ADDRESS=Buffalo Mountain Brewery & McDaniel’s Tavern 332 Webbs Mill Rd. Floyd VA 24091 United States;X-APPLE-RADIUS=500;X-TITLE=332 Webbs Mill Rd.:geo:-80.3255321,36.9212216
END:VEVENT
END:VCALENDAR