BEGIN:VCALENDAR
VERSION:2.0
PRODID:-//Visit Floyd Virginia - ECPv6.15.20//NONSGML v1.0//EN
CALSCALE:GREGORIAN
METHOD:PUBLISH
X-ORIGINAL-URL:https://visitfloydva.com
X-WR-CALDESC:Events for Visit Floyd Virginia
REFRESH-INTERVAL;VALUE=DURATION:PT1H
X-Robots-Tag:noindex
X-PUBLISHED-TTL:PT1H
BEGIN:VTIMEZONE
TZID:America/New_York
BEGIN:DAYLIGHT
TZOFFSETFROM:-0500
TZOFFSETTO:-0400
TZNAME:EDT
DTSTART:20240310T070000
END:DAYLIGHT
BEGIN:STANDARD
TZOFFSETFROM:-0400
TZOFFSETTO:-0500
TZNAME:EST
DTSTART:20241103T060000
END:STANDARD
BEGIN:DAYLIGHT
TZOFFSETFROM:-0500
TZOFFSETTO:-0400
TZNAME:EDT
DTSTART:20250309T070000
END:DAYLIGHT
BEGIN:STANDARD
TZOFFSETFROM:-0400
TZOFFSETTO:-0500
TZNAME:EST
DTSTART:20251102T060000
END:STANDARD
BEGIN:DAYLIGHT
TZOFFSETFROM:-0500
TZOFFSETTO:-0400
TZNAME:EDT
DTSTART:20260308T070000
END:DAYLIGHT
BEGIN:STANDARD
TZOFFSETFROM:-0400
TZOFFSETTO:-0500
TZNAME:EST
DTSTART:20261101T060000
END:STANDARD
BEGIN:DAYLIGHT
TZOFFSETFROM:-0500
TZOFFSETTO:-0400
TZNAME:EDT
DTSTART:20270314T070000
END:DAYLIGHT
BEGIN:STANDARD
TZOFFSETFROM:-0400
TZOFFSETTO:-0500
TZNAME:EST
DTSTART:20271107T060000
END:STANDARD
END:VTIMEZONE
BEGIN:VEVENT
DTSTART;TZID=America/New_York:20260113T180000
DTEND;TZID=America/New_York:20260113T200000
DTSTAMP:20260419T214527
CREATED:20251215T201006Z
LAST-MODIFIED:20251215T201006Z
UID:10031310-1768327200-1768334400@visitfloydva.com
SUMMARY:Bingo at the Brewery!
DESCRIPTION:On Tuesdays\, we play BINGO! \nRounds are called from 6-8pm and the nachos are served all evening long!\nFeaturing amazing local business sponsors and some fantastic prizes!\n$1 per card\, max of 3 cards per person.
URL:https://visitfloydva.com/event/bingo-at-the-brewery/2026-01-13/
LOCATION:Buffalo Mountain Brewery & McDaniel’s Tavern\, 332 Webbs Mill Rd.\, Floyd\, VA\, 24091\, United States
GEO:36.9212216;-80.3255321
X-APPLE-STRUCTURED-LOCATION;VALUE=URI;X-ADDRESS=Buffalo Mountain Brewery & McDaniel’s Tavern 332 Webbs Mill Rd. Floyd VA 24091 United States;X-APPLE-RADIUS=500;X-TITLE=332 Webbs Mill Rd.:geo:-80.3255321,36.9212216
END:VEVENT
BEGIN:VEVENT
DTSTART;TZID=America/New_York:20260111T140000
DTEND;TZID=America/New_York:20260111T170000
DTSTAMP:20260419T214527
CREATED:20260107T145220Z
LAST-MODIFIED:20260107T145220Z
UID:10031658-1768140000-1768150800@visitfloydva.com
SUMMARY:Celtic Ceilidh Live
DESCRIPTION:Enjoy live music at the brewery!
URL:https://visitfloydva.com/event/celtic-ceilidh-live-2/
LOCATION:Buffalo Mountain Brewery & McDaniel’s Tavern\, 332 Webbs Mill Rd.\, Floyd\, VA\, 24091\, United States
GEO:36.9212216;-80.3255321
X-APPLE-STRUCTURED-LOCATION;VALUE=URI;X-ADDRESS=Buffalo Mountain Brewery & McDaniel’s Tavern 332 Webbs Mill Rd. Floyd VA 24091 United States;X-APPLE-RADIUS=500;X-TITLE=332 Webbs Mill Rd.:geo:-80.3255321,36.9212216
END:VEVENT
BEGIN:VEVENT
DTSTART;TZID=America/New_York:20260110T170000
DTEND;TZID=America/New_York:20260110T200000
DTSTAMP:20260419T214527
CREATED:20260107T145319Z
LAST-MODIFIED:20260107T145319Z
UID:10031659-1768064400-1768075200@visitfloydva.com
SUMMARY:Cowboy Wanna Be Live
DESCRIPTION:Enjoy live music at the brewery!
URL:https://visitfloydva.com/event/cowboy-wanna-be-live/
LOCATION:Buffalo Mountain Brewery & McDaniel’s Tavern\, 332 Webbs Mill Rd.\, Floyd\, VA\, 24091\, United States
GEO:36.9212216;-80.3255321
X-APPLE-STRUCTURED-LOCATION;VALUE=URI;X-ADDRESS=Buffalo Mountain Brewery & McDaniel’s Tavern 332 Webbs Mill Rd. Floyd VA 24091 United States;X-APPLE-RADIUS=500;X-TITLE=332 Webbs Mill Rd.:geo:-80.3255321,36.9212216
END:VEVENT
BEGIN:VEVENT
DTSTART;TZID=America/New_York:20260110T130000
DTEND;TZID=America/New_York:20260110T160000
DTSTAMP:20260419T214527
CREATED:20260107T145141Z
LAST-MODIFIED:20260107T145141Z
UID:10031657-1768050000-1768060800@visitfloydva.com
SUMMARY:Jimmy the Jammer Live
DESCRIPTION:Enjoy live music at the brewery!
URL:https://visitfloydva.com/event/jimmy-the-jammer-live-3/
LOCATION:Buffalo Mountain Brewery & McDaniel’s Tavern\, 332 Webbs Mill Rd.\, Floyd\, VA\, 24091\, United States
GEO:36.9212216;-80.3255321
X-APPLE-STRUCTURED-LOCATION;VALUE=URI;X-ADDRESS=Buffalo Mountain Brewery & McDaniel’s Tavern 332 Webbs Mill Rd. Floyd VA 24091 United States;X-APPLE-RADIUS=500;X-TITLE=332 Webbs Mill Rd.:geo:-80.3255321,36.9212216
END:VEVENT
BEGIN:VEVENT
DTSTART;TZID=America/New_York:20260109T170000
DTEND;TZID=America/New_York:20260109T200000
DTSTAMP:20260419T214527
CREATED:20260107T144255Z
LAST-MODIFIED:20260107T144255Z
UID:10031656-1767978000-1767988800@visitfloydva.com
SUMMARY:Bob Chew Live
DESCRIPTION:Enjoy live music at the brewery!
URL:https://visitfloydva.com/event/bob-chew-live-4/
LOCATION:Buffalo Mountain Brewery & McDaniel’s Tavern\, 332 Webbs Mill Rd.\, Floyd\, VA\, 24091\, United States
GEO:36.9212216;-80.3255321
X-APPLE-STRUCTURED-LOCATION;VALUE=URI;X-ADDRESS=Buffalo Mountain Brewery & McDaniel’s Tavern 332 Webbs Mill Rd. Floyd VA 24091 United States;X-APPLE-RADIUS=500;X-TITLE=332 Webbs Mill Rd.:geo:-80.3255321,36.9212216
END:VEVENT
BEGIN:VEVENT
DTSTART;TZID=America/New_York:20260108T180000
DTEND;TZID=America/New_York:20260108T200000
DTSTAMP:20260419T214527
CREATED:20260107T144147Z
LAST-MODIFIED:20260107T144147Z
UID:10031655-1767895200-1767902400@visitfloydva.com
SUMMARY:Henry Hardt's Mudcats Live
DESCRIPTION:Enjoy live music at the brewery!
URL:https://visitfloydva.com/event/henry-hardts-mudcats-live-2/
LOCATION:Buffalo Mountain Brewery & McDaniel’s Tavern\, 332 Webbs Mill Rd.\, Floyd\, VA\, 24091\, United States
GEO:36.9212216;-80.3255321
X-APPLE-STRUCTURED-LOCATION;VALUE=URI;X-ADDRESS=Buffalo Mountain Brewery & McDaniel’s Tavern 332 Webbs Mill Rd. Floyd VA 24091 United States;X-APPLE-RADIUS=500;X-TITLE=332 Webbs Mill Rd.:geo:-80.3255321,36.9212216
END:VEVENT
BEGIN:VEVENT
DTSTART;TZID=America/New_York:20260108T160000
DTEND;TZID=America/New_York:20260108T190000
DTSTAMP:20260419T214527
CREATED:20211201T122116Z
LAST-MODIFIED:20251106T163202Z
UID:10026536-1767888000-1767898800@visitfloydva.com
SUMMARY:Happy Hour at the Brewery!
DESCRIPTION:Celebrate the weekend’s approach and enjoy $1 off all pint pours from 4-7pm at Buffalo Mountain Brewery.\nGrab your favorite local craft brew\, or try a new seasonal!
URL:https://visitfloydva.com/event/happy-hour-buffalo-mountain-brewery/2026-01-08/
LOCATION:Buffalo Mountain Brewery & McDaniel’s Tavern\, 332 Webbs Mill Rd.\, Floyd\, VA\, 24091\, United States
CATEGORIES:Brewery
ATTACH;FMTTYPE=image/jpeg:https://visitfloydva.com/wp-content/uploads/2021/11/Happy-Hour-2.jpg
GEO:36.9212216;-80.3255321
X-APPLE-STRUCTURED-LOCATION;VALUE=URI;X-ADDRESS=Buffalo Mountain Brewery & McDaniel’s Tavern 332 Webbs Mill Rd. Floyd VA 24091 United States;X-APPLE-RADIUS=500;X-TITLE=332 Webbs Mill Rd.:geo:-80.3255321,36.9212216
END:VEVENT
BEGIN:VEVENT
DTSTART;TZID=America/New_York:20260104T140000
DTEND;TZID=America/New_York:20260104T170000
DTSTAMP:20260419T214527
CREATED:20251231T221405Z
LAST-MODIFIED:20251231T221405Z
UID:10031594-1767535200-1767546000@visitfloydva.com
SUMMARY:Rosebud Live
DESCRIPTION:Live music at the brewery!
URL:https://visitfloydva.com/event/rosebud-live-2/
LOCATION:Buffalo Mountain Brewery & McDaniel’s Tavern\, 332 Webbs Mill Rd.\, Floyd\, VA\, 24091\, United States
GEO:36.9212216;-80.3255321
X-APPLE-STRUCTURED-LOCATION;VALUE=URI;X-ADDRESS=Buffalo Mountain Brewery & McDaniel’s Tavern 332 Webbs Mill Rd. Floyd VA 24091 United States;X-APPLE-RADIUS=500;X-TITLE=332 Webbs Mill Rd.:geo:-80.3255321,36.9212216
END:VEVENT
BEGIN:VEVENT
DTSTART;TZID=America/New_York:20260103T170000
DTEND;TZID=America/New_York:20260103T200000
DTSTAMP:20260419T214527
CREATED:20251231T221441Z
LAST-MODIFIED:20251231T221441Z
UID:10031595-1767459600-1767470400@visitfloydva.com
SUMMARY:Allen Surface Live
DESCRIPTION:Live music at the brewery!
URL:https://visitfloydva.com/event/allen-surface-live/
LOCATION:Buffalo Mountain Brewery & McDaniel’s Tavern\, 332 Webbs Mill Rd.\, Floyd\, VA\, 24091\, United States
GEO:36.9212216;-80.3255321
X-APPLE-STRUCTURED-LOCATION;VALUE=URI;X-ADDRESS=Buffalo Mountain Brewery & McDaniel’s Tavern 332 Webbs Mill Rd. Floyd VA 24091 United States;X-APPLE-RADIUS=500;X-TITLE=332 Webbs Mill Rd.:geo:-80.3255321,36.9212216
END:VEVENT
BEGIN:VEVENT
DTSTART;TZID=America/New_York:20260103T130000
DTEND;TZID=America/New_York:20260103T160000
DTSTAMP:20260419T214527
CREATED:20251231T221341Z
LAST-MODIFIED:20251231T221341Z
UID:10031593-1767445200-1767456000@visitfloydva.com
SUMMARY:Luke King Live
DESCRIPTION:Live music at the brewery!
URL:https://visitfloydva.com/event/luke-king-live/
LOCATION:Buffalo Mountain Brewery & McDaniel’s Tavern\, 332 Webbs Mill Rd.\, Floyd\, VA\, 24091\, United States
GEO:36.9212216;-80.3255321
X-APPLE-STRUCTURED-LOCATION;VALUE=URI;X-ADDRESS=Buffalo Mountain Brewery & McDaniel’s Tavern 332 Webbs Mill Rd. Floyd VA 24091 United States;X-APPLE-RADIUS=500;X-TITLE=332 Webbs Mill Rd.:geo:-80.3255321,36.9212216
END:VEVENT
BEGIN:VEVENT
DTSTART;TZID=America/New_York:20260102T170000
DTEND;TZID=America/New_York:20260102T200000
DTSTAMP:20260419T214527
CREATED:20251231T221257Z
LAST-MODIFIED:20251231T221257Z
UID:10031592-1767373200-1767384000@visitfloydva.com
SUMMARY:Robert Martin Live
DESCRIPTION:Live music at the brewery!
URL:https://visitfloydva.com/event/robert-martin-live/
LOCATION:Buffalo Mountain Brewery & McDaniel’s Tavern\, 332 Webbs Mill Rd.\, Floyd\, VA\, 24091\, United States
GEO:36.9212216;-80.3255321
X-APPLE-STRUCTURED-LOCATION;VALUE=URI;X-ADDRESS=Buffalo Mountain Brewery & McDaniel’s Tavern 332 Webbs Mill Rd. Floyd VA 24091 United States;X-APPLE-RADIUS=500;X-TITLE=332 Webbs Mill Rd.:geo:-80.3255321,36.9212216
END:VEVENT
BEGIN:VEVENT
DTSTART;TZID=America/New_York:20260101T160000
DTEND;TZID=America/New_York:20260101T190000
DTSTAMP:20260419T214527
CREATED:20211201T122116Z
LAST-MODIFIED:20251106T163202Z
UID:10026535-1767283200-1767294000@visitfloydva.com
SUMMARY:Happy Hour at the Brewery!
DESCRIPTION:Celebrate the weekend’s approach and enjoy $1 off all pint pours from 4-7pm at Buffalo Mountain Brewery.\nGrab your favorite local craft brew\, or try a new seasonal!
URL:https://visitfloydva.com/event/happy-hour-buffalo-mountain-brewery/2026-01-01/
LOCATION:Buffalo Mountain Brewery & McDaniel’s Tavern\, 332 Webbs Mill Rd.\, Floyd\, VA\, 24091\, United States
CATEGORIES:Brewery
ATTACH;FMTTYPE=image/jpeg:https://visitfloydva.com/wp-content/uploads/2021/11/Happy-Hour-2.jpg
GEO:36.9212216;-80.3255321
X-APPLE-STRUCTURED-LOCATION;VALUE=URI;X-ADDRESS=Buffalo Mountain Brewery & McDaniel’s Tavern 332 Webbs Mill Rd. Floyd VA 24091 United States;X-APPLE-RADIUS=500;X-TITLE=332 Webbs Mill Rd.:geo:-80.3255321,36.9212216
END:VEVENT
BEGIN:VEVENT
DTSTART;TZID=America/New_York:20251228T140000
DTEND;TZID=America/New_York:20251228T170000
DTSTAMP:20260419T214527
CREATED:20251204T135454Z
LAST-MODIFIED:20251204T135454Z
UID:10030895-1766930400-1766941200@visitfloydva.com
SUMMARY:Bob Grubel Live
DESCRIPTION:Catch live music at Buffalo Mountain Brewery!
URL:https://visitfloydva.com/event/bob-grubel-live-3/2025-12-28/
LOCATION:Buffalo Mountain Brewery & McDaniel’s Tavern\, 332 Webbs Mill Rd.\, Floyd\, VA\, 24091\, United States
GEO:36.9212216;-80.3255321
X-APPLE-STRUCTURED-LOCATION;VALUE=URI;X-ADDRESS=Buffalo Mountain Brewery & McDaniel’s Tavern 332 Webbs Mill Rd. Floyd VA 24091 United States;X-APPLE-RADIUS=500;X-TITLE=332 Webbs Mill Rd.:geo:-80.3255321,36.9212216
END:VEVENT
BEGIN:VEVENT
DTSTART;TZID=America/New_York:20251227T170000
DTEND;TZID=America/New_York:20251227T200000
DTSTAMP:20260419T214527
CREATED:20251204T135651Z
LAST-MODIFIED:20251204T135651Z
UID:10030898-1766854800-1766865600@visitfloydva.com
SUMMARY:Dan Fox Live
DESCRIPTION:Catch live music at Buffalo Mountain Brewery!
URL:https://visitfloydva.com/event/dan-fox-live-3/
LOCATION:Buffalo Mountain Brewery & McDaniel’s Tavern\, 332 Webbs Mill Rd.\, Floyd\, VA\, 24091\, United States
GEO:36.9212216;-80.3255321
X-APPLE-STRUCTURED-LOCATION;VALUE=URI;X-ADDRESS=Buffalo Mountain Brewery & McDaniel’s Tavern 332 Webbs Mill Rd. Floyd VA 24091 United States;X-APPLE-RADIUS=500;X-TITLE=332 Webbs Mill Rd.:geo:-80.3255321,36.9212216
END:VEVENT
BEGIN:VEVENT
DTSTART;TZID=America/New_York:20251227T130000
DTEND;TZID=America/New_York:20251227T160000
DTSTAMP:20260419T214527
CREATED:20251204T135619Z
LAST-MODIFIED:20251204T135619Z
UID:10030897-1766840400-1766851200@visitfloydva.com
SUMMARY:Rock Castle Gorgeous Live
DESCRIPTION:Catch live music at Buffalo Mountain Brewery!
URL:https://visitfloydva.com/event/rock-castle-gorgeous-live/
LOCATION:Buffalo Mountain Brewery & McDaniel’s Tavern\, 332 Webbs Mill Rd.\, Floyd\, VA\, 24091\, United States
GEO:36.9212216;-80.3255321
X-APPLE-STRUCTURED-LOCATION;VALUE=URI;X-ADDRESS=Buffalo Mountain Brewery & McDaniel’s Tavern 332 Webbs Mill Rd. Floyd VA 24091 United States;X-APPLE-RADIUS=500;X-TITLE=332 Webbs Mill Rd.:geo:-80.3255321,36.9212216
END:VEVENT
BEGIN:VEVENT
DTSTART;TZID=America/New_York:20251225T160000
DTEND;TZID=America/New_York:20251225T190000
DTSTAMP:20260419T214527
CREATED:20211201T122116Z
LAST-MODIFIED:20251106T163202Z
UID:10026534-1766678400-1766689200@visitfloydva.com
SUMMARY:Happy Hour at the Brewery!
DESCRIPTION:Celebrate the weekend’s approach and enjoy $1 off all pint pours from 4-7pm at Buffalo Mountain Brewery.\nGrab your favorite local craft brew\, or try a new seasonal!
URL:https://visitfloydva.com/event/happy-hour-buffalo-mountain-brewery/2025-12-25/
LOCATION:Buffalo Mountain Brewery & McDaniel’s Tavern\, 332 Webbs Mill Rd.\, Floyd\, VA\, 24091\, United States
CATEGORIES:Brewery
ATTACH;FMTTYPE=image/jpeg:https://visitfloydva.com/wp-content/uploads/2021/11/Happy-Hour-2.jpg
GEO:36.9212216;-80.3255321
X-APPLE-STRUCTURED-LOCATION;VALUE=URI;X-ADDRESS=Buffalo Mountain Brewery & McDaniel’s Tavern 332 Webbs Mill Rd. Floyd VA 24091 United States;X-APPLE-RADIUS=500;X-TITLE=332 Webbs Mill Rd.:geo:-80.3255321,36.9212216
END:VEVENT
BEGIN:VEVENT
DTSTART;TZID=America/New_York:20251221T140000
DTEND;TZID=America/New_York:20251221T170000
DTSTAMP:20260419T214527
CREATED:20251204T135535Z
LAST-MODIFIED:20251204T135535Z
UID:10030896-1766325600-1766336400@visitfloydva.com
SUMMARY:The Grateful Dads Live
DESCRIPTION:Catch live music at Buffalo Mountain Brewery!
URL:https://visitfloydva.com/event/the-grateful-dads-live/
LOCATION:Buffalo Mountain Brewery & McDaniel’s Tavern\, 332 Webbs Mill Rd.\, Floyd\, VA\, 24091\, United States
GEO:36.9212216;-80.3255321
X-APPLE-STRUCTURED-LOCATION;VALUE=URI;X-ADDRESS=Buffalo Mountain Brewery & McDaniel’s Tavern 332 Webbs Mill Rd. Floyd VA 24091 United States;X-APPLE-RADIUS=500;X-TITLE=332 Webbs Mill Rd.:geo:-80.3255321,36.9212216
END:VEVENT
BEGIN:VEVENT
DTSTART;TZID=America/New_York:20251220T170000
DTEND;TZID=America/New_York:20251220T200000
DTSTAMP:20260419T214527
CREATED:20251204T135454Z
LAST-MODIFIED:20251204T135454Z
UID:10030894-1766250000-1766260800@visitfloydva.com
SUMMARY:Bob Grubel Live
DESCRIPTION:Catch live music at Buffalo Mountain Brewery!
URL:https://visitfloydva.com/event/bob-grubel-live-3/2025-12-20/
LOCATION:Buffalo Mountain Brewery & McDaniel’s Tavern\, 332 Webbs Mill Rd.\, Floyd\, VA\, 24091\, United States
GEO:36.9212216;-80.3255321
X-APPLE-STRUCTURED-LOCATION;VALUE=URI;X-ADDRESS=Buffalo Mountain Brewery & McDaniel’s Tavern 332 Webbs Mill Rd. Floyd VA 24091 United States;X-APPLE-RADIUS=500;X-TITLE=332 Webbs Mill Rd.:geo:-80.3255321,36.9212216
END:VEVENT
BEGIN:VEVENT
DTSTART;TZID=America/New_York:20251220T130000
DTEND;TZID=America/New_York:20251220T160000
DTSTAMP:20260419T214527
CREATED:20251218T153333Z
LAST-MODIFIED:20251218T153334Z
UID:10030885-1766235600-1766246400@visitfloydva.com
SUMMARY:Jimmy the Jammer Live
DESCRIPTION:Catch live music at Buffalo Mountain Brewery!
URL:https://visitfloydva.com/event/jimmy-the-jammer-live-2-2/
LOCATION:Buffalo Mountain Brewery & McDaniel’s Tavern\, 332 Webbs Mill Rd.\, Floyd\, VA\, 24091\, United States
GEO:36.9212216;-80.3255321
X-APPLE-STRUCTURED-LOCATION;VALUE=URI;X-ADDRESS=Buffalo Mountain Brewery & McDaniel’s Tavern 332 Webbs Mill Rd. Floyd VA 24091 United States;X-APPLE-RADIUS=500;X-TITLE=332 Webbs Mill Rd.:geo:-80.3255321,36.9212216
END:VEVENT
BEGIN:VEVENT
DTSTART;TZID=America/New_York:20251219T170000
DTEND;TZID=America/New_York:20251219T200000
DTSTAMP:20260419T214527
CREATED:20251204T134934Z
LAST-MODIFIED:20251204T135121Z
UID:10030889-1766163600-1766174400@visitfloydva.com
SUMMARY:Barry LeNoir Live
DESCRIPTION:Catch live music at Buffalo Mountain Brewery!
URL:https://visitfloydva.com/event/barry-lenoir-live-8/2025-12-19/
LOCATION:Buffalo Mountain Brewery & McDaniel’s Tavern\, 332 Webbs Mill Rd.\, Floyd\, VA\, 24091\, United States
GEO:36.9212216;-80.3255321
X-APPLE-STRUCTURED-LOCATION;VALUE=URI;X-ADDRESS=Buffalo Mountain Brewery & McDaniel’s Tavern 332 Webbs Mill Rd. Floyd VA 24091 United States;X-APPLE-RADIUS=500;X-TITLE=332 Webbs Mill Rd.:geo:-80.3255321,36.9212216
END:VEVENT
BEGIN:VEVENT
DTSTART;TZID=America/New_York:20251218T180000
DTEND;TZID=America/New_York:20251218T200000
DTSTAMP:20260419T214527
CREATED:20251204T135400Z
LAST-MODIFIED:20251204T135400Z
UID:10030893-1766080800-1766088000@visitfloydva.com
SUMMARY:Not on the List Live
DESCRIPTION:Catch live music at Buffalo Mountain Brewery!
URL:https://visitfloydva.com/event/not-on-the-list-live-3/
LOCATION:Buffalo Mountain Brewery & McDaniel’s Tavern\, 332 Webbs Mill Rd.\, Floyd\, VA\, 24091\, United States
GEO:36.9212216;-80.3255321
X-APPLE-STRUCTURED-LOCATION;VALUE=URI;X-ADDRESS=Buffalo Mountain Brewery & McDaniel’s Tavern 332 Webbs Mill Rd. Floyd VA 24091 United States;X-APPLE-RADIUS=500;X-TITLE=332 Webbs Mill Rd.:geo:-80.3255321,36.9212216
END:VEVENT
BEGIN:VEVENT
DTSTART;TZID=America/New_York:20251218T160000
DTEND;TZID=America/New_York:20251218T190000
DTSTAMP:20260419T214527
CREATED:20211201T122116Z
LAST-MODIFIED:20251106T163202Z
UID:10026533-1766073600-1766084400@visitfloydva.com
SUMMARY:Happy Hour at the Brewery!
DESCRIPTION:Celebrate the weekend’s approach and enjoy $1 off all pint pours from 4-7pm at Buffalo Mountain Brewery.\nGrab your favorite local craft brew\, or try a new seasonal!
URL:https://visitfloydva.com/event/happy-hour-buffalo-mountain-brewery/2025-12-18/
LOCATION:Buffalo Mountain Brewery & McDaniel’s Tavern\, 332 Webbs Mill Rd.\, Floyd\, VA\, 24091\, United States
CATEGORIES:Brewery
ATTACH;FMTTYPE=image/jpeg:https://visitfloydva.com/wp-content/uploads/2021/11/Happy-Hour-2.jpg
GEO:36.9212216;-80.3255321
X-APPLE-STRUCTURED-LOCATION;VALUE=URI;X-ADDRESS=Buffalo Mountain Brewery & McDaniel’s Tavern 332 Webbs Mill Rd. Floyd VA 24091 United States;X-APPLE-RADIUS=500;X-TITLE=332 Webbs Mill Rd.:geo:-80.3255321,36.9212216
END:VEVENT
BEGIN:VEVENT
DTSTART;TZID=America/New_York:20251214T140000
DTEND;TZID=America/New_York:20251214T170000
DTSTAMP:20260419T214527
CREATED:20251204T135335Z
LAST-MODIFIED:20251204T135335Z
UID:10030892-1765720800-1765731600@visitfloydva.com
SUMMARY:Celtic Ceilidh Live
DESCRIPTION:Catch live music at Buffalo Mountain Brewery!
URL:https://visitfloydva.com/event/celtic-ceilidh-live/
LOCATION:Buffalo Mountain Brewery & McDaniel’s Tavern\, 332 Webbs Mill Rd.\, Floyd\, VA\, 24091\, United States
GEO:36.9212216;-80.3255321
X-APPLE-STRUCTURED-LOCATION;VALUE=URI;X-ADDRESS=Buffalo Mountain Brewery & McDaniel’s Tavern 332 Webbs Mill Rd. Floyd VA 24091 United States;X-APPLE-RADIUS=500;X-TITLE=332 Webbs Mill Rd.:geo:-80.3255321,36.9212216
END:VEVENT
BEGIN:VEVENT
DTSTART;TZID=America/New_York:20251213T170000
DTEND;TZID=America/New_York:20251213T200000
DTSTAMP:20260419T214527
CREATED:20251204T135235Z
LAST-MODIFIED:20251204T135235Z
UID:10030891-1765645200-1765656000@visitfloydva.com
SUMMARY:Bob Chew Live
DESCRIPTION:Catch live music at Buffalo Mountain Brewery!
URL:https://visitfloydva.com/event/bob-chew-live-3/
LOCATION:Buffalo Mountain Brewery & McDaniel’s Tavern\, 332 Webbs Mill Rd.\, Floyd\, VA\, 24091\, United States
GEO:36.9212216;-80.3255321
X-APPLE-STRUCTURED-LOCATION;VALUE=URI;X-ADDRESS=Buffalo Mountain Brewery & McDaniel’s Tavern 332 Webbs Mill Rd. Floyd VA 24091 United States;X-APPLE-RADIUS=500;X-TITLE=332 Webbs Mill Rd.:geo:-80.3255321,36.9212216
END:VEVENT
BEGIN:VEVENT
DTSTART;TZID=America/New_York:20251213T130000
DTEND;TZID=America/New_York:20251213T160000
DTSTAMP:20260419T214527
CREATED:20251204T135202Z
LAST-MODIFIED:20251204T135202Z
UID:10030890-1765630800-1765641600@visitfloydva.com
SUMMARY:Clay Blevins Live
DESCRIPTION:Catch live music at Buffalo Mountain Brewery!
URL:https://visitfloydva.com/event/clay-blevins-live-5/
LOCATION:Buffalo Mountain Brewery & McDaniel’s Tavern\, 332 Webbs Mill Rd.\, Floyd\, VA\, 24091\, United States
GEO:36.9212216;-80.3255321
X-APPLE-STRUCTURED-LOCATION;VALUE=URI;X-ADDRESS=Buffalo Mountain Brewery & McDaniel’s Tavern 332 Webbs Mill Rd. Floyd VA 24091 United States;X-APPLE-RADIUS=500;X-TITLE=332 Webbs Mill Rd.:geo:-80.3255321,36.9212216
END:VEVENT
BEGIN:VEVENT
DTSTART;TZID=America/New_York:20251212T170000
DTEND;TZID=America/New_York:20251212T200000
DTSTAMP:20260419T214527
CREATED:20251204T135019Z
LAST-MODIFIED:20251204T135019Z
UID:10030888-1765558800-1765569600@visitfloydva.com
SUMMARY:2nd Wind Live
DESCRIPTION:Catch live music at Buffalo Mountain Brewery!
URL:https://visitfloydva.com/event/2nd-wind-live-2/
LOCATION:Buffalo Mountain Brewery & McDaniel’s Tavern\, 332 Webbs Mill Rd.\, Floyd\, VA\, 24091\, United States
GEO:36.9212216;-80.3255321
X-APPLE-STRUCTURED-LOCATION;VALUE=URI;X-ADDRESS=Buffalo Mountain Brewery & McDaniel’s Tavern 332 Webbs Mill Rd. Floyd VA 24091 United States;X-APPLE-RADIUS=500;X-TITLE=332 Webbs Mill Rd.:geo:-80.3255321,36.9212216
END:VEVENT
BEGIN:VEVENT
DTSTART;TZID=America/New_York:20251211T180000
DTEND;TZID=America/New_York:20251211T200000
DTSTAMP:20260419T214527
CREATED:20250909T175927Z
LAST-MODIFIED:20250909T175927Z
UID:10030381-1765476000-1765483200@visitfloydva.com
SUMMARY:Henry Hardt's Mudcats
DESCRIPTION:Henry Hardt’s Mudcats are Jeff Liverman\, Jeremia Dwier\, Barb Gillespie\, Ray Braley and Will Norton. The band sings and plays Piedmont and old time street blues\, reveling in music penned earlier in the 20th century\, from Charlie Pool to Muddy Water to Robert Johnson and the Mississippi Sheiks. The Mudcat’s specialize in illuminating the influence that old style street music including blues and jug band sounds had on modern Rock and Roll. They play songs made popular by such artists as Rolling Stones\, Bob Dylan\, Nirvanas and Eric Clapton but they play in the style of the original recordings from the 1920s and 30s. Henry Hardt’s Mudcats are a fun\, danceable look back at some of the most influential music of the last three generations.
URL:https://visitfloydva.com/event/henry-hardts-mudcats-2/2025-12-11/
LOCATION:Buffalo Mountain Brewery & McDaniel’s Tavern\, 332 Webbs Mill Rd.\, Floyd\, VA\, 24091\, United States
GEO:36.9212216;-80.3255321
X-APPLE-STRUCTURED-LOCATION;VALUE=URI;X-ADDRESS=Buffalo Mountain Brewery & McDaniel’s Tavern 332 Webbs Mill Rd. Floyd VA 24091 United States;X-APPLE-RADIUS=500;X-TITLE=332 Webbs Mill Rd.:geo:-80.3255321,36.9212216
END:VEVENT
BEGIN:VEVENT
DTSTART;TZID=America/New_York:20251211T160000
DTEND;TZID=America/New_York:20251211T190000
DTSTAMP:20260419T214527
CREATED:20211201T122116Z
LAST-MODIFIED:20251106T163202Z
UID:10026532-1765468800-1765479600@visitfloydva.com
SUMMARY:Happy Hour at the Brewery!
DESCRIPTION:Celebrate the weekend’s approach and enjoy $1 off all pint pours from 4-7pm at Buffalo Mountain Brewery.\nGrab your favorite local craft brew\, or try a new seasonal!
URL:https://visitfloydva.com/event/happy-hour-buffalo-mountain-brewery/2025-12-11/
LOCATION:Buffalo Mountain Brewery & McDaniel’s Tavern\, 332 Webbs Mill Rd.\, Floyd\, VA\, 24091\, United States
CATEGORIES:Brewery
ATTACH;FMTTYPE=image/jpeg:https://visitfloydva.com/wp-content/uploads/2021/11/Happy-Hour-2.jpg
GEO:36.9212216;-80.3255321
X-APPLE-STRUCTURED-LOCATION;VALUE=URI;X-ADDRESS=Buffalo Mountain Brewery & McDaniel’s Tavern 332 Webbs Mill Rd. Floyd VA 24091 United States;X-APPLE-RADIUS=500;X-TITLE=332 Webbs Mill Rd.:geo:-80.3255321,36.9212216
END:VEVENT
BEGIN:VEVENT
DTSTART;TZID=America/New_York:20251207T140000
DTEND;TZID=America/New_York:20251207T170000
DTSTAMP:20260419T214527
CREATED:20251204T134934Z
LAST-MODIFIED:20251204T135121Z
UID:10030887-1765116000-1765126800@visitfloydva.com
SUMMARY:Barry LeNoir Live
DESCRIPTION:Catch live music at Buffalo Mountain Brewery!
URL:https://visitfloydva.com/event/barry-lenoir-live-8/2025-12-07/
LOCATION:Buffalo Mountain Brewery & McDaniel’s Tavern\, 332 Webbs Mill Rd.\, Floyd\, VA\, 24091\, United States
GEO:36.9212216;-80.3255321
X-APPLE-STRUCTURED-LOCATION;VALUE=URI;X-ADDRESS=Buffalo Mountain Brewery & McDaniel’s Tavern 332 Webbs Mill Rd. Floyd VA 24091 United States;X-APPLE-RADIUS=500;X-TITLE=332 Webbs Mill Rd.:geo:-80.3255321,36.9212216
END:VEVENT
BEGIN:VEVENT
DTSTART;TZID=America/New_York:20251206T130000
DTEND;TZID=America/New_York:20251206T160000
DTSTAMP:20260419T214527
CREATED:20251204T134855Z
LAST-MODIFIED:20251204T134926Z
UID:10030886-1765026000-1765036800@visitfloydva.com
SUMMARY:Walkers Creek & The Hound Dogs Live
DESCRIPTION:Catch live music at Buffalo Mountain Brewery!
URL:https://visitfloydva.com/event/walkers-creek-the-hound-dogs-2/
LOCATION:Buffalo Mountain Brewery & McDaniel’s Tavern\, 332 Webbs Mill Rd.\, Floyd\, VA\, 24091\, United States
GEO:36.9212216;-80.3255321
X-APPLE-STRUCTURED-LOCATION;VALUE=URI;X-ADDRESS=Buffalo Mountain Brewery & McDaniel’s Tavern 332 Webbs Mill Rd. Floyd VA 24091 United States;X-APPLE-RADIUS=500;X-TITLE=332 Webbs Mill Rd.:geo:-80.3255321,36.9212216
END:VEVENT
END:VCALENDAR