BEGIN:VCALENDAR
VERSION:2.0
PRODID:-//Visit Floyd Virginia - ECPv6.15.20//NONSGML v1.0//EN
CALSCALE:GREGORIAN
METHOD:PUBLISH
X-ORIGINAL-URL:https://visitfloydva.com
X-WR-CALDESC:Events for Visit Floyd Virginia
REFRESH-INTERVAL;VALUE=DURATION:PT1H
X-Robots-Tag:noindex
X-PUBLISHED-TTL:PT1H
BEGIN:VTIMEZONE
TZID:America/New_York
BEGIN:DAYLIGHT
TZOFFSETFROM:-0500
TZOFFSETTO:-0400
TZNAME:EDT
DTSTART:20250309T070000
END:DAYLIGHT
BEGIN:STANDARD
TZOFFSETFROM:-0400
TZOFFSETTO:-0500
TZNAME:EST
DTSTART:20251102T060000
END:STANDARD
BEGIN:DAYLIGHT
TZOFFSETFROM:-0500
TZOFFSETTO:-0400
TZNAME:EDT
DTSTART:20260308T070000
END:DAYLIGHT
BEGIN:STANDARD
TZOFFSETFROM:-0400
TZOFFSETTO:-0500
TZNAME:EST
DTSTART:20261101T060000
END:STANDARD
BEGIN:DAYLIGHT
TZOFFSETFROM:-0500
TZOFFSETTO:-0400
TZNAME:EDT
DTSTART:20270314T070000
END:DAYLIGHT
BEGIN:STANDARD
TZOFFSETFROM:-0400
TZOFFSETTO:-0500
TZNAME:EST
DTSTART:20271107T060000
END:STANDARD
END:VTIMEZONE
BEGIN:VEVENT
DTSTART;TZID=America/New_York:20260210T180000
DTEND;TZID=America/New_York:20260210T200000
DTSTAMP:20260419T195934
CREATED:20251215T201006Z
LAST-MODIFIED:20251215T201006Z
UID:10031314-1770746400-1770753600@visitfloydva.com
SUMMARY:Bingo at the Brewery!
DESCRIPTION:On Tuesdays\, we play BINGO! \nRounds are called from 6-8pm and the nachos are served all evening long!\nFeaturing amazing local business sponsors and some fantastic prizes!\n$1 per card\, max of 3 cards per person.
URL:https://visitfloydva.com/event/bingo-at-the-brewery/2026-02-10/
LOCATION:Buffalo Mountain Brewery & McDaniel’s Tavern\, 332 Webbs Mill Rd.\, Floyd\, VA\, 24091\, United States
GEO:36.9212216;-80.3255321
X-APPLE-STRUCTURED-LOCATION;VALUE=URI;X-ADDRESS=Buffalo Mountain Brewery & McDaniel’s Tavern 332 Webbs Mill Rd. Floyd VA 24091 United States;X-APPLE-RADIUS=500;X-TITLE=332 Webbs Mill Rd.:geo:-80.3255321,36.9212216
END:VEVENT
BEGIN:VEVENT
DTSTART;TZID=America/New_York:20260208T140000
DTEND;TZID=America/New_York:20260208T170000
DTSTAMP:20260419T195934
CREATED:20260205T163816Z
LAST-MODIFIED:20260205T163816Z
UID:10031725-1770559200-1770570000@visitfloydva.com
SUMMARY:Celtic Ceilidh Live
DESCRIPTION:Enjoy live music and brews!
URL:https://visitfloydva.com/event/celtic-ceilidh-live-3/
LOCATION:Buffalo Mountain Brewery & McDaniel’s Tavern\, 332 Webbs Mill Rd.\, Floyd\, VA\, 24091\, United States
GEO:36.9212216;-80.3255321
X-APPLE-STRUCTURED-LOCATION;VALUE=URI;X-ADDRESS=Buffalo Mountain Brewery & McDaniel’s Tavern 332 Webbs Mill Rd. Floyd VA 24091 United States;X-APPLE-RADIUS=500;X-TITLE=332 Webbs Mill Rd.:geo:-80.3255321,36.9212216
END:VEVENT
BEGIN:VEVENT
DTSTART;TZID=America/New_York:20260207T170000
DTEND;TZID=America/New_York:20260207T200000
DTSTAMP:20260419T195934
CREATED:20260205T163746Z
LAST-MODIFIED:20260205T163746Z
UID:10031724-1770483600-1770494400@visitfloydva.com
SUMMARY:Robert Martin Live
DESCRIPTION:Enjoy live music and brews!
URL:https://visitfloydva.com/event/robert-martin-live-2/
LOCATION:Buffalo Mountain Brewery & McDaniel’s Tavern\, 332 Webbs Mill Rd.\, Floyd\, VA\, 24091\, United States
GEO:36.9212216;-80.3255321
X-APPLE-STRUCTURED-LOCATION;VALUE=URI;X-ADDRESS=Buffalo Mountain Brewery & McDaniel’s Tavern 332 Webbs Mill Rd. Floyd VA 24091 United States;X-APPLE-RADIUS=500;X-TITLE=332 Webbs Mill Rd.:geo:-80.3255321,36.9212216
END:VEVENT
BEGIN:VEVENT
DTSTART;TZID=America/New_York:20260207T130000
DTEND;TZID=America/New_York:20260207T160000
DTSTAMP:20260419T195934
CREATED:20260205T163706Z
LAST-MODIFIED:20260205T163706Z
UID:10031723-1770469200-1770480000@visitfloydva.com
SUMMARY:Luke King Live
DESCRIPTION:Enjoy live music and brews!
URL:https://visitfloydva.com/event/luke-king-live-2/
LOCATION:Buffalo Mountain Brewery & McDaniel’s Tavern\, 332 Webbs Mill Rd.\, Floyd\, VA\, 24091\, United States
GEO:36.9212216;-80.3255321
X-APPLE-STRUCTURED-LOCATION;VALUE=URI;X-ADDRESS=Buffalo Mountain Brewery & McDaniel’s Tavern 332 Webbs Mill Rd. Floyd VA 24091 United States;X-APPLE-RADIUS=500;X-TITLE=332 Webbs Mill Rd.:geo:-80.3255321,36.9212216
END:VEVENT
BEGIN:VEVENT
DTSTART;TZID=America/New_York:20260206T170000
DTEND;TZID=America/New_York:20260206T200000
DTSTAMP:20260419T195934
CREATED:20260205T163539Z
LAST-MODIFIED:20260205T163539Z
UID:10031722-1770397200-1770408000@visitfloydva.com
SUMMARY:Allen Surface Live
DESCRIPTION:Enjoy live music and brews!
URL:https://visitfloydva.com/event/allen-surface-live-2/
LOCATION:Buffalo Mountain Brewery & McDaniel’s Tavern\, 332 Webbs Mill Rd.\, Floyd\, VA\, 24091\, United States
GEO:36.9212216;-80.3255321
X-APPLE-STRUCTURED-LOCATION;VALUE=URI;X-ADDRESS=Buffalo Mountain Brewery & McDaniel’s Tavern 332 Webbs Mill Rd. Floyd VA 24091 United States;X-APPLE-RADIUS=500;X-TITLE=332 Webbs Mill Rd.:geo:-80.3255321,36.9212216
END:VEVENT
BEGIN:VEVENT
DTSTART;TZID=America/New_York:20260205T180000
DTEND;TZID=America/New_York:20260205T200000
DTSTAMP:20260419T195934
CREATED:20260205T163507Z
LAST-MODIFIED:20260205T163507Z
UID:10031720-1770314400-1770321600@visitfloydva.com
SUMMARY:Dog Water Live
DESCRIPTION:Enjoy live music and brews!
URL:https://visitfloydva.com/event/dog-water-live-7/2026-02-05/
LOCATION:Buffalo Mountain Brewery & McDaniel’s Tavern\, 332 Webbs Mill Rd.\, Floyd\, VA\, 24091\, United States
GEO:36.9212216;-80.3255321
X-APPLE-STRUCTURED-LOCATION;VALUE=URI;X-ADDRESS=Buffalo Mountain Brewery & McDaniel’s Tavern 332 Webbs Mill Rd. Floyd VA 24091 United States;X-APPLE-RADIUS=500;X-TITLE=332 Webbs Mill Rd.:geo:-80.3255321,36.9212216
END:VEVENT
BEGIN:VEVENT
DTSTART;TZID=America/New_York:20260203T180000
DTEND;TZID=America/New_York:20260203T200000
DTSTAMP:20260419T195934
CREATED:20251215T201006Z
LAST-MODIFIED:20251215T201006Z
UID:10031313-1770141600-1770148800@visitfloydva.com
SUMMARY:Bingo at the Brewery!
DESCRIPTION:On Tuesdays\, we play BINGO! \nRounds are called from 6-8pm and the nachos are served all evening long!\nFeaturing amazing local business sponsors and some fantastic prizes!\n$1 per card\, max of 3 cards per person.
URL:https://visitfloydva.com/event/bingo-at-the-brewery/2026-02-03/
LOCATION:Buffalo Mountain Brewery & McDaniel’s Tavern\, 332 Webbs Mill Rd.\, Floyd\, VA\, 24091\, United States
GEO:36.9212216;-80.3255321
X-APPLE-STRUCTURED-LOCATION;VALUE=URI;X-ADDRESS=Buffalo Mountain Brewery & McDaniel’s Tavern 332 Webbs Mill Rd. Floyd VA 24091 United States;X-APPLE-RADIUS=500;X-TITLE=332 Webbs Mill Rd.:geo:-80.3255321,36.9212216
END:VEVENT
BEGIN:VEVENT
DTSTART;TZID=America/New_York:20260131T170000
DTEND;TZID=America/New_York:20260131T200000
DTSTAMP:20260419T195934
CREATED:20260122T163229Z
LAST-MODIFIED:20260122T163229Z
UID:10031699-1769878800-1769889600@visitfloydva.com
SUMMARY:Clay Blevins Live
DESCRIPTION:Enjoy live music and brews!
URL:https://visitfloydva.com/event/clay-blevins-live-6/
LOCATION:Buffalo Mountain Brewery & McDaniel’s Tavern\, 332 Webbs Mill Rd.\, Floyd\, VA\, 24091\, United States
GEO:36.9212216;-80.3255321
X-APPLE-STRUCTURED-LOCATION;VALUE=URI;X-ADDRESS=Buffalo Mountain Brewery & McDaniel’s Tavern 332 Webbs Mill Rd. Floyd VA 24091 United States;X-APPLE-RADIUS=500;X-TITLE=332 Webbs Mill Rd.:geo:-80.3255321,36.9212216
END:VEVENT
BEGIN:VEVENT
DTSTART;TZID=America/New_York:20260131T130000
DTEND;TZID=America/New_York:20260131T160000
DTSTAMP:20260419T195934
CREATED:20260122T163210Z
LAST-MODIFIED:20260122T163210Z
UID:10031698-1769864400-1769875200@visitfloydva.com
SUMMARY:Chandler Walker Live
DESCRIPTION:Enjoy live music and brews!
URL:https://visitfloydva.com/event/chandler-walker-live/
LOCATION:Buffalo Mountain Brewery & McDaniel’s Tavern\, 332 Webbs Mill Rd.\, Floyd\, VA\, 24091\, United States
GEO:36.9212216;-80.3255321
X-APPLE-STRUCTURED-LOCATION;VALUE=URI;X-ADDRESS=Buffalo Mountain Brewery & McDaniel’s Tavern 332 Webbs Mill Rd. Floyd VA 24091 United States;X-APPLE-RADIUS=500;X-TITLE=332 Webbs Mill Rd.:geo:-80.3255321,36.9212216
END:VEVENT
BEGIN:VEVENT
DTSTART;TZID=America/New_York:20260130T170000
DTEND;TZID=America/New_York:20260130T200000
DTSTAMP:20260419T195934
CREATED:20260122T163142Z
LAST-MODIFIED:20260122T163142Z
UID:10031697-1769792400-1769803200@visitfloydva.com
SUMMARY:Second Wind Live
DESCRIPTION:Enjoy live music and brews!
URL:https://visitfloydva.com/event/second-wind-live/
LOCATION:Buffalo Mountain Brewery & McDaniel’s Tavern\, 332 Webbs Mill Rd.\, Floyd\, VA\, 24091\, United States
GEO:36.9212216;-80.3255321
X-APPLE-STRUCTURED-LOCATION;VALUE=URI;X-ADDRESS=Buffalo Mountain Brewery & McDaniel’s Tavern 332 Webbs Mill Rd. Floyd VA 24091 United States;X-APPLE-RADIUS=500;X-TITLE=332 Webbs Mill Rd.:geo:-80.3255321,36.9212216
END:VEVENT
BEGIN:VEVENT
DTSTART;TZID=America/New_York:20260129T180000
DTEND;TZID=America/New_York:20260129T200000
DTSTAMP:20260419T195934
CREATED:20260122T163057Z
LAST-MODIFIED:20260122T163057Z
UID:10031696-1769709600-1769716800@visitfloydva.com
SUMMARY:Thursday Night Irregulars Live
DESCRIPTION:Enjoy live music and brews!
URL:https://visitfloydva.com/event/thursday-night-irregulars-live/
LOCATION:Buffalo Mountain Brewery & McDaniel’s Tavern\, 332 Webbs Mill Rd.\, Floyd\, VA\, 24091\, United States
GEO:36.9212216;-80.3255321
X-APPLE-STRUCTURED-LOCATION;VALUE=URI;X-ADDRESS=Buffalo Mountain Brewery & McDaniel’s Tavern 332 Webbs Mill Rd. Floyd VA 24091 United States;X-APPLE-RADIUS=500;X-TITLE=332 Webbs Mill Rd.:geo:-80.3255321,36.9212216
END:VEVENT
BEGIN:VEVENT
DTSTART;TZID=America/New_York:20260127T180000
DTEND;TZID=America/New_York:20260127T200000
DTSTAMP:20260419T195934
CREATED:20251215T201006Z
LAST-MODIFIED:20251215T201006Z
UID:10031312-1769536800-1769544000@visitfloydva.com
SUMMARY:Bingo at the Brewery!
DESCRIPTION:On Tuesdays\, we play BINGO! \nRounds are called from 6-8pm and the nachos are served all evening long!\nFeaturing amazing local business sponsors and some fantastic prizes!\n$1 per card\, max of 3 cards per person.
URL:https://visitfloydva.com/event/bingo-at-the-brewery/2026-01-27/
LOCATION:Buffalo Mountain Brewery & McDaniel’s Tavern\, 332 Webbs Mill Rd.\, Floyd\, VA\, 24091\, United States
GEO:36.9212216;-80.3255321
X-APPLE-STRUCTURED-LOCATION;VALUE=URI;X-ADDRESS=Buffalo Mountain Brewery & McDaniel’s Tavern 332 Webbs Mill Rd. Floyd VA 24091 United States;X-APPLE-RADIUS=500;X-TITLE=332 Webbs Mill Rd.:geo:-80.3255321,36.9212216
END:VEVENT
BEGIN:VEVENT
DTSTART;TZID=America/New_York:20260125T140000
DTEND;TZID=America/New_York:20260125T170000
DTSTAMP:20260419T195934
CREATED:20260122T163032Z
LAST-MODIFIED:20260122T163032Z
UID:10031695-1769349600-1769360400@visitfloydva.com
SUMMARY:Barry LeNoir Live
DESCRIPTION:Enjoy live music and brews!
URL:https://visitfloydva.com/event/barry-lenoir-live-9/
LOCATION:Buffalo Mountain Brewery & McDaniel’s Tavern\, 332 Webbs Mill Rd.\, Floyd\, VA\, 24091\, United States
GEO:36.9212216;-80.3255321
X-APPLE-STRUCTURED-LOCATION;VALUE=URI;X-ADDRESS=Buffalo Mountain Brewery & McDaniel’s Tavern 332 Webbs Mill Rd. Floyd VA 24091 United States;X-APPLE-RADIUS=500;X-TITLE=332 Webbs Mill Rd.:geo:-80.3255321,36.9212216
END:VEVENT
BEGIN:VEVENT
DTSTART;TZID=America/New_York:20260124T170000
DTEND;TZID=America/New_York:20260124T200000
DTSTAMP:20260419T195934
CREATED:20260122T163011Z
LAST-MODIFIED:20260122T163011Z
UID:10031694-1769274000-1769284800@visitfloydva.com
SUMMARY:Dan Fox Live
DESCRIPTION:Enjoy live music and brews!
URL:https://visitfloydva.com/event/dan-fox-live-4/
LOCATION:Buffalo Mountain Brewery & McDaniel’s Tavern\, 332 Webbs Mill Rd.\, Floyd\, VA\, 24091\, United States
GEO:36.9212216;-80.3255321
X-APPLE-STRUCTURED-LOCATION;VALUE=URI;X-ADDRESS=Buffalo Mountain Brewery & McDaniel’s Tavern 332 Webbs Mill Rd. Floyd VA 24091 United States;X-APPLE-RADIUS=500;X-TITLE=332 Webbs Mill Rd.:geo:-80.3255321,36.9212216
END:VEVENT
BEGIN:VEVENT
DTSTART;TZID=America/New_York:20260124T130000
DTEND;TZID=America/New_York:20260124T160000
DTSTAMP:20260419T195934
CREATED:20260122T162938Z
LAST-MODIFIED:20260122T162938Z
UID:10031693-1769259600-1769270400@visitfloydva.com
SUMMARY:Carrie Hinkley Live
DESCRIPTION:Enjoy live music and brews!
URL:https://visitfloydva.com/event/carrie-hinkley-live/
LOCATION:Buffalo Mountain Brewery & McDaniel’s Tavern\, 332 Webbs Mill Rd.\, Floyd\, VA\, 24091\, United States
GEO:36.9212216;-80.3255321
X-APPLE-STRUCTURED-LOCATION;VALUE=URI;X-ADDRESS=Buffalo Mountain Brewery & McDaniel’s Tavern 332 Webbs Mill Rd. Floyd VA 24091 United States;X-APPLE-RADIUS=500;X-TITLE=332 Webbs Mill Rd.:geo:-80.3255321,36.9212216
END:VEVENT
BEGIN:VEVENT
DTSTART;TZID=America/New_York:20260123T170000
DTEND;TZID=America/New_York:20260123T200000
DTSTAMP:20260419T195934
CREATED:20260122T162910Z
LAST-MODIFIED:20260122T162910Z
UID:10031692-1769187600-1769198400@visitfloydva.com
SUMMARY:Dog Water Live
DESCRIPTION:Enjoy live music and brews!
URL:https://visitfloydva.com/event/dog-water-live-6/
LOCATION:Buffalo Mountain Brewery & McDaniel’s Tavern\, 332 Webbs Mill Rd.\, Floyd\, VA\, 24091\, United States
GEO:36.9212216;-80.3255321
X-APPLE-STRUCTURED-LOCATION;VALUE=URI;X-ADDRESS=Buffalo Mountain Brewery & McDaniel’s Tavern 332 Webbs Mill Rd. Floyd VA 24091 United States;X-APPLE-RADIUS=500;X-TITLE=332 Webbs Mill Rd.:geo:-80.3255321,36.9212216
END:VEVENT
BEGIN:VEVENT
DTSTART;TZID=America/New_York:20260122T180000
DTEND;TZID=America/New_York:20260122T200000
DTSTAMP:20260419T195934
CREATED:20260122T162721Z
LAST-MODIFIED:20260122T162721Z
UID:10031691-1769104800-1769112000@visitfloydva.com
SUMMARY:Henry Hardt's Mudcats
DESCRIPTION:Enjoy live music and brews!
URL:https://visitfloydva.com/event/henry-hardts-mudcats-4/
LOCATION:Buffalo Mountain Brewery & McDaniel’s Tavern\, 332 Webbs Mill Rd.\, Floyd\, VA\, 24091\, United States
GEO:36.9212216;-80.3255321
X-APPLE-STRUCTURED-LOCATION;VALUE=URI;X-ADDRESS=Buffalo Mountain Brewery & McDaniel’s Tavern 332 Webbs Mill Rd. Floyd VA 24091 United States;X-APPLE-RADIUS=500;X-TITLE=332 Webbs Mill Rd.:geo:-80.3255321,36.9212216
END:VEVENT
BEGIN:VEVENT
DTSTART;TZID=America/New_York:20260120T180000
DTEND;TZID=America/New_York:20260120T200000
DTSTAMP:20260419T195934
CREATED:20251215T201006Z
LAST-MODIFIED:20251215T201006Z
UID:10031311-1768932000-1768939200@visitfloydva.com
SUMMARY:Bingo at the Brewery!
DESCRIPTION:On Tuesdays\, we play BINGO! \nRounds are called from 6-8pm and the nachos are served all evening long!\nFeaturing amazing local business sponsors and some fantastic prizes!\n$1 per card\, max of 3 cards per person.
URL:https://visitfloydva.com/event/bingo-at-the-brewery/2026-01-20/
LOCATION:Buffalo Mountain Brewery & McDaniel’s Tavern\, 332 Webbs Mill Rd.\, Floyd\, VA\, 24091\, United States
GEO:36.9212216;-80.3255321
X-APPLE-STRUCTURED-LOCATION;VALUE=URI;X-ADDRESS=Buffalo Mountain Brewery & McDaniel’s Tavern 332 Webbs Mill Rd. Floyd VA 24091 United States;X-APPLE-RADIUS=500;X-TITLE=332 Webbs Mill Rd.:geo:-80.3255321,36.9212216
END:VEVENT
BEGIN:VEVENT
DTSTART;TZID=America/New_York:20260118T170000
DTEND;TZID=America/New_York:20260118T200000
DTSTAMP:20260419T195934
CREATED:20260115T150429Z
LAST-MODIFIED:20260115T150429Z
UID:10031686-1768755600-1768766400@visitfloydva.com
SUMMARY:Grateful Dads
DESCRIPTION:Enjoy music and beer at the brewery!
URL:https://visitfloydva.com/event/grateful-dads/
LOCATION:Buffalo Mountain Brewery & McDaniel’s Tavern\, 332 Webbs Mill Rd.\, Floyd\, VA\, 24091\, United States
GEO:36.9212216;-80.3255321
X-APPLE-STRUCTURED-LOCATION;VALUE=URI;X-ADDRESS=Buffalo Mountain Brewery & McDaniel’s Tavern 332 Webbs Mill Rd. Floyd VA 24091 United States;X-APPLE-RADIUS=500;X-TITLE=332 Webbs Mill Rd.:geo:-80.3255321,36.9212216
END:VEVENT
BEGIN:VEVENT
DTSTART;TZID=America/New_York:20260118T140000
DTEND;TZID=America/New_York:20260118T170000
DTSTAMP:20260419T195934
CREATED:20260113T145504Z
LAST-MODIFIED:20260113T145504Z
UID:10031670-1768744800-1768755600@visitfloydva.com
SUMMARY:Let the Words Be Yours -Rosebud Band Live
DESCRIPTION:A celebration of the amazing life of Bob Weir. Rosebud Band will play from 2 to 3. We will then open the room for anyone to play/share/smile (bring your instrument or use ours) at 4 Rosebud will play one more set.Join us in the celebration of Bob’s life and the impact that he made on each and every one of us.
URL:https://visitfloydva.com/event/let-the-words-be-yours-rosebud-band-live/
LOCATION:Buffalo Mountain Brewery & McDaniel’s Tavern\, 332 Webbs Mill Rd.\, Floyd\, VA\, 24091\, United States
GEO:36.9212216;-80.3255321
X-APPLE-STRUCTURED-LOCATION;VALUE=URI;X-ADDRESS=Buffalo Mountain Brewery & McDaniel’s Tavern 332 Webbs Mill Rd. Floyd VA 24091 United States;X-APPLE-RADIUS=500;X-TITLE=332 Webbs Mill Rd.:geo:-80.3255321,36.9212216
END:VEVENT
BEGIN:VEVENT
DTSTART;TZID=America/New_York:20260117T170000
DTEND;TZID=America/New_York:20260117T200000
DTSTAMP:20260419T195934
CREATED:20260115T150406Z
LAST-MODIFIED:20260115T150406Z
UID:10031685-1768669200-1768680000@visitfloydva.com
SUMMARY:Rock Castle Gorgeous Live
DESCRIPTION:Enjoy music and beer at the brewery!
URL:https://visitfloydva.com/event/rock-castle-gorgeous-live-2/
LOCATION:Buffalo Mountain Brewery & McDaniel’s Tavern\, 332 Webbs Mill Rd.\, Floyd\, VA\, 24091\, United States
GEO:36.9212216;-80.3255321
X-APPLE-STRUCTURED-LOCATION;VALUE=URI;X-ADDRESS=Buffalo Mountain Brewery & McDaniel’s Tavern 332 Webbs Mill Rd. Floyd VA 24091 United States;X-APPLE-RADIUS=500;X-TITLE=332 Webbs Mill Rd.:geo:-80.3255321,36.9212216
END:VEVENT
BEGIN:VEVENT
DTSTART;TZID=America/New_York:20260117T130000
DTEND;TZID=America/New_York:20260117T160000
DTSTAMP:20260419T195934
CREATED:20260115T150339Z
LAST-MODIFIED:20260115T150339Z
UID:10031684-1768654800-1768665600@visitfloydva.com
SUMMARY:Shamrock Live
DESCRIPTION:Enjoy music and beer at the brewery!
URL:https://visitfloydva.com/event/shamrock-live/
LOCATION:Buffalo Mountain Brewery & McDaniel’s Tavern\, 332 Webbs Mill Rd.\, Floyd\, VA\, 24091\, United States
GEO:36.9212216;-80.3255321
X-APPLE-STRUCTURED-LOCATION;VALUE=URI;X-ADDRESS=Buffalo Mountain Brewery & McDaniel’s Tavern 332 Webbs Mill Rd. Floyd VA 24091 United States;X-APPLE-RADIUS=500;X-TITLE=332 Webbs Mill Rd.:geo:-80.3255321,36.9212216
END:VEVENT
BEGIN:VEVENT
DTSTART;TZID=America/New_York:20260116T170000
DTEND;TZID=America/New_York:20260116T200000
DTSTAMP:20260419T195934
CREATED:20260115T150254Z
LAST-MODIFIED:20260115T150254Z
UID:10031683-1768582800-1768593600@visitfloydva.com
SUMMARY:High Strung Irish
DESCRIPTION:Enjoy music and beer at the brewery!
URL:https://visitfloydva.com/event/high-strung-irish-4/
LOCATION:Buffalo Mountain Brewery & McDaniel’s Tavern\, 332 Webbs Mill Rd.\, Floyd\, VA\, 24091\, United States
GEO:36.9212216;-80.3255321
X-APPLE-STRUCTURED-LOCATION;VALUE=URI;X-ADDRESS=Buffalo Mountain Brewery & McDaniel’s Tavern 332 Webbs Mill Rd. Floyd VA 24091 United States;X-APPLE-RADIUS=500;X-TITLE=332 Webbs Mill Rd.:geo:-80.3255321,36.9212216
END:VEVENT
BEGIN:VEVENT
DTSTART;TZID=America/New_York:20260115T180000
DTEND;TZID=America/New_York:20260115T200000
DTSTAMP:20260419T195934
CREATED:20260115T150231Z
LAST-MODIFIED:20260115T150231Z
UID:10031682-1768500000-1768507200@visitfloydva.com
SUMMARY:Ice Melt Live
DESCRIPTION:Enjoy music and beer at the brewery!
URL:https://visitfloydva.com/event/ice-melt-live/
LOCATION:Buffalo Mountain Brewery & McDaniel’s Tavern\, 332 Webbs Mill Rd.\, Floyd\, VA\, 24091\, United States
GEO:36.9212216;-80.3255321
X-APPLE-STRUCTURED-LOCATION;VALUE=URI;X-ADDRESS=Buffalo Mountain Brewery & McDaniel’s Tavern 332 Webbs Mill Rd. Floyd VA 24091 United States;X-APPLE-RADIUS=500;X-TITLE=332 Webbs Mill Rd.:geo:-80.3255321,36.9212216
END:VEVENT
BEGIN:VEVENT
DTSTART;TZID=America/New_York:20260115T160000
DTEND;TZID=America/New_York:20260115T190000
DTSTAMP:20260419T195934
CREATED:20251215T201823Z
LAST-MODIFIED:20251215T201823Z
UID:10031417-1768492800-1768503600@visitfloydva.com
SUMMARY:Happy Hour at the Brewery!
DESCRIPTION:Celebrate the weekend’s approach and enjoy $1 off all pint pours from 4-7pm at Buffalo Mountain Brewery.\nGrab your favorite local craft brew\, or try a new seasonal!
URL:https://visitfloydva.com/event/happy-hour-at-the-brewery-2/
LOCATION:Buffalo Mountain Brewery & McDaniel’s Tavern\, 332 Webbs Mill Rd.\, Floyd\, VA\, 24091\, United States
GEO:36.9212216;-80.3255321
X-APPLE-STRUCTURED-LOCATION;VALUE=URI;X-ADDRESS=Buffalo Mountain Brewery & McDaniel’s Tavern 332 Webbs Mill Rd. Floyd VA 24091 United States;X-APPLE-RADIUS=500;X-TITLE=332 Webbs Mill Rd.:geo:-80.3255321,36.9212216
END:VEVENT
BEGIN:VEVENT
DTSTART;TZID=America/New_York:20260113T180000
DTEND;TZID=America/New_York:20260113T200000
DTSTAMP:20260419T195934
CREATED:20251215T201006Z
LAST-MODIFIED:20251215T201006Z
UID:10031310-1768327200-1768334400@visitfloydva.com
SUMMARY:Bingo at the Brewery!
DESCRIPTION:On Tuesdays\, we play BINGO! \nRounds are called from 6-8pm and the nachos are served all evening long!\nFeaturing amazing local business sponsors and some fantastic prizes!\n$1 per card\, max of 3 cards per person.
URL:https://visitfloydva.com/event/bingo-at-the-brewery/2026-01-13/
LOCATION:Buffalo Mountain Brewery & McDaniel’s Tavern\, 332 Webbs Mill Rd.\, Floyd\, VA\, 24091\, United States
GEO:36.9212216;-80.3255321
X-APPLE-STRUCTURED-LOCATION;VALUE=URI;X-ADDRESS=Buffalo Mountain Brewery & McDaniel’s Tavern 332 Webbs Mill Rd. Floyd VA 24091 United States;X-APPLE-RADIUS=500;X-TITLE=332 Webbs Mill Rd.:geo:-80.3255321,36.9212216
END:VEVENT
BEGIN:VEVENT
DTSTART;TZID=America/New_York:20260111T140000
DTEND;TZID=America/New_York:20260111T170000
DTSTAMP:20260419T195934
CREATED:20260107T145220Z
LAST-MODIFIED:20260107T145220Z
UID:10031658-1768140000-1768150800@visitfloydva.com
SUMMARY:Celtic Ceilidh Live
DESCRIPTION:Enjoy live music at the brewery!
URL:https://visitfloydva.com/event/celtic-ceilidh-live-2/
LOCATION:Buffalo Mountain Brewery & McDaniel’s Tavern\, 332 Webbs Mill Rd.\, Floyd\, VA\, 24091\, United States
GEO:36.9212216;-80.3255321
X-APPLE-STRUCTURED-LOCATION;VALUE=URI;X-ADDRESS=Buffalo Mountain Brewery & McDaniel’s Tavern 332 Webbs Mill Rd. Floyd VA 24091 United States;X-APPLE-RADIUS=500;X-TITLE=332 Webbs Mill Rd.:geo:-80.3255321,36.9212216
END:VEVENT
BEGIN:VEVENT
DTSTART;TZID=America/New_York:20260110T170000
DTEND;TZID=America/New_York:20260110T200000
DTSTAMP:20260419T195934
CREATED:20260107T145319Z
LAST-MODIFIED:20260107T145319Z
UID:10031659-1768064400-1768075200@visitfloydva.com
SUMMARY:Cowboy Wanna Be Live
DESCRIPTION:Enjoy live music at the brewery!
URL:https://visitfloydva.com/event/cowboy-wanna-be-live/
LOCATION:Buffalo Mountain Brewery & McDaniel’s Tavern\, 332 Webbs Mill Rd.\, Floyd\, VA\, 24091\, United States
GEO:36.9212216;-80.3255321
X-APPLE-STRUCTURED-LOCATION;VALUE=URI;X-ADDRESS=Buffalo Mountain Brewery & McDaniel’s Tavern 332 Webbs Mill Rd. Floyd VA 24091 United States;X-APPLE-RADIUS=500;X-TITLE=332 Webbs Mill Rd.:geo:-80.3255321,36.9212216
END:VEVENT
BEGIN:VEVENT
DTSTART;TZID=America/New_York:20260110T130000
DTEND;TZID=America/New_York:20260110T160000
DTSTAMP:20260419T195934
CREATED:20260107T145141Z
LAST-MODIFIED:20260107T145141Z
UID:10031657-1768050000-1768060800@visitfloydva.com
SUMMARY:Jimmy the Jammer Live
DESCRIPTION:Enjoy live music at the brewery!
URL:https://visitfloydva.com/event/jimmy-the-jammer-live-3/
LOCATION:Buffalo Mountain Brewery & McDaniel’s Tavern\, 332 Webbs Mill Rd.\, Floyd\, VA\, 24091\, United States
GEO:36.9212216;-80.3255321
X-APPLE-STRUCTURED-LOCATION;VALUE=URI;X-ADDRESS=Buffalo Mountain Brewery & McDaniel’s Tavern 332 Webbs Mill Rd. Floyd VA 24091 United States;X-APPLE-RADIUS=500;X-TITLE=332 Webbs Mill Rd.:geo:-80.3255321,36.9212216
END:VEVENT
BEGIN:VEVENT
DTSTART;TZID=America/New_York:20260109T170000
DTEND;TZID=America/New_York:20260109T200000
DTSTAMP:20260419T195934
CREATED:20260107T144255Z
LAST-MODIFIED:20260107T144255Z
UID:10031656-1767978000-1767988800@visitfloydva.com
SUMMARY:Bob Chew Live
DESCRIPTION:Enjoy live music at the brewery!
URL:https://visitfloydva.com/event/bob-chew-live-4/
LOCATION:Buffalo Mountain Brewery & McDaniel’s Tavern\, 332 Webbs Mill Rd.\, Floyd\, VA\, 24091\, United States
GEO:36.9212216;-80.3255321
X-APPLE-STRUCTURED-LOCATION;VALUE=URI;X-ADDRESS=Buffalo Mountain Brewery & McDaniel’s Tavern 332 Webbs Mill Rd. Floyd VA 24091 United States;X-APPLE-RADIUS=500;X-TITLE=332 Webbs Mill Rd.:geo:-80.3255321,36.9212216
END:VEVENT
END:VCALENDAR