BEGIN:VCALENDAR
VERSION:2.0
PRODID:-//Visit Floyd Virginia - ECPv6.15.20//NONSGML v1.0//EN
CALSCALE:GREGORIAN
METHOD:PUBLISH
X-ORIGINAL-URL:https://visitfloydva.com
X-WR-CALDESC:Events for Visit Floyd Virginia
REFRESH-INTERVAL;VALUE=DURATION:PT1H
X-Robots-Tag:noindex
X-PUBLISHED-TTL:PT1H
BEGIN:VTIMEZONE
TZID:America/New_York
BEGIN:DAYLIGHT
TZOFFSETFROM:-0500
TZOFFSETTO:-0400
TZNAME:EDT
DTSTART:20250309T070000
END:DAYLIGHT
BEGIN:STANDARD
TZOFFSETFROM:-0400
TZOFFSETTO:-0500
TZNAME:EST
DTSTART:20251102T060000
END:STANDARD
BEGIN:DAYLIGHT
TZOFFSETFROM:-0500
TZOFFSETTO:-0400
TZNAME:EDT
DTSTART:20260308T070000
END:DAYLIGHT
BEGIN:STANDARD
TZOFFSETFROM:-0400
TZOFFSETTO:-0500
TZNAME:EST
DTSTART:20261101T060000
END:STANDARD
BEGIN:DAYLIGHT
TZOFFSETFROM:-0500
TZOFFSETTO:-0400
TZNAME:EDT
DTSTART:20270314T070000
END:DAYLIGHT
BEGIN:STANDARD
TZOFFSETFROM:-0400
TZOFFSETTO:-0500
TZNAME:EST
DTSTART:20271107T060000
END:STANDARD
END:VTIMEZONE
BEGIN:VEVENT
DTSTART;TZID=America/New_York:20260321T130000
DTEND;TZID=America/New_York:20260321T160000
DTSTAMP:20260419T181631
CREATED:20260312T152639Z
LAST-MODIFIED:20260312T152639Z
UID:10032232-1774098000-1774108800@visitfloydva.com
SUMMARY:Cowboy Wannabe Live
DESCRIPTION:Listen to live music and while enjoying craft beers!
URL:https://visitfloydva.com/event/cowboy-wannabe-live/
LOCATION:Buffalo Mountain Brewery & McDaniel’s Tavern\, 332 Webbs Mill Rd.\, Floyd\, VA\, 24091\, United States
GEO:36.9212216;-80.3255321
X-APPLE-STRUCTURED-LOCATION;VALUE=URI;X-ADDRESS=Buffalo Mountain Brewery & McDaniel’s Tavern 332 Webbs Mill Rd. Floyd VA 24091 United States;X-APPLE-RADIUS=500;X-TITLE=332 Webbs Mill Rd.:geo:-80.3255321,36.9212216
END:VEVENT
BEGIN:VEVENT
DTSTART;TZID=America/New_York:20260320T170000
DTEND;TZID=America/New_York:20260320T200000
DTSTAMP:20260419T181631
CREATED:20260312T152603Z
LAST-MODIFIED:20260312T152603Z
UID:10032231-1774026000-1774036800@visitfloydva.com
SUMMARY:Bob Grubel Live
DESCRIPTION:Listen to live music and while enjoying craft beers!
URL:https://visitfloydva.com/event/bob-grubel-live-5/
LOCATION:Buffalo Mountain Brewery & McDaniel’s Tavern\, 332 Webbs Mill Rd.\, Floyd\, VA\, 24091\, United States
GEO:36.9212216;-80.3255321
X-APPLE-STRUCTURED-LOCATION;VALUE=URI;X-ADDRESS=Buffalo Mountain Brewery & McDaniel’s Tavern 332 Webbs Mill Rd. Floyd VA 24091 United States;X-APPLE-RADIUS=500;X-TITLE=332 Webbs Mill Rd.:geo:-80.3255321,36.9212216
END:VEVENT
BEGIN:VEVENT
DTSTART;TZID=America/New_York:20260317T180000
DTEND;TZID=America/New_York:20260317T200000
DTSTAMP:20260419T181631
CREATED:20251215T201006Z
LAST-MODIFIED:20251215T201006Z
UID:10031319-1773770400-1773777600@visitfloydva.com
SUMMARY:Bingo at the Brewery!
DESCRIPTION:On Tuesdays\, we play BINGO! \nRounds are called from 6-8pm and the nachos are served all evening long!\nFeaturing amazing local business sponsors and some fantastic prizes!\n$1 per card\, max of 3 cards per person.
URL:https://visitfloydva.com/event/bingo-at-the-brewery/2026-03-17/
LOCATION:Buffalo Mountain Brewery & McDaniel’s Tavern\, 332 Webbs Mill Rd.\, Floyd\, VA\, 24091\, United States
GEO:36.9212216;-80.3255321
X-APPLE-STRUCTURED-LOCATION;VALUE=URI;X-ADDRESS=Buffalo Mountain Brewery & McDaniel’s Tavern 332 Webbs Mill Rd. Floyd VA 24091 United States;X-APPLE-RADIUS=500;X-TITLE=332 Webbs Mill Rd.:geo:-80.3255321,36.9212216
END:VEVENT
BEGIN:VEVENT
DTSTART;TZID=America/New_York:20260315T140000
DTEND;TZID=America/New_York:20260315T170000
DTSTAMP:20260419T181631
CREATED:20260312T153556Z
LAST-MODIFIED:20260312T153625Z
UID:10032248-1773583200-1773594000@visitfloydva.com
SUMMARY:Celtic Ceilidh Live
DESCRIPTION:Listen to live music and while enjoying craft beers!
URL:https://visitfloydva.com/event/celtic-ceilidh-live-4/2026-03-15/
LOCATION:Buffalo Mountain Brewery & McDaniel’s Tavern\, 332 Webbs Mill Rd.\, Floyd\, VA\, 24091\, United States
GEO:36.9212216;-80.3255321
X-APPLE-STRUCTURED-LOCATION;VALUE=URI;X-ADDRESS=Buffalo Mountain Brewery & McDaniel’s Tavern 332 Webbs Mill Rd. Floyd VA 24091 United States;X-APPLE-RADIUS=500;X-TITLE=332 Webbs Mill Rd.:geo:-80.3255321,36.9212216
END:VEVENT
BEGIN:VEVENT
DTSTART;TZID=America/New_York:20260314T170000
DTEND;TZID=America/New_York:20260314T200000
DTSTAMP:20260419T181631
CREATED:20260312T152529Z
LAST-MODIFIED:20260312T152529Z
UID:10032230-1773507600-1773518400@visitfloydva.com
SUMMARY:Crioch Shona Live
DESCRIPTION:Listen to live music and while enjoying craft beers!
URL:https://visitfloydva.com/event/crioch-shona-live/
LOCATION:Buffalo Mountain Brewery & McDaniel’s Tavern\, 332 Webbs Mill Rd.\, Floyd\, VA\, 24091\, United States
GEO:36.9212216;-80.3255321
X-APPLE-STRUCTURED-LOCATION;VALUE=URI;X-ADDRESS=Buffalo Mountain Brewery & McDaniel’s Tavern 332 Webbs Mill Rd. Floyd VA 24091 United States;X-APPLE-RADIUS=500;X-TITLE=332 Webbs Mill Rd.:geo:-80.3255321,36.9212216
END:VEVENT
BEGIN:VEVENT
DTSTART;TZID=America/New_York:20260314T130000
DTEND;TZID=America/New_York:20260314T160000
DTSTAMP:20260419T181631
CREATED:20260312T152443Z
LAST-MODIFIED:20260312T152443Z
UID:10032229-1773493200-1773504000@visitfloydva.com
SUMMARY:Shamrock Live
DESCRIPTION:Listen to live music and while enjoying craft beers!
URL:https://visitfloydva.com/event/shamrock-live-2/
LOCATION:Buffalo Mountain Brewery & McDaniel’s Tavern\, 332 Webbs Mill Rd.\, Floyd\, VA\, 24091\, United States
GEO:36.9212216;-80.3255321
X-APPLE-STRUCTURED-LOCATION;VALUE=URI;X-ADDRESS=Buffalo Mountain Brewery & McDaniel’s Tavern 332 Webbs Mill Rd. Floyd VA 24091 United States;X-APPLE-RADIUS=500;X-TITLE=332 Webbs Mill Rd.:geo:-80.3255321,36.9212216
END:VEVENT
BEGIN:VEVENT
DTSTART;TZID=America/New_York:20260313T170000
DTEND;TZID=America/New_York:20260313T200000
DTSTAMP:20260419T181631
CREATED:20260312T152421Z
LAST-MODIFIED:20260312T152421Z
UID:10032228-1773421200-1773432000@visitfloydva.com
SUMMARY:Rock Castle Gorgeous
DESCRIPTION:Listen to live music and while enjoying craft beers!
URL:https://visitfloydva.com/event/rock-castle-gorgeous-3/
LOCATION:Buffalo Mountain Brewery & McDaniel’s Tavern\, 332 Webbs Mill Rd.\, Floyd\, VA\, 24091\, United States
GEO:36.9212216;-80.3255321
X-APPLE-STRUCTURED-LOCATION;VALUE=URI;X-ADDRESS=Buffalo Mountain Brewery & McDaniel’s Tavern 332 Webbs Mill Rd. Floyd VA 24091 United States;X-APPLE-RADIUS=500;X-TITLE=332 Webbs Mill Rd.:geo:-80.3255321,36.9212216
END:VEVENT
BEGIN:VEVENT
DTSTART;TZID=America/New_York:20260312T180000
DTEND;TZID=America/New_York:20260312T200000
DTSTAMP:20260419T181631
CREATED:20260312T152312Z
LAST-MODIFIED:20260312T154055Z
UID:10032226-1773338400-1773345600@visitfloydva.com
SUMMARY:Henry Hardt's Mudcats Live
DESCRIPTION:Listen to live music and while enjoying craft beers!
URL:https://visitfloydva.com/event/henry-hardts-mudcats-live-4/2026-03-12/
LOCATION:Buffalo Mountain Brewery & McDaniel’s Tavern\, 332 Webbs Mill Rd.\, Floyd\, VA\, 24091\, United States
GEO:36.9212216;-80.3255321
X-APPLE-STRUCTURED-LOCATION;VALUE=URI;X-ADDRESS=Buffalo Mountain Brewery & McDaniel’s Tavern 332 Webbs Mill Rd. Floyd VA 24091 United States;X-APPLE-RADIUS=500;X-TITLE=332 Webbs Mill Rd.:geo:-80.3255321,36.9212216
END:VEVENT
BEGIN:VEVENT
DTSTART;TZID=America/New_York:20260310T180000
DTEND;TZID=America/New_York:20260310T200000
DTSTAMP:20260419T181631
CREATED:20251215T201006Z
LAST-MODIFIED:20251215T201006Z
UID:10031318-1773165600-1773172800@visitfloydva.com
SUMMARY:Bingo at the Brewery!
DESCRIPTION:On Tuesdays\, we play BINGO! \nRounds are called from 6-8pm and the nachos are served all evening long!\nFeaturing amazing local business sponsors and some fantastic prizes!\n$1 per card\, max of 3 cards per person.
URL:https://visitfloydva.com/event/bingo-at-the-brewery/2026-03-10/
LOCATION:Buffalo Mountain Brewery & McDaniel’s Tavern\, 332 Webbs Mill Rd.\, Floyd\, VA\, 24091\, United States
GEO:36.9212216;-80.3255321
X-APPLE-STRUCTURED-LOCATION;VALUE=URI;X-ADDRESS=Buffalo Mountain Brewery & McDaniel’s Tavern 332 Webbs Mill Rd. Floyd VA 24091 United States;X-APPLE-RADIUS=500;X-TITLE=332 Webbs Mill Rd.:geo:-80.3255321,36.9212216
END:VEVENT
BEGIN:VEVENT
DTSTART;TZID=America/New_York:20260303T180000
DTEND;TZID=America/New_York:20260303T200000
DTSTAMP:20260419T181631
CREATED:20251215T201006Z
LAST-MODIFIED:20251215T201006Z
UID:10031317-1772560800-1772568000@visitfloydva.com
SUMMARY:Bingo at the Brewery!
DESCRIPTION:On Tuesdays\, we play BINGO! \nRounds are called from 6-8pm and the nachos are served all evening long!\nFeaturing amazing local business sponsors and some fantastic prizes!\n$1 per card\, max of 3 cards per person.
URL:https://visitfloydva.com/event/bingo-at-the-brewery/2026-03-03/
LOCATION:Buffalo Mountain Brewery & McDaniel’s Tavern\, 332 Webbs Mill Rd.\, Floyd\, VA\, 24091\, United States
GEO:36.9212216;-80.3255321
X-APPLE-STRUCTURED-LOCATION;VALUE=URI;X-ADDRESS=Buffalo Mountain Brewery & McDaniel’s Tavern 332 Webbs Mill Rd. Floyd VA 24091 United States;X-APPLE-RADIUS=500;X-TITLE=332 Webbs Mill Rd.:geo:-80.3255321,36.9212216
END:VEVENT
BEGIN:VEVENT
DTSTART;TZID=America/New_York:20260228T170000
DTEND;TZID=America/New_York:20260228T200000
DTSTAMP:20260419T181631
CREATED:20260205T164519Z
LAST-MODIFIED:20260205T164519Z
UID:10031737-1772298000-1772308800@visitfloydva.com
SUMMARY:South 40 Bluegrass Live
DESCRIPTION:Enjoy live music and brews!
URL:https://visitfloydva.com/event/south-40-bluegrass-live/
LOCATION:Buffalo Mountain Brewery & McDaniel’s Tavern\, 332 Webbs Mill Rd.\, Floyd\, VA\, 24091\, United States
GEO:36.9212216;-80.3255321
X-APPLE-STRUCTURED-LOCATION;VALUE=URI;X-ADDRESS=Buffalo Mountain Brewery & McDaniel’s Tavern 332 Webbs Mill Rd. Floyd VA 24091 United States;X-APPLE-RADIUS=500;X-TITLE=332 Webbs Mill Rd.:geo:-80.3255321,36.9212216
END:VEVENT
BEGIN:VEVENT
DTSTART;TZID=America/New_York:20260228T130000
DTEND;TZID=America/New_York:20260228T160000
DTSTAMP:20260419T181631
CREATED:20260205T164457Z
LAST-MODIFIED:20260226T153909Z
UID:10031736-1772283600-1772294400@visitfloydva.com
SUMMARY:Rock Castle Gorgeous Live
DESCRIPTION:Enjoy live music and brews!
URL:https://visitfloydva.com/event/rock-castle-gorgeous-live-3/
LOCATION:Buffalo Mountain Brewery & McDaniel’s Tavern\, 332 Webbs Mill Rd.\, Floyd\, VA\, 24091\, United States
GEO:36.9212216;-80.3255321
X-APPLE-STRUCTURED-LOCATION;VALUE=URI;X-ADDRESS=Buffalo Mountain Brewery & McDaniel’s Tavern 332 Webbs Mill Rd. Floyd VA 24091 United States;X-APPLE-RADIUS=500;X-TITLE=332 Webbs Mill Rd.:geo:-80.3255321,36.9212216
END:VEVENT
BEGIN:VEVENT
DTSTART;TZID=America/New_York:20260227T170000
DTEND;TZID=America/New_York:20260227T200000
DTSTAMP:20260419T181631
CREATED:20260205T164434Z
LAST-MODIFIED:20260205T164434Z
UID:10031735-1772211600-1772222400@visitfloydva.com
SUMMARY:Clay Blevins Live
DESCRIPTION:Enjoy live music and brews!
URL:https://visitfloydva.com/event/clay-blevins-live-7/
LOCATION:Buffalo Mountain Brewery & McDaniel’s Tavern\, 332 Webbs Mill Rd.\, Floyd\, VA\, 24091\, United States
GEO:36.9212216;-80.3255321
X-APPLE-STRUCTURED-LOCATION;VALUE=URI;X-ADDRESS=Buffalo Mountain Brewery & McDaniel’s Tavern 332 Webbs Mill Rd. Floyd VA 24091 United States;X-APPLE-RADIUS=500;X-TITLE=332 Webbs Mill Rd.:geo:-80.3255321,36.9212216
END:VEVENT
BEGIN:VEVENT
DTSTART;TZID=America/New_York:20260226T180000
DTEND;TZID=America/New_York:20260226T200000
DTSTAMP:20260419T181631
CREATED:20260205T163847Z
LAST-MODIFIED:20260205T163952Z
UID:10031728-1772128800-1772136000@visitfloydva.com
SUMMARY:Henry Hardt's Mudcats Live
DESCRIPTION:Enjoy live music and brews!
URL:https://visitfloydva.com/event/henry-hardts-mudcats-live-3/2026-02-26/
LOCATION:Buffalo Mountain Brewery & McDaniel’s Tavern\, 332 Webbs Mill Rd.\, Floyd\, VA\, 24091\, United States
GEO:36.9212216;-80.3255321
X-APPLE-STRUCTURED-LOCATION;VALUE=URI;X-ADDRESS=Buffalo Mountain Brewery & McDaniel’s Tavern 332 Webbs Mill Rd. Floyd VA 24091 United States;X-APPLE-RADIUS=500;X-TITLE=332 Webbs Mill Rd.:geo:-80.3255321,36.9212216
END:VEVENT
BEGIN:VEVENT
DTSTART;TZID=America/New_York:20260224T180000
DTEND;TZID=America/New_York:20260224T200000
DTSTAMP:20260419T181631
CREATED:20251215T201006Z
LAST-MODIFIED:20251215T201006Z
UID:10031316-1771956000-1771963200@visitfloydva.com
SUMMARY:Bingo at the Brewery!
DESCRIPTION:On Tuesdays\, we play BINGO! \nRounds are called from 6-8pm and the nachos are served all evening long!\nFeaturing amazing local business sponsors and some fantastic prizes!\n$1 per card\, max of 3 cards per person.
URL:https://visitfloydva.com/event/bingo-at-the-brewery/2026-02-24/
LOCATION:Buffalo Mountain Brewery & McDaniel’s Tavern\, 332 Webbs Mill Rd.\, Floyd\, VA\, 24091\, United States
GEO:36.9212216;-80.3255321
X-APPLE-STRUCTURED-LOCATION;VALUE=URI;X-ADDRESS=Buffalo Mountain Brewery & McDaniel’s Tavern 332 Webbs Mill Rd. Floyd VA 24091 United States;X-APPLE-RADIUS=500;X-TITLE=332 Webbs Mill Rd.:geo:-80.3255321,36.9212216
END:VEVENT
BEGIN:VEVENT
DTSTART;TZID=America/New_York:20260222T140000
DTEND;TZID=America/New_York:20260222T170000
DTSTAMP:20260419T181631
CREATED:20260205T164406Z
LAST-MODIFIED:20260205T164406Z
UID:10031734-1771768800-1771779600@visitfloydva.com
SUMMARY:Barry LeNoir Live
DESCRIPTION:Enjoy live music and brews!
URL:https://visitfloydva.com/event/barry-lenoir-live-10/
LOCATION:Buffalo Mountain Brewery & McDaniel’s Tavern\, 332 Webbs Mill Rd.\, Floyd\, VA\, 24091\, United States
GEO:36.9212216;-80.3255321
X-APPLE-STRUCTURED-LOCATION;VALUE=URI;X-ADDRESS=Buffalo Mountain Brewery & McDaniel’s Tavern 332 Webbs Mill Rd. Floyd VA 24091 United States;X-APPLE-RADIUS=500;X-TITLE=332 Webbs Mill Rd.:geo:-80.3255321,36.9212216
END:VEVENT
BEGIN:VEVENT
DTSTART;TZID=America/New_York:20260221T170000
DTEND;TZID=America/New_York:20260221T200000
DTSTAMP:20260419T181631
CREATED:20260205T164340Z
LAST-MODIFIED:20260205T164340Z
UID:10031733-1771693200-1771704000@visitfloydva.com
SUMMARY:Retrospect Live
DESCRIPTION:Enjoy live music and brews!
URL:https://visitfloydva.com/event/retrospect-live/
LOCATION:Buffalo Mountain Brewery & McDaniel’s Tavern\, 332 Webbs Mill Rd.\, Floyd\, VA\, 24091\, United States
GEO:36.9212216;-80.3255321
X-APPLE-STRUCTURED-LOCATION;VALUE=URI;X-ADDRESS=Buffalo Mountain Brewery & McDaniel’s Tavern 332 Webbs Mill Rd. Floyd VA 24091 United States;X-APPLE-RADIUS=500;X-TITLE=332 Webbs Mill Rd.:geo:-80.3255321,36.9212216
END:VEVENT
BEGIN:VEVENT
DTSTART;TZID=America/New_York:20260221T130000
DTEND;TZID=America/New_York:20260221T160000
DTSTAMP:20260419T181631
CREATED:20260205T164313Z
LAST-MODIFIED:20260205T164313Z
UID:10031732-1771678800-1771689600@visitfloydva.com
SUMMARY:Cowboy Wanna Be Live
DESCRIPTION:Enjoy live music and brews!
URL:https://visitfloydva.com/event/cowboy-wanna-be-live-2/
LOCATION:Buffalo Mountain Brewery & McDaniel’s Tavern\, 332 Webbs Mill Rd.\, Floyd\, VA\, 24091\, United States
GEO:36.9212216;-80.3255321
X-APPLE-STRUCTURED-LOCATION;VALUE=URI;X-ADDRESS=Buffalo Mountain Brewery & McDaniel’s Tavern 332 Webbs Mill Rd. Floyd VA 24091 United States;X-APPLE-RADIUS=500;X-TITLE=332 Webbs Mill Rd.:geo:-80.3255321,36.9212216
END:VEVENT
BEGIN:VEVENT
DTSTART;TZID=America/New_York:20260220T170000
DTEND;TZID=America/New_York:20260220T200000
DTSTAMP:20260419T181631
CREATED:20260205T163507Z
LAST-MODIFIED:20260205T163507Z
UID:10031721-1771606800-1771617600@visitfloydva.com
SUMMARY:Dog Water Live
DESCRIPTION:Enjoy live music and brews!
URL:https://visitfloydva.com/event/dog-water-live-7/2026-02-20/
LOCATION:Buffalo Mountain Brewery & McDaniel’s Tavern\, 332 Webbs Mill Rd.\, Floyd\, VA\, 24091\, United States
GEO:36.9212216;-80.3255321
X-APPLE-STRUCTURED-LOCATION;VALUE=URI;X-ADDRESS=Buffalo Mountain Brewery & McDaniel’s Tavern 332 Webbs Mill Rd. Floyd VA 24091 United States;X-APPLE-RADIUS=500;X-TITLE=332 Webbs Mill Rd.:geo:-80.3255321,36.9212216
END:VEVENT
BEGIN:VEVENT
DTSTART;TZID=America/New_York:20260217T180000
DTEND;TZID=America/New_York:20260217T200000
DTSTAMP:20260419T181631
CREATED:20251215T201006Z
LAST-MODIFIED:20251215T201006Z
UID:10031315-1771351200-1771358400@visitfloydva.com
SUMMARY:Bingo at the Brewery!
DESCRIPTION:On Tuesdays\, we play BINGO! \nRounds are called from 6-8pm and the nachos are served all evening long!\nFeaturing amazing local business sponsors and some fantastic prizes!\n$1 per card\, max of 3 cards per person.
URL:https://visitfloydva.com/event/bingo-at-the-brewery/2026-02-17/
LOCATION:Buffalo Mountain Brewery & McDaniel’s Tavern\, 332 Webbs Mill Rd.\, Floyd\, VA\, 24091\, United States
GEO:36.9212216;-80.3255321
X-APPLE-STRUCTURED-LOCATION;VALUE=URI;X-ADDRESS=Buffalo Mountain Brewery & McDaniel’s Tavern 332 Webbs Mill Rd. Floyd VA 24091 United States;X-APPLE-RADIUS=500;X-TITLE=332 Webbs Mill Rd.:geo:-80.3255321,36.9212216
END:VEVENT
BEGIN:VEVENT
DTSTART;TZID=America/New_York:20260215T140000
DTEND;TZID=America/New_York:20260215T170000
DTSTAMP:20260419T181631
CREATED:20260205T164209Z
LAST-MODIFIED:20260205T164247Z
UID:10031730-1771164000-1771174800@visitfloydva.com
SUMMARY:The Grateful Dads Live
DESCRIPTION:Enjoy live music and brews!
URL:https://visitfloydva.com/event/the-grateful-dads/
LOCATION:Buffalo Mountain Brewery & McDaniel’s Tavern\, 332 Webbs Mill Rd.\, Floyd\, VA\, 24091\, United States
GEO:36.9212216;-80.3255321
X-APPLE-STRUCTURED-LOCATION;VALUE=URI;X-ADDRESS=Buffalo Mountain Brewery & McDaniel’s Tavern 332 Webbs Mill Rd. Floyd VA 24091 United States;X-APPLE-RADIUS=500;X-TITLE=332 Webbs Mill Rd.:geo:-80.3255321,36.9212216
END:VEVENT
BEGIN:VEVENT
DTSTART;TZID=America/New_York:20260214T170000
DTEND;TZID=America/New_York:20260214T200000
DTSTAMP:20260419T181631
CREATED:20260205T164242Z
LAST-MODIFIED:20260205T164242Z
UID:10031731-1771088400-1771099200@visitfloydva.com
SUMMARY:Above the Fray Live
DESCRIPTION:Enjoy live music and brews!
URL:https://visitfloydva.com/event/above-the-fray-live/
LOCATION:Buffalo Mountain Brewery & McDaniel’s Tavern\, 332 Webbs Mill Rd.\, Floyd\, VA\, 24091\, United States
GEO:36.9212216;-80.3255321
X-APPLE-STRUCTURED-LOCATION;VALUE=URI;X-ADDRESS=Buffalo Mountain Brewery & McDaniel’s Tavern 332 Webbs Mill Rd. Floyd VA 24091 United States;X-APPLE-RADIUS=500;X-TITLE=332 Webbs Mill Rd.:geo:-80.3255321,36.9212216
END:VEVENT
BEGIN:VEVENT
DTSTART;TZID=America/New_York:20260214T170000
DTEND;TZID=America/New_York:20260214T200000
DTSTAMP:20260419T181631
CREATED:20260205T164028Z
LAST-MODIFIED:20260205T164028Z
UID:10031729-1771088400-1771099200@visitfloydva.com
SUMMARY:Bob Grubel Live
DESCRIPTION:Enjoy live music and brews!
URL:https://visitfloydva.com/event/bob-grubel-live-4/
LOCATION:Buffalo Mountain Brewery & McDaniel’s Tavern\, 332 Webbs Mill Rd.\, Floyd\, VA\, 24091\, United States
GEO:36.9212216;-80.3255321
X-APPLE-STRUCTURED-LOCATION;VALUE=URI;X-ADDRESS=Buffalo Mountain Brewery & McDaniel’s Tavern 332 Webbs Mill Rd. Floyd VA 24091 United States;X-APPLE-RADIUS=500;X-TITLE=332 Webbs Mill Rd.:geo:-80.3255321,36.9212216
END:VEVENT
BEGIN:VEVENT
DTSTART;TZID=America/New_York:20260213T170000
DTEND;TZID=America/New_York:20260213T200000
DTSTAMP:20260419T181631
CREATED:20260205T163928Z
LAST-MODIFIED:20260205T163928Z
UID:10031727-1771002000-1771012800@visitfloydva.com
SUMMARY:Bob Chew Live
DESCRIPTION:Enjoy live music and brews!
URL:https://visitfloydva.com/event/bob-chew-live-5/
LOCATION:Buffalo Mountain Brewery & McDaniel’s Tavern\, 332 Webbs Mill Rd.\, Floyd\, VA\, 24091\, United States
GEO:36.9212216;-80.3255321
X-APPLE-STRUCTURED-LOCATION;VALUE=URI;X-ADDRESS=Buffalo Mountain Brewery & McDaniel’s Tavern 332 Webbs Mill Rd. Floyd VA 24091 United States;X-APPLE-RADIUS=500;X-TITLE=332 Webbs Mill Rd.:geo:-80.3255321,36.9212216
END:VEVENT
BEGIN:VEVENT
DTSTART;TZID=America/New_York:20260212T180000
DTEND;TZID=America/New_York:20260212T200000
DTSTAMP:20260419T181631
CREATED:20260205T163847Z
LAST-MODIFIED:20260205T163952Z
UID:10031726-1770919200-1770926400@visitfloydva.com
SUMMARY:Henry Hardt's Mudcats Live
DESCRIPTION:Enjoy live music and brews!
URL:https://visitfloydva.com/event/henry-hardts-mudcats-live-3/2026-02-12/
LOCATION:Buffalo Mountain Brewery & McDaniel’s Tavern\, 332 Webbs Mill Rd.\, Floyd\, VA\, 24091\, United States
GEO:36.9212216;-80.3255321
X-APPLE-STRUCTURED-LOCATION;VALUE=URI;X-ADDRESS=Buffalo Mountain Brewery & McDaniel’s Tavern 332 Webbs Mill Rd. Floyd VA 24091 United States;X-APPLE-RADIUS=500;X-TITLE=332 Webbs Mill Rd.:geo:-80.3255321,36.9212216
END:VEVENT
BEGIN:VEVENT
DTSTART;TZID=America/New_York:20260210T180000
DTEND;TZID=America/New_York:20260210T200000
DTSTAMP:20260419T181631
CREATED:20251215T201006Z
LAST-MODIFIED:20251215T201006Z
UID:10031314-1770746400-1770753600@visitfloydva.com
SUMMARY:Bingo at the Brewery!
DESCRIPTION:On Tuesdays\, we play BINGO! \nRounds are called from 6-8pm and the nachos are served all evening long!\nFeaturing amazing local business sponsors and some fantastic prizes!\n$1 per card\, max of 3 cards per person.
URL:https://visitfloydva.com/event/bingo-at-the-brewery/2026-02-10/
LOCATION:Buffalo Mountain Brewery & McDaniel’s Tavern\, 332 Webbs Mill Rd.\, Floyd\, VA\, 24091\, United States
GEO:36.9212216;-80.3255321
X-APPLE-STRUCTURED-LOCATION;VALUE=URI;X-ADDRESS=Buffalo Mountain Brewery & McDaniel’s Tavern 332 Webbs Mill Rd. Floyd VA 24091 United States;X-APPLE-RADIUS=500;X-TITLE=332 Webbs Mill Rd.:geo:-80.3255321,36.9212216
END:VEVENT
BEGIN:VEVENT
DTSTART;TZID=America/New_York:20260208T140000
DTEND;TZID=America/New_York:20260208T170000
DTSTAMP:20260419T181631
CREATED:20260205T163816Z
LAST-MODIFIED:20260205T163816Z
UID:10031725-1770559200-1770570000@visitfloydva.com
SUMMARY:Celtic Ceilidh Live
DESCRIPTION:Enjoy live music and brews!
URL:https://visitfloydva.com/event/celtic-ceilidh-live-3/
LOCATION:Buffalo Mountain Brewery & McDaniel’s Tavern\, 332 Webbs Mill Rd.\, Floyd\, VA\, 24091\, United States
GEO:36.9212216;-80.3255321
X-APPLE-STRUCTURED-LOCATION;VALUE=URI;X-ADDRESS=Buffalo Mountain Brewery & McDaniel’s Tavern 332 Webbs Mill Rd. Floyd VA 24091 United States;X-APPLE-RADIUS=500;X-TITLE=332 Webbs Mill Rd.:geo:-80.3255321,36.9212216
END:VEVENT
BEGIN:VEVENT
DTSTART;TZID=America/New_York:20260207T170000
DTEND;TZID=America/New_York:20260207T200000
DTSTAMP:20260419T181631
CREATED:20260205T163746Z
LAST-MODIFIED:20260205T163746Z
UID:10031724-1770483600-1770494400@visitfloydva.com
SUMMARY:Robert Martin Live
DESCRIPTION:Enjoy live music and brews!
URL:https://visitfloydva.com/event/robert-martin-live-2/
LOCATION:Buffalo Mountain Brewery & McDaniel’s Tavern\, 332 Webbs Mill Rd.\, Floyd\, VA\, 24091\, United States
GEO:36.9212216;-80.3255321
X-APPLE-STRUCTURED-LOCATION;VALUE=URI;X-ADDRESS=Buffalo Mountain Brewery & McDaniel’s Tavern 332 Webbs Mill Rd. Floyd VA 24091 United States;X-APPLE-RADIUS=500;X-TITLE=332 Webbs Mill Rd.:geo:-80.3255321,36.9212216
END:VEVENT
BEGIN:VEVENT
DTSTART;TZID=America/New_York:20260207T130000
DTEND;TZID=America/New_York:20260207T160000
DTSTAMP:20260419T181631
CREATED:20260205T163706Z
LAST-MODIFIED:20260205T163706Z
UID:10031723-1770469200-1770480000@visitfloydva.com
SUMMARY:Luke King Live
DESCRIPTION:Enjoy live music and brews!
URL:https://visitfloydva.com/event/luke-king-live-2/
LOCATION:Buffalo Mountain Brewery & McDaniel’s Tavern\, 332 Webbs Mill Rd.\, Floyd\, VA\, 24091\, United States
GEO:36.9212216;-80.3255321
X-APPLE-STRUCTURED-LOCATION;VALUE=URI;X-ADDRESS=Buffalo Mountain Brewery & McDaniel’s Tavern 332 Webbs Mill Rd. Floyd VA 24091 United States;X-APPLE-RADIUS=500;X-TITLE=332 Webbs Mill Rd.:geo:-80.3255321,36.9212216
END:VEVENT
BEGIN:VEVENT
DTSTART;TZID=America/New_York:20260206T170000
DTEND;TZID=America/New_York:20260206T200000
DTSTAMP:20260419T181631
CREATED:20260205T163539Z
LAST-MODIFIED:20260205T163539Z
UID:10031722-1770397200-1770408000@visitfloydva.com
SUMMARY:Allen Surface Live
DESCRIPTION:Enjoy live music and brews!
URL:https://visitfloydva.com/event/allen-surface-live-2/
LOCATION:Buffalo Mountain Brewery & McDaniel’s Tavern\, 332 Webbs Mill Rd.\, Floyd\, VA\, 24091\, United States
GEO:36.9212216;-80.3255321
X-APPLE-STRUCTURED-LOCATION;VALUE=URI;X-ADDRESS=Buffalo Mountain Brewery & McDaniel’s Tavern 332 Webbs Mill Rd. Floyd VA 24091 United States;X-APPLE-RADIUS=500;X-TITLE=332 Webbs Mill Rd.:geo:-80.3255321,36.9212216
END:VEVENT
END:VCALENDAR