BEGIN:VCALENDAR
VERSION:2.0
PRODID:-//Visit Floyd Virginia - ECPv6.15.20//NONSGML v1.0//EN
CALSCALE:GREGORIAN
METHOD:PUBLISH
X-ORIGINAL-URL:https://visitfloydva.com
X-WR-CALDESC:Events for Visit Floyd Virginia
REFRESH-INTERVAL;VALUE=DURATION:PT1H
X-Robots-Tag:noindex
X-PUBLISHED-TTL:PT1H
BEGIN:VTIMEZONE
TZID:America/New_York
BEGIN:DAYLIGHT
TZOFFSETFROM:-0500
TZOFFSETTO:-0400
TZNAME:EDT
DTSTART:20240310T070000
END:DAYLIGHT
BEGIN:STANDARD
TZOFFSETFROM:-0400
TZOFFSETTO:-0500
TZNAME:EST
DTSTART:20241103T060000
END:STANDARD
BEGIN:DAYLIGHT
TZOFFSETFROM:-0500
TZOFFSETTO:-0400
TZNAME:EDT
DTSTART:20250309T070000
END:DAYLIGHT
BEGIN:STANDARD
TZOFFSETFROM:-0400
TZOFFSETTO:-0500
TZNAME:EST
DTSTART:20251102T060000
END:STANDARD
BEGIN:DAYLIGHT
TZOFFSETFROM:-0500
TZOFFSETTO:-0400
TZNAME:EDT
DTSTART:20260308T070000
END:DAYLIGHT
BEGIN:STANDARD
TZOFFSETFROM:-0400
TZOFFSETTO:-0500
TZNAME:EST
DTSTART:20261101T060000
END:STANDARD
END:VTIMEZONE
BEGIN:VEVENT
DTSTART;TZID=America/New_York:20250306T180000
DTEND;TZID=America/New_York:20250306T200000
DTSTAMP:20260420T072404
CREATED:20250304T190705Z
LAST-MODIFIED:20250304T190705Z
UID:10029925-1741284000-1741291200@visitfloydva.com
SUMMARY:Big Poppa Squat & The Squatters
DESCRIPTION:Enjoy live music and brews at Buffalo Mountain Brewery!
URL:https://visitfloydva.com/event/big-poppa-squat-the-squatters-5/2025-03-06/
LOCATION:Buffalo Mountain Brewery & McDaniel’s Tavern\, 332 Webbs Mill Rd.\, Floyd\, VA\, 24091\, United States
GEO:36.9212216;-80.3255321
X-APPLE-STRUCTURED-LOCATION;VALUE=URI;X-ADDRESS=Buffalo Mountain Brewery & McDaniel’s Tavern 332 Webbs Mill Rd. Floyd VA 24091 United States;X-APPLE-RADIUS=500;X-TITLE=332 Webbs Mill Rd.:geo:-80.3255321,36.9212216
END:VEVENT
BEGIN:VEVENT
DTSTART;TZID=America/New_York:20250306T160000
DTEND;TZID=America/New_York:20250306T200000
DTSTAMP:20260420T072404
CREATED:20240917T160633Z
LAST-MODIFIED:20240917T160633Z
UID:10027868-1741276800-1741291200@visitfloydva.com
SUMMARY:Veteran's Social
DESCRIPTION:Floyd VFW and AL posts are offering a social gathering for veterans.This isn’t a fundraiser\, membership drive\, or meeting – just an opportunity for area veterans to meet and chat with fellow vets in a social setting.\nWhat: Veterans social gatheringWhere: Buffalo Mountain Brewery/McDaniels Tavern\, 332 Webbs Mill Rd N\, FloydWhen: First Thursday every Month\, 4-8pmWhy: To hang with other vets\, not at home\, farm\, or work!Cost: No entry fee\, veteran’s discount for food and beverage\nPlease spread the word and bring another vet with you!
URL:https://visitfloydva.com/event/veterans-social/2025-03-06/
LOCATION:Buffalo Mountain Brewery & McDaniel’s Tavern\, 332 Webbs Mill Rd.\, Floyd\, VA\, 24091\, United States
ATTACH;FMTTYPE=image/jpeg:https://visitfloydva.com/wp-content/uploads/2024/09/278025033_4930640470389646_3014122763355022439_n.jpg
GEO:36.9212216;-80.3255321
X-APPLE-STRUCTURED-LOCATION;VALUE=URI;X-ADDRESS=Buffalo Mountain Brewery & McDaniel’s Tavern 332 Webbs Mill Rd. Floyd VA 24091 United States;X-APPLE-RADIUS=500;X-TITLE=332 Webbs Mill Rd.:geo:-80.3255321,36.9212216
END:VEVENT
BEGIN:VEVENT
DTSTART;TZID=America/New_York:20250306T160000
DTEND;TZID=America/New_York:20250306T190000
DTSTAMP:20260420T072404
CREATED:20211201T122116Z
LAST-MODIFIED:20251106T163202Z
UID:10026492-1741276800-1741287600@visitfloydva.com
SUMMARY:Happy Hour at the Brewery!
DESCRIPTION:Celebrate the weekend’s approach and enjoy $1 off all pint pours from 4-7pm at Buffalo Mountain Brewery.\nGrab your favorite local craft brew\, or try a new seasonal!
URL:https://visitfloydva.com/event/happy-hour-buffalo-mountain-brewery/2025-03-06/
LOCATION:Buffalo Mountain Brewery & McDaniel’s Tavern\, 332 Webbs Mill Rd.\, Floyd\, VA\, 24091\, United States
CATEGORIES:Brewery
ATTACH;FMTTYPE=image/jpeg:https://visitfloydva.com/wp-content/uploads/2021/11/Happy-Hour-2.jpg
GEO:36.9212216;-80.3255321
X-APPLE-STRUCTURED-LOCATION;VALUE=URI;X-ADDRESS=Buffalo Mountain Brewery & McDaniel’s Tavern 332 Webbs Mill Rd. Floyd VA 24091 United States;X-APPLE-RADIUS=500;X-TITLE=332 Webbs Mill Rd.:geo:-80.3255321,36.9212216
END:VEVENT
BEGIN:VEVENT
DTSTART;TZID=America/New_York:20250304T170000
DTEND;TZID=America/New_York:20250304T200000
DTSTAMP:20260420T072404
CREATED:20250304T191318Z
LAST-MODIFIED:20250304T191318Z
UID:10029934-1741107600-1741118400@visitfloydva.com
SUMMARY:Starroot & Friends
DESCRIPTION:Enjoy live music and brews at Buffalo Mountain Brewery!
URL:https://visitfloydva.com/event/starroot-friends/
LOCATION:Buffalo Mountain Brewery & McDaniel’s Tavern\, 332 Webbs Mill Rd.\, Floyd\, VA\, 24091\, United States
GEO:36.9212216;-80.3255321
X-APPLE-STRUCTURED-LOCATION;VALUE=URI;X-ADDRESS=Buffalo Mountain Brewery & McDaniel’s Tavern 332 Webbs Mill Rd. Floyd VA 24091 United States;X-APPLE-RADIUS=500;X-TITLE=332 Webbs Mill Rd.:geo:-80.3255321,36.9212216
END:VEVENT
BEGIN:VEVENT
DTSTART;TZID=America/New_York:20250228T170000
DTEND;TZID=America/New_York:20250228T200000
DTSTAMP:20260420T072404
CREATED:20250227T180039Z
LAST-MODIFIED:20250227T180039Z
UID:10028299-1740762000-1740772800@visitfloydva.com
SUMMARY:Jimmy the Jammer
DESCRIPTION:Enjoy live music and brews at Buffalo Mountain Brewery!
URL:https://visitfloydva.com/event/jimmy-the-jammer-3/
LOCATION:Buffalo Mountain Brewery & McDaniel’s Tavern\, 332 Webbs Mill Rd.\, Floyd\, VA\, 24091\, United States
GEO:36.9212216;-80.3255321
X-APPLE-STRUCTURED-LOCATION;VALUE=URI;X-ADDRESS=Buffalo Mountain Brewery & McDaniel’s Tavern 332 Webbs Mill Rd. Floyd VA 24091 United States;X-APPLE-RADIUS=500;X-TITLE=332 Webbs Mill Rd.:geo:-80.3255321,36.9212216
END:VEVENT
BEGIN:VEVENT
DTSTART;TZID=America/New_York:20250227T160000
DTEND;TZID=America/New_York:20250227T190000
DTSTAMP:20260420T072404
CREATED:20211201T122116Z
LAST-MODIFIED:20251106T163202Z
UID:10026491-1740672000-1740682800@visitfloydva.com
SUMMARY:Happy Hour at the Brewery!
DESCRIPTION:Celebrate the weekend’s approach and enjoy $1 off all pint pours from 4-7pm at Buffalo Mountain Brewery.\nGrab your favorite local craft brew\, or try a new seasonal!
URL:https://visitfloydva.com/event/happy-hour-buffalo-mountain-brewery/2025-02-27/
LOCATION:Buffalo Mountain Brewery & McDaniel’s Tavern\, 332 Webbs Mill Rd.\, Floyd\, VA\, 24091\, United States
CATEGORIES:Brewery
ATTACH;FMTTYPE=image/jpeg:https://visitfloydva.com/wp-content/uploads/2021/11/Happy-Hour-2.jpg
GEO:36.9212216;-80.3255321
X-APPLE-STRUCTURED-LOCATION;VALUE=URI;X-ADDRESS=Buffalo Mountain Brewery & McDaniel’s Tavern 332 Webbs Mill Rd. Floyd VA 24091 United States;X-APPLE-RADIUS=500;X-TITLE=332 Webbs Mill Rd.:geo:-80.3255321,36.9212216
END:VEVENT
BEGIN:VEVENT
DTSTART;TZID=America/New_York:20250223T140000
DTEND;TZID=America/New_York:20250223T170000
DTSTAMP:20260420T072404
CREATED:20250220T164705Z
LAST-MODIFIED:20250220T164705Z
UID:10029919-1740319200-1740330000@visitfloydva.com
SUMMARY:Bob Grubel
DESCRIPTION:Enjoy live music and beer at Buffalo Mountain Brewery!
URL:https://visitfloydva.com/event/bob-grubel-3/
LOCATION:Buffalo Mountain Brewery & McDaniel’s Tavern\, 332 Webbs Mill Rd.\, Floyd\, VA\, 24091\, United States
GEO:36.9212216;-80.3255321
X-APPLE-STRUCTURED-LOCATION;VALUE=URI;X-ADDRESS=Buffalo Mountain Brewery & McDaniel’s Tavern 332 Webbs Mill Rd. Floyd VA 24091 United States;X-APPLE-RADIUS=500;X-TITLE=332 Webbs Mill Rd.:geo:-80.3255321,36.9212216
END:VEVENT
BEGIN:VEVENT
DTSTART;TZID=America/New_York:20250222T173000
DTEND;TZID=America/New_York:20250222T193000
DTSTAMP:20260420T072404
CREATED:20250220T164631Z
LAST-MODIFIED:20250220T164631Z
UID:10029918-1740245400-1740252600@visitfloydva.com
SUMMARY:The Flying Doves
DESCRIPTION:Enjoy live music and beer at Buffalo Mountain Brewery!
URL:https://visitfloydva.com/event/the-flying-doves-15/
LOCATION:Buffalo Mountain Brewery & McDaniel’s Tavern\, 332 Webbs Mill Rd.\, Floyd\, VA\, 24091\, United States
GEO:36.9212216;-80.3255321
X-APPLE-STRUCTURED-LOCATION;VALUE=URI;X-ADDRESS=Buffalo Mountain Brewery & McDaniel’s Tavern 332 Webbs Mill Rd. Floyd VA 24091 United States;X-APPLE-RADIUS=500;X-TITLE=332 Webbs Mill Rd.:geo:-80.3255321,36.9212216
END:VEVENT
BEGIN:VEVENT
DTSTART;TZID=America/New_York:20250222T130000
DTEND;TZID=America/New_York:20250222T160000
DTSTAMP:20260420T072404
CREATED:20250220T164537Z
LAST-MODIFIED:20250220T164537Z
UID:10029917-1740229200-1740240000@visitfloydva.com
SUMMARY:Above the Fray
DESCRIPTION:Enjoy live music and beer at Buffalo Mountain Brewery!
URL:https://visitfloydva.com/event/above-the-fray-7/
LOCATION:Buffalo Mountain Brewery & McDaniel’s Tavern\, 332 Webbs Mill Rd.\, Floyd\, VA\, 24091\, United States
GEO:36.9212216;-80.3255321
X-APPLE-STRUCTURED-LOCATION;VALUE=URI;X-ADDRESS=Buffalo Mountain Brewery & McDaniel’s Tavern 332 Webbs Mill Rd. Floyd VA 24091 United States;X-APPLE-RADIUS=500;X-TITLE=332 Webbs Mill Rd.:geo:-80.3255321,36.9212216
END:VEVENT
BEGIN:VEVENT
DTSTART;TZID=America/New_York:20250221T170000
DTEND;TZID=America/New_York:20250221T200000
DTSTAMP:20260420T072404
CREATED:20250220T164458Z
LAST-MODIFIED:20250220T164458Z
UID:10029916-1740157200-1740168000@visitfloydva.com
SUMMARY:Barry LeNoir
DESCRIPTION:Enjoy live music and beer at Buffalo Mountain Brewery!
URL:https://visitfloydva.com/event/barry-lenoir-3/
LOCATION:Buffalo Mountain Brewery & McDaniel’s Tavern\, 332 Webbs Mill Rd.\, Floyd\, VA\, 24091\, United States
GEO:36.9212216;-80.3255321
X-APPLE-STRUCTURED-LOCATION;VALUE=URI;X-ADDRESS=Buffalo Mountain Brewery & McDaniel’s Tavern 332 Webbs Mill Rd. Floyd VA 24091 United States;X-APPLE-RADIUS=500;X-TITLE=332 Webbs Mill Rd.:geo:-80.3255321,36.9212216
END:VEVENT
BEGIN:VEVENT
DTSTART;TZID=America/New_York:20250220T180000
DTEND;TZID=America/New_York:20250220T200000
DTSTAMP:20260420T072404
CREATED:20250220T164352Z
LAST-MODIFIED:20250220T164352Z
UID:10029915-1740074400-1740081600@visitfloydva.com
SUMMARY:Big Poppa Squat & The Squatters
DESCRIPTION:Enjoy live music and beer at Buffalo Mountain Brewery!
URL:https://visitfloydva.com/event/big-poppa-squat-the-squatters-4/
LOCATION:Buffalo Mountain Brewery & McDaniel’s Tavern\, 332 Webbs Mill Rd.\, Floyd\, VA\, 24091\, United States
GEO:36.9212216;-80.3255321
X-APPLE-STRUCTURED-LOCATION;VALUE=URI;X-ADDRESS=Buffalo Mountain Brewery & McDaniel’s Tavern 332 Webbs Mill Rd. Floyd VA 24091 United States;X-APPLE-RADIUS=500;X-TITLE=332 Webbs Mill Rd.:geo:-80.3255321,36.9212216
END:VEVENT
BEGIN:VEVENT
DTSTART;TZID=America/New_York:20250220T160000
DTEND;TZID=America/New_York:20250220T190000
DTSTAMP:20260420T072404
CREATED:20211201T122116Z
LAST-MODIFIED:20251106T163202Z
UID:10026490-1740067200-1740078000@visitfloydva.com
SUMMARY:Happy Hour at the Brewery!
DESCRIPTION:Celebrate the weekend’s approach and enjoy $1 off all pint pours from 4-7pm at Buffalo Mountain Brewery.\nGrab your favorite local craft brew\, or try a new seasonal!
URL:https://visitfloydva.com/event/happy-hour-buffalo-mountain-brewery/2025-02-20/
LOCATION:Buffalo Mountain Brewery & McDaniel’s Tavern\, 332 Webbs Mill Rd.\, Floyd\, VA\, 24091\, United States
CATEGORIES:Brewery
ATTACH;FMTTYPE=image/jpeg:https://visitfloydva.com/wp-content/uploads/2021/11/Happy-Hour-2.jpg
GEO:36.9212216;-80.3255321
X-APPLE-STRUCTURED-LOCATION;VALUE=URI;X-ADDRESS=Buffalo Mountain Brewery & McDaniel’s Tavern 332 Webbs Mill Rd. Floyd VA 24091 United States;X-APPLE-RADIUS=500;X-TITLE=332 Webbs Mill Rd.:geo:-80.3255321,36.9212216
END:VEVENT
BEGIN:VEVENT
DTSTART;TZID=America/New_York:20250213T160000
DTEND;TZID=America/New_York:20250213T190000
DTSTAMP:20260420T072404
CREATED:20211201T122116Z
LAST-MODIFIED:20251106T163202Z
UID:10026489-1739462400-1739473200@visitfloydva.com
SUMMARY:Happy Hour at the Brewery!
DESCRIPTION:Celebrate the weekend’s approach and enjoy $1 off all pint pours from 4-7pm at Buffalo Mountain Brewery.\nGrab your favorite local craft brew\, or try a new seasonal!
URL:https://visitfloydva.com/event/happy-hour-buffalo-mountain-brewery/2025-02-13/
LOCATION:Buffalo Mountain Brewery & McDaniel’s Tavern\, 332 Webbs Mill Rd.\, Floyd\, VA\, 24091\, United States
CATEGORIES:Brewery
ATTACH;FMTTYPE=image/jpeg:https://visitfloydva.com/wp-content/uploads/2021/11/Happy-Hour-2.jpg
GEO:36.9212216;-80.3255321
X-APPLE-STRUCTURED-LOCATION;VALUE=URI;X-ADDRESS=Buffalo Mountain Brewery & McDaniel’s Tavern 332 Webbs Mill Rd. Floyd VA 24091 United States;X-APPLE-RADIUS=500;X-TITLE=332 Webbs Mill Rd.:geo:-80.3255321,36.9212216
END:VEVENT
BEGIN:VEVENT
DTSTART;TZID=America/New_York:20250206T160000
DTEND;TZID=America/New_York:20250206T200000
DTSTAMP:20260420T072404
CREATED:20240917T160633Z
LAST-MODIFIED:20240917T160633Z
UID:10027867-1738857600-1738872000@visitfloydva.com
SUMMARY:Veteran's Social
DESCRIPTION:Floyd VFW and AL posts are offering a social gathering for veterans.This isn’t a fundraiser\, membership drive\, or meeting – just an opportunity for area veterans to meet and chat with fellow vets in a social setting.\nWhat: Veterans social gatheringWhere: Buffalo Mountain Brewery/McDaniels Tavern\, 332 Webbs Mill Rd N\, FloydWhen: First Thursday every Month\, 4-8pmWhy: To hang with other vets\, not at home\, farm\, or work!Cost: No entry fee\, veteran’s discount for food and beverage\nPlease spread the word and bring another vet with you!
URL:https://visitfloydva.com/event/veterans-social/2025-02-06/
LOCATION:Buffalo Mountain Brewery & McDaniel’s Tavern\, 332 Webbs Mill Rd.\, Floyd\, VA\, 24091\, United States
ATTACH;FMTTYPE=image/jpeg:https://visitfloydva.com/wp-content/uploads/2024/09/278025033_4930640470389646_3014122763355022439_n.jpg
GEO:36.9212216;-80.3255321
X-APPLE-STRUCTURED-LOCATION;VALUE=URI;X-ADDRESS=Buffalo Mountain Brewery & McDaniel’s Tavern 332 Webbs Mill Rd. Floyd VA 24091 United States;X-APPLE-RADIUS=500;X-TITLE=332 Webbs Mill Rd.:geo:-80.3255321,36.9212216
END:VEVENT
BEGIN:VEVENT
DTSTART;TZID=America/New_York:20250206T160000
DTEND;TZID=America/New_York:20250206T190000
DTSTAMP:20260420T072404
CREATED:20211201T122116Z
LAST-MODIFIED:20251106T163202Z
UID:10026488-1738857600-1738868400@visitfloydva.com
SUMMARY:Happy Hour at the Brewery!
DESCRIPTION:Celebrate the weekend’s approach and enjoy $1 off all pint pours from 4-7pm at Buffalo Mountain Brewery.\nGrab your favorite local craft brew\, or try a new seasonal!
URL:https://visitfloydva.com/event/happy-hour-buffalo-mountain-brewery/2025-02-06/
LOCATION:Buffalo Mountain Brewery & McDaniel’s Tavern\, 332 Webbs Mill Rd.\, Floyd\, VA\, 24091\, United States
CATEGORIES:Brewery
ATTACH;FMTTYPE=image/jpeg:https://visitfloydva.com/wp-content/uploads/2021/11/Happy-Hour-2.jpg
GEO:36.9212216;-80.3255321
X-APPLE-STRUCTURED-LOCATION;VALUE=URI;X-ADDRESS=Buffalo Mountain Brewery & McDaniel’s Tavern 332 Webbs Mill Rd. Floyd VA 24091 United States;X-APPLE-RADIUS=500;X-TITLE=332 Webbs Mill Rd.:geo:-80.3255321,36.9212216
END:VEVENT
BEGIN:VEVENT
DTSTART;TZID=America/New_York:20250131T170000
DTEND;TZID=America/New_York:20250131T200000
DTSTAMP:20260420T072404
CREATED:20241205T163258Z
LAST-MODIFIED:20250109T175425Z
UID:10029837-1738342800-1738353600@visitfloydva.com
SUMMARY:Jimmy the Jammer
DESCRIPTION:Enjoy live music at Buffalo Mountain Brewery with great friends and brews.
URL:https://visitfloydva.com/event/jimmy-the-jammer-2/2025-01-31/
LOCATION:Buffalo Mountain Brewery & McDaniel’s Tavern\, 332 Webbs Mill Rd.\, Floyd\, VA\, 24091\, United States
GEO:36.9212216;-80.3255321
X-APPLE-STRUCTURED-LOCATION;VALUE=URI;X-ADDRESS=Buffalo Mountain Brewery & McDaniel’s Tavern 332 Webbs Mill Rd. Floyd VA 24091 United States;X-APPLE-RADIUS=500;X-TITLE=332 Webbs Mill Rd.:geo:-80.3255321,36.9212216
END:VEVENT
BEGIN:VEVENT
DTSTART;TZID=America/New_York:20250130T180000
DTEND;TZID=America/New_York:20250130T200000
DTSTAMP:20260420T072404
CREATED:20250109T175630Z
LAST-MODIFIED:20250109T175630Z
UID:10029872-1738260000-1738267200@visitfloydva.com
SUMMARY:Tom's Jams
DESCRIPTION:Enjoy live music at Buffalo Mountain Brewery with great friends and brews.
URL:https://visitfloydva.com/event/toms-jams/
LOCATION:Buffalo Mountain Brewery & McDaniel’s Tavern\, 332 Webbs Mill Rd.\, Floyd\, VA\, 24091\, United States
GEO:36.9212216;-80.3255321
X-APPLE-STRUCTURED-LOCATION;VALUE=URI;X-ADDRESS=Buffalo Mountain Brewery & McDaniel’s Tavern 332 Webbs Mill Rd. Floyd VA 24091 United States;X-APPLE-RADIUS=500;X-TITLE=332 Webbs Mill Rd.:geo:-80.3255321,36.9212216
END:VEVENT
BEGIN:VEVENT
DTSTART;TZID=America/New_York:20250130T160000
DTEND;TZID=America/New_York:20250130T190000
DTSTAMP:20260420T072404
CREATED:20211201T122116Z
LAST-MODIFIED:20251106T163202Z
UID:10026487-1738252800-1738263600@visitfloydva.com
SUMMARY:Happy Hour at the Brewery!
DESCRIPTION:Celebrate the weekend’s approach and enjoy $1 off all pint pours from 4-7pm at Buffalo Mountain Brewery.\nGrab your favorite local craft brew\, or try a new seasonal!
URL:https://visitfloydva.com/event/happy-hour-buffalo-mountain-brewery/2025-01-30/
LOCATION:Buffalo Mountain Brewery & McDaniel’s Tavern\, 332 Webbs Mill Rd.\, Floyd\, VA\, 24091\, United States
CATEGORIES:Brewery
ATTACH;FMTTYPE=image/jpeg:https://visitfloydva.com/wp-content/uploads/2021/11/Happy-Hour-2.jpg
GEO:36.9212216;-80.3255321
X-APPLE-STRUCTURED-LOCATION;VALUE=URI;X-ADDRESS=Buffalo Mountain Brewery & McDaniel’s Tavern 332 Webbs Mill Rd. Floyd VA 24091 United States;X-APPLE-RADIUS=500;X-TITLE=332 Webbs Mill Rd.:geo:-80.3255321,36.9212216
END:VEVENT
BEGIN:VEVENT
DTSTART;TZID=America/New_York:20250126T140000
DTEND;TZID=America/New_York:20250126T170000
DTSTAMP:20260420T072404
CREATED:20241212T172353Z
LAST-MODIFIED:20250109T175716Z
UID:10029845-1737900000-1737910800@visitfloydva.com
SUMMARY:Virginia Hollow
DESCRIPTION:Enjoy live music at Buffalo Mountain Brewery with great friends and brews.
URL:https://visitfloydva.com/event/virginia-hollow-6/
LOCATION:Buffalo Mountain Brewery & McDaniel’s Tavern\, 332 Webbs Mill Rd.\, Floyd\, VA\, 24091\, United States
GEO:36.9212216;-80.3255321
X-APPLE-STRUCTURED-LOCATION;VALUE=URI;X-ADDRESS=Buffalo Mountain Brewery & McDaniel’s Tavern 332 Webbs Mill Rd. Floyd VA 24091 United States;X-APPLE-RADIUS=500;X-TITLE=332 Webbs Mill Rd.:geo:-80.3255321,36.9212216
END:VEVENT
BEGIN:VEVENT
DTSTART;TZID=America/New_York:20250125T173000
DTEND;TZID=America/New_York:20250125T193000
DTSTAMP:20260420T072404
CREATED:20240917T161102Z
LAST-MODIFIED:20250109T175655Z
UID:10027888-1737826200-1737833400@visitfloydva.com
SUMMARY:The Flying Doves
DESCRIPTION:Stop into Buffalo Mountain Brewery for your favorite local craft beer and live music.
URL:https://visitfloydva.com/event/the-flying-doves-14/
LOCATION:Buffalo Mountain Brewery & McDaniel’s Tavern\, 332 Webbs Mill Rd.\, Floyd\, VA\, 24091\, United States
GEO:36.9212216;-80.3255321
X-APPLE-STRUCTURED-LOCATION;VALUE=URI;X-ADDRESS=Buffalo Mountain Brewery & McDaniel’s Tavern 332 Webbs Mill Rd. Floyd VA 24091 United States;X-APPLE-RADIUS=500;X-TITLE=332 Webbs Mill Rd.:geo:-80.3255321,36.9212216
END:VEVENT
BEGIN:VEVENT
DTSTART;TZID=America/New_York:20250125T130000
DTEND;TZID=America/New_York:20250125T160000
DTSTAMP:20260420T072404
CREATED:20241212T172314Z
LAST-MODIFIED:20250109T174949Z
UID:10029844-1737810000-1737820800@visitfloydva.com
SUMMARY:Paul LeMay
DESCRIPTION:Enjoy live music at Buffalo Mountain Brewery with great friends and brews.
URL:https://visitfloydva.com/event/paul-lemay-4/2025-01-25/
LOCATION:Buffalo Mountain Brewery & McDaniel’s Tavern\, 332 Webbs Mill Rd.\, Floyd\, VA\, 24091\, United States
GEO:36.9212216;-80.3255321
X-APPLE-STRUCTURED-LOCATION;VALUE=URI;X-ADDRESS=Buffalo Mountain Brewery & McDaniel’s Tavern 332 Webbs Mill Rd. Floyd VA 24091 United States;X-APPLE-RADIUS=500;X-TITLE=332 Webbs Mill Rd.:geo:-80.3255321,36.9212216
END:VEVENT
BEGIN:VEVENT
DTSTART;TZID=America/New_York:20250124T170000
DTEND;TZID=America/New_York:20250124T200000
DTSTAMP:20260420T072404
CREATED:20250109T175536Z
LAST-MODIFIED:20250109T175536Z
UID:10029871-1737738000-1737748800@visitfloydva.com
SUMMARY:Robert Martin
DESCRIPTION:Enjoy live music at Buffalo Mountain Brewery with great friends and brews.
URL:https://visitfloydva.com/event/robert-martin-2/
LOCATION:Buffalo Mountain Brewery & McDaniel’s Tavern\, 332 Webbs Mill Rd.\, Floyd\, VA\, 24091\, United States
GEO:36.9212216;-80.3255321
X-APPLE-STRUCTURED-LOCATION;VALUE=URI;X-ADDRESS=Buffalo Mountain Brewery & McDaniel’s Tavern 332 Webbs Mill Rd. Floyd VA 24091 United States;X-APPLE-RADIUS=500;X-TITLE=332 Webbs Mill Rd.:geo:-80.3255321,36.9212216
END:VEVENT
BEGIN:VEVENT
DTSTART;TZID=America/New_York:20250123T180000
DTEND;TZID=America/New_York:20250123T200000
DTSTAMP:20260420T072404
CREATED:20241212T172219Z
LAST-MODIFIED:20250109T174850Z
UID:10029842-1737655200-1737662400@visitfloydva.com
SUMMARY:Henry Hardt's Mudcats
DESCRIPTION:Enjoy live music at Buffalo Mountain Brewery with great friends and brews.
URL:https://visitfloydva.com/event/henry-hardts-mudcats-37/2025-01-23/
LOCATION:Buffalo Mountain Brewery & McDaniel’s Tavern\, 332 Webbs Mill Rd.\, Floyd\, VA\, 24091\, United States
GEO:36.9212216;-80.3255321
X-APPLE-STRUCTURED-LOCATION;VALUE=URI;X-ADDRESS=Buffalo Mountain Brewery & McDaniel’s Tavern 332 Webbs Mill Rd. Floyd VA 24091 United States;X-APPLE-RADIUS=500;X-TITLE=332 Webbs Mill Rd.:geo:-80.3255321,36.9212216
END:VEVENT
BEGIN:VEVENT
DTSTART;TZID=America/New_York:20250123T160000
DTEND;TZID=America/New_York:20250123T190000
DTSTAMP:20260420T072404
CREATED:20211201T122116Z
LAST-MODIFIED:20251106T163202Z
UID:10026486-1737648000-1737658800@visitfloydva.com
SUMMARY:Happy Hour at the Brewery!
DESCRIPTION:Celebrate the weekend’s approach and enjoy $1 off all pint pours from 4-7pm at Buffalo Mountain Brewery.\nGrab your favorite local craft brew\, or try a new seasonal!
URL:https://visitfloydva.com/event/happy-hour-buffalo-mountain-brewery/2025-01-23/
LOCATION:Buffalo Mountain Brewery & McDaniel’s Tavern\, 332 Webbs Mill Rd.\, Floyd\, VA\, 24091\, United States
CATEGORIES:Brewery
ATTACH;FMTTYPE=image/jpeg:https://visitfloydva.com/wp-content/uploads/2021/11/Happy-Hour-2.jpg
GEO:36.9212216;-80.3255321
X-APPLE-STRUCTURED-LOCATION;VALUE=URI;X-ADDRESS=Buffalo Mountain Brewery & McDaniel’s Tavern 332 Webbs Mill Rd. Floyd VA 24091 United States;X-APPLE-RADIUS=500;X-TITLE=332 Webbs Mill Rd.:geo:-80.3255321,36.9212216
END:VEVENT
BEGIN:VEVENT
DTSTART;TZID=America/New_York:20250119T140000
DTEND;TZID=America/New_York:20250119T170000
DTSTAMP:20260420T072404
CREATED:20241205T163410Z
LAST-MODIFIED:20250109T175510Z
UID:10029838-1737295200-1737306000@visitfloydva.com
SUMMARY:Clay Blevins
DESCRIPTION:Enjoy live music at Buffalo Mountain Brewery with great friends and brews.
URL:https://visitfloydva.com/event/clay-blevins-2/
LOCATION:Buffalo Mountain Brewery & McDaniel’s Tavern\, 332 Webbs Mill Rd.\, Floyd\, VA\, 24091\, United States
GEO:36.9212216;-80.3255321
X-APPLE-STRUCTURED-LOCATION;VALUE=URI;X-ADDRESS=Buffalo Mountain Brewery & McDaniel’s Tavern 332 Webbs Mill Rd. Floyd VA 24091 United States;X-APPLE-RADIUS=500;X-TITLE=332 Webbs Mill Rd.:geo:-80.3255321,36.9212216
END:VEVENT
BEGIN:VEVENT
DTSTART;TZID=America/New_York:20250118T170000
DTEND;TZID=America/New_York:20250118T200000
DTSTAMP:20260420T072404
CREATED:20241205T163258Z
LAST-MODIFIED:20250109T175425Z
UID:10029836-1737219600-1737230400@visitfloydva.com
SUMMARY:Jimmy the Jammer
DESCRIPTION:Enjoy live music at Buffalo Mountain Brewery with great friends and brews.
URL:https://visitfloydva.com/event/jimmy-the-jammer-2/2025-01-18/
LOCATION:Buffalo Mountain Brewery & McDaniel’s Tavern\, 332 Webbs Mill Rd.\, Floyd\, VA\, 24091\, United States
GEO:36.9212216;-80.3255321
X-APPLE-STRUCTURED-LOCATION;VALUE=URI;X-ADDRESS=Buffalo Mountain Brewery & McDaniel’s Tavern 332 Webbs Mill Rd. Floyd VA 24091 United States;X-APPLE-RADIUS=500;X-TITLE=332 Webbs Mill Rd.:geo:-80.3255321,36.9212216
END:VEVENT
BEGIN:VEVENT
DTSTART;TZID=America/New_York:20250118T130000
DTEND;TZID=America/New_York:20250118T160000
DTSTAMP:20260420T072404
CREATED:20250109T175322Z
LAST-MODIFIED:20250109T175322Z
UID:10029870-1737205200-1737216000@visitfloydva.com
SUMMARY:High Strung Irish
DESCRIPTION:Enjoy live music at Buffalo Mountain Brewery with great friends and brews.
URL:https://visitfloydva.com/event/high-strung-irish/
LOCATION:Buffalo Mountain Brewery & McDaniel’s Tavern\, 332 Webbs Mill Rd.\, Floyd\, VA\, 24091\, United States
GEO:36.9212216;-80.3255321
X-APPLE-STRUCTURED-LOCATION;VALUE=URI;X-ADDRESS=Buffalo Mountain Brewery & McDaniel’s Tavern 332 Webbs Mill Rd. Floyd VA 24091 United States;X-APPLE-RADIUS=500;X-TITLE=332 Webbs Mill Rd.:geo:-80.3255321,36.9212216
END:VEVENT
BEGIN:VEVENT
DTSTART;TZID=America/New_York:20250117T170000
DTEND;TZID=America/New_York:20250117T200000
DTSTAMP:20260420T072404
CREATED:20241212T172652Z
LAST-MODIFIED:20250109T175246Z
UID:10029849-1737133200-1737144000@visitfloydva.com
SUMMARY:Barry LeNoir
DESCRIPTION:Enjoy live music at Buffalo Mountain Brewery with great friends and brews.
URL:https://visitfloydva.com/event/barry-lenoir-2/
LOCATION:Buffalo Mountain Brewery & McDaniel’s Tavern\, 332 Webbs Mill Rd.\, Floyd\, VA\, 24091\, United States
GEO:36.9212216;-80.3255321
X-APPLE-STRUCTURED-LOCATION;VALUE=URI;X-ADDRESS=Buffalo Mountain Brewery & McDaniel’s Tavern 332 Webbs Mill Rd. Floyd VA 24091 United States;X-APPLE-RADIUS=500;X-TITLE=332 Webbs Mill Rd.:geo:-80.3255321,36.9212216
END:VEVENT
BEGIN:VEVENT
DTSTART;TZID=America/New_York:20250116T180000
DTEND;TZID=America/New_York:20250116T200000
DTSTAMP:20260420T072404
CREATED:20241205T161818Z
LAST-MODIFIED:20250109T175213Z
UID:10029833-1737050400-1737057600@visitfloydva.com
SUMMARY:Big Poppa Squat & The Squatters
DESCRIPTION:Enjoy live music at Buffalo Mountain Brewery with great friends and brews.
URL:https://visitfloydva.com/event/big-poppa-squat-the-squatters-3/
LOCATION:Buffalo Mountain Brewery & McDaniel’s Tavern\, 332 Webbs Mill Rd.\, Floyd\, VA\, 24091\, United States
GEO:36.9212216;-80.3255321
X-APPLE-STRUCTURED-LOCATION;VALUE=URI;X-ADDRESS=Buffalo Mountain Brewery & McDaniel’s Tavern 332 Webbs Mill Rd. Floyd VA 24091 United States;X-APPLE-RADIUS=500;X-TITLE=332 Webbs Mill Rd.:geo:-80.3255321,36.9212216
END:VEVENT
BEGIN:VEVENT
DTSTART;TZID=America/New_York:20250116T160000
DTEND;TZID=America/New_York:20250116T190000
DTSTAMP:20260420T072404
CREATED:20211201T122116Z
LAST-MODIFIED:20251106T163202Z
UID:10026485-1737043200-1737054000@visitfloydva.com
SUMMARY:Happy Hour at the Brewery!
DESCRIPTION:Celebrate the weekend’s approach and enjoy $1 off all pint pours from 4-7pm at Buffalo Mountain Brewery.\nGrab your favorite local craft brew\, or try a new seasonal!
URL:https://visitfloydva.com/event/happy-hour-buffalo-mountain-brewery/2025-01-16/
LOCATION:Buffalo Mountain Brewery & McDaniel’s Tavern\, 332 Webbs Mill Rd.\, Floyd\, VA\, 24091\, United States
CATEGORIES:Brewery
ATTACH;FMTTYPE=image/jpeg:https://visitfloydva.com/wp-content/uploads/2021/11/Happy-Hour-2.jpg
GEO:36.9212216;-80.3255321
X-APPLE-STRUCTURED-LOCATION;VALUE=URI;X-ADDRESS=Buffalo Mountain Brewery & McDaniel’s Tavern 332 Webbs Mill Rd. Floyd VA 24091 United States;X-APPLE-RADIUS=500;X-TITLE=332 Webbs Mill Rd.:geo:-80.3255321,36.9212216
END:VEVENT
END:VCALENDAR