BEGIN:VCALENDAR
VERSION:2.0
PRODID:-//Visit Floyd Virginia - ECPv6.15.20//NONSGML v1.0//EN
CALSCALE:GREGORIAN
METHOD:PUBLISH
X-WR-CALNAME:Visit Floyd Virginia
X-ORIGINAL-URL:https://visitfloydva.com
X-WR-CALDESC:Events for Visit Floyd Virginia
REFRESH-INTERVAL;VALUE=DURATION:PT1H
X-Robots-Tag:noindex
X-PUBLISHED-TTL:PT1H
BEGIN:VTIMEZONE
TZID:America/New_York
BEGIN:DAYLIGHT
TZOFFSETFROM:-0500
TZOFFSETTO:-0400
TZNAME:EDT
DTSTART:20240310T070000
END:DAYLIGHT
BEGIN:STANDARD
TZOFFSETFROM:-0400
TZOFFSETTO:-0500
TZNAME:EST
DTSTART:20241103T060000
END:STANDARD
BEGIN:DAYLIGHT
TZOFFSETFROM:-0500
TZOFFSETTO:-0400
TZNAME:EDT
DTSTART:20250309T070000
END:DAYLIGHT
BEGIN:STANDARD
TZOFFSETFROM:-0400
TZOFFSETTO:-0500
TZNAME:EST
DTSTART:20251102T060000
END:STANDARD
BEGIN:DAYLIGHT
TZOFFSETFROM:-0500
TZOFFSETTO:-0400
TZNAME:EDT
DTSTART:20260308T070000
END:DAYLIGHT
BEGIN:STANDARD
TZOFFSETFROM:-0400
TZOFFSETTO:-0500
TZNAME:EST
DTSTART:20261101T060000
END:STANDARD
END:VTIMEZONE
BEGIN:VEVENT
DTSTART;TZID=America/New_York:20250817T160000
DTEND;TZID=America/New_York:20250817T190000
DTSTAMP:20260420T081133
CREATED:20250813T185109Z
LAST-MODIFIED:20250813T185109Z
UID:10030238-1755446400-1755457200@visitfloydva.com
SUMMARY:Chicken BBQ Fundraiser
DESCRIPTION:Eat in or take out delicious food at the annual Chicken BBQ! Proceeds go to the Amercian Legion 127 of Floyd County. \nAug17th from 4-7 pm at 186 Epperly Mill Rd
URL:https://visitfloydva.com/event/chicken-bbq-fundraiser/
LOCATION:American Legion Post 127\, 186 Epperly Mill Road SW\, Floyd\, VA\, 24091
END:VEVENT
BEGIN:VEVENT
DTSTART;TZID=America/New_York:20250512T160000
DTEND;TZID=America/New_York:20250512T190000
DTSTAMP:20260420T081133
CREATED:20250509T150216Z
LAST-MODIFIED:20250509T150216Z
UID:10030101-1747065600-1747076400@visitfloydva.com
SUMMARY:Spaghetti Fundraiser for local Veterans
DESCRIPTION:Swing by the Post Monday evening and we will handle cooking up dinner! Spaghetti available to eat in OR carry out – whatever makes your evening easier! This fundraiser helps us continue to support our brothers and sisters in arms when they need a little assistance.
URL:https://visitfloydva.com/event/spaghetti-fundraiser-for-local-veterans/
LOCATION:American Legion Post 127\, 186 Epperly Mill Road SW\, Floyd\, VA\, 24091
END:VEVENT
END:VCALENDAR