BEGIN:VCALENDAR
VERSION:2.0
PRODID:-//Visit Floyd Virginia - ECPv6.15.20//NONSGML v1.0//EN
CALSCALE:GREGORIAN
METHOD:PUBLISH
X-ORIGINAL-URL:https://visitfloydva.com
X-WR-CALDESC:Events for Visit Floyd Virginia
REFRESH-INTERVAL;VALUE=DURATION:PT1H
X-Robots-Tag:noindex
X-PUBLISHED-TTL:PT1H
BEGIN:VTIMEZONE
TZID:America/New_York
BEGIN:DAYLIGHT
TZOFFSETFROM:-0500
TZOFFSETTO:-0400
TZNAME:EDT
DTSTART:20230312T070000
END:DAYLIGHT
BEGIN:STANDARD
TZOFFSETFROM:-0400
TZOFFSETTO:-0500
TZNAME:EST
DTSTART:20231105T060000
END:STANDARD
BEGIN:DAYLIGHT
TZOFFSETFROM:-0500
TZOFFSETTO:-0400
TZNAME:EDT
DTSTART:20240310T070000
END:DAYLIGHT
BEGIN:STANDARD
TZOFFSETFROM:-0400
TZOFFSETTO:-0500
TZNAME:EST
DTSTART:20241103T060000
END:STANDARD
BEGIN:DAYLIGHT
TZOFFSETFROM:-0500
TZOFFSETTO:-0400
TZNAME:EDT
DTSTART:20250309T070000
END:DAYLIGHT
BEGIN:STANDARD
TZOFFSETFROM:-0400
TZOFFSETTO:-0500
TZNAME:EST
DTSTART:20251102T060000
END:STANDARD
END:VTIMEZONE
BEGIN:VEVENT
DTSTART;TZID=America/New_York:20240706T100000
DTEND;TZID=America/New_York:20240706T130000
DTSTAMP:20260420T040436
CREATED:20240517T032225Z
LAST-MODIFIED:20241212T174342Z
UID:10029386-1720260000-1720270800@visitfloydva.com
SUMMARY:There's the Buffalo!
DESCRIPTION:Old Church Gallery proudly presents our 2024 exhibit “There’s the Buffalo!” Over twenty local artists share their personal visions of Floyd County’s legendary Buffalo Mountain using textiles\, photography\, painting\, and glasswork. Also included in the exhibit are memories of early 20th Century life around Buffalo Mountain taken from 1999-2001 interviews with longtime residents.\nAs the Cultural Arts Museum for Floyd County\, our permanent exhibit spaces are filled with glimpses of life here from prehistoric stone tools to contemporary sculptures. \nWe’re at 110 Wilson Street (between Finders Keepers and Hotel Floyd) with ample parking and walking access off the town Heritage Trail. Admission is free.
URL:https://visitfloydva.com/event/theres-the-buffalo-4/2024-07-06/
LOCATION:Old Church Gallery\, 110 Wilson St.\, Floyd\, VA\, 24091\, Select a Country:
CATEGORIES:Arts & Handcraft,Community
ATTACH;FMTTYPE=image/jpeg:https://visitfloydva.com/wp-content/uploads/2024/05/IMG_2443.jpg
ORGANIZER;CN="Old Church Gallery":MAILTO:oldchurchgallery@swva.net
GEO:36.911011;-80.317746
X-APPLE-STRUCTURED-LOCATION;VALUE=URI;X-ADDRESS=Old Church Gallery 110 Wilson St. Floyd VA 24091 Select a Country:;X-APPLE-RADIUS=500;X-TITLE=110 Wilson St.:geo:-80.317746,36.911011
END:VEVENT
BEGIN:VEVENT
DTSTART;TZID=America/New_York:20240629T100000
DTEND;TZID=America/New_York:20240629T130000
DTSTAMP:20260420T040436
CREATED:20240517T032225Z
LAST-MODIFIED:20241212T174342Z
UID:10029385-1719655200-1719666000@visitfloydva.com
SUMMARY:There's the Buffalo!
DESCRIPTION:Old Church Gallery proudly presents our 2024 exhibit “There’s the Buffalo!” Over twenty local artists share their personal visions of Floyd County’s legendary Buffalo Mountain using textiles\, photography\, painting\, and glasswork. Also included in the exhibit are memories of early 20th Century life around Buffalo Mountain taken from 1999-2001 interviews with longtime residents.\nAs the Cultural Arts Museum for Floyd County\, our permanent exhibit spaces are filled with glimpses of life here from prehistoric stone tools to contemporary sculptures. \nWe’re at 110 Wilson Street (between Finders Keepers and Hotel Floyd) with ample parking and walking access off the town Heritage Trail. Admission is free.
URL:https://visitfloydva.com/event/theres-the-buffalo-4/2024-06-29/
LOCATION:Old Church Gallery\, 110 Wilson St.\, Floyd\, VA\, 24091\, Select a Country:
CATEGORIES:Arts & Handcraft,Community
ATTACH;FMTTYPE=image/jpeg:https://visitfloydva.com/wp-content/uploads/2024/05/IMG_2443.jpg
ORGANIZER;CN="Old Church Gallery":MAILTO:oldchurchgallery@swva.net
GEO:36.911011;-80.317746
X-APPLE-STRUCTURED-LOCATION;VALUE=URI;X-ADDRESS=Old Church Gallery 110 Wilson St. Floyd VA 24091 Select a Country:;X-APPLE-RADIUS=500;X-TITLE=110 Wilson St.:geo:-80.317746,36.911011
END:VEVENT
BEGIN:VEVENT
DTSTART;TZID=America/New_York:20240622T100000
DTEND;TZID=America/New_York:20240622T130000
DTSTAMP:20260420T040436
CREATED:20240517T032225Z
LAST-MODIFIED:20241212T174342Z
UID:10029384-1719050400-1719061200@visitfloydva.com
SUMMARY:There's the Buffalo!
DESCRIPTION:Old Church Gallery proudly presents our 2024 exhibit “There’s the Buffalo!” Over twenty local artists share their personal visions of Floyd County’s legendary Buffalo Mountain using textiles\, photography\, painting\, and glasswork. Also included in the exhibit are memories of early 20th Century life around Buffalo Mountain taken from 1999-2001 interviews with longtime residents.\nAs the Cultural Arts Museum for Floyd County\, our permanent exhibit spaces are filled with glimpses of life here from prehistoric stone tools to contemporary sculptures. \nWe’re at 110 Wilson Street (between Finders Keepers and Hotel Floyd) with ample parking and walking access off the town Heritage Trail. Admission is free.
URL:https://visitfloydva.com/event/theres-the-buffalo-4/2024-06-22/
LOCATION:Old Church Gallery\, 110 Wilson St.\, Floyd\, VA\, 24091\, Select a Country:
CATEGORIES:Arts & Handcraft,Community
ATTACH;FMTTYPE=image/jpeg:https://visitfloydva.com/wp-content/uploads/2024/05/IMG_2443.jpg
ORGANIZER;CN="Old Church Gallery":MAILTO:oldchurchgallery@swva.net
GEO:36.911011;-80.317746
X-APPLE-STRUCTURED-LOCATION;VALUE=URI;X-ADDRESS=Old Church Gallery 110 Wilson St. Floyd VA 24091 Select a Country:;X-APPLE-RADIUS=500;X-TITLE=110 Wilson St.:geo:-80.317746,36.911011
END:VEVENT
BEGIN:VEVENT
DTSTART;TZID=America/New_York:20240615T100000
DTEND;TZID=America/New_York:20240615T130000
DTSTAMP:20260420T040436
CREATED:20240517T032225Z
LAST-MODIFIED:20241212T174342Z
UID:10029383-1718445600-1718456400@visitfloydva.com
SUMMARY:There's the Buffalo!
DESCRIPTION:Old Church Gallery proudly presents our 2024 exhibit “There’s the Buffalo!” Over twenty local artists share their personal visions of Floyd County’s legendary Buffalo Mountain using textiles\, photography\, painting\, and glasswork. Also included in the exhibit are memories of early 20th Century life around Buffalo Mountain taken from 1999-2001 interviews with longtime residents.\nAs the Cultural Arts Museum for Floyd County\, our permanent exhibit spaces are filled with glimpses of life here from prehistoric stone tools to contemporary sculptures. \nWe’re at 110 Wilson Street (between Finders Keepers and Hotel Floyd) with ample parking and walking access off the town Heritage Trail. Admission is free.
URL:https://visitfloydva.com/event/theres-the-buffalo-4/2024-06-15/
LOCATION:Old Church Gallery\, 110 Wilson St.\, Floyd\, VA\, 24091\, Select a Country:
CATEGORIES:Arts & Handcraft,Community
ATTACH;FMTTYPE=image/jpeg:https://visitfloydva.com/wp-content/uploads/2024/05/IMG_2443.jpg
ORGANIZER;CN="Old Church Gallery":MAILTO:oldchurchgallery@swva.net
GEO:36.911011;-80.317746
X-APPLE-STRUCTURED-LOCATION;VALUE=URI;X-ADDRESS=Old Church Gallery 110 Wilson St. Floyd VA 24091 Select a Country:;X-APPLE-RADIUS=500;X-TITLE=110 Wilson St.:geo:-80.317746,36.911011
END:VEVENT
BEGIN:VEVENT
DTSTART;TZID=America/New_York:20240608T100000
DTEND;TZID=America/New_York:20240608T130000
DTSTAMP:20260420T040436
CREATED:20240517T032225Z
LAST-MODIFIED:20241212T174342Z
UID:10029382-1717840800-1717851600@visitfloydva.com
SUMMARY:There's the Buffalo!
DESCRIPTION:Old Church Gallery proudly presents our 2024 exhibit “There’s the Buffalo!” Over twenty local artists share their personal visions of Floyd County’s legendary Buffalo Mountain using textiles\, photography\, painting\, and glasswork. Also included in the exhibit are memories of early 20th Century life around Buffalo Mountain taken from 1999-2001 interviews with longtime residents.\nAs the Cultural Arts Museum for Floyd County\, our permanent exhibit spaces are filled with glimpses of life here from prehistoric stone tools to contemporary sculptures. \nWe’re at 110 Wilson Street (between Finders Keepers and Hotel Floyd) with ample parking and walking access off the town Heritage Trail. Admission is free.
URL:https://visitfloydva.com/event/theres-the-buffalo-4/2024-06-08/
LOCATION:Old Church Gallery\, 110 Wilson St.\, Floyd\, VA\, 24091\, Select a Country:
CATEGORIES:Arts & Handcraft,Community
ATTACH;FMTTYPE=image/jpeg:https://visitfloydva.com/wp-content/uploads/2024/05/IMG_2443.jpg
ORGANIZER;CN="Old Church Gallery":MAILTO:oldchurchgallery@swva.net
GEO:36.911011;-80.317746
X-APPLE-STRUCTURED-LOCATION;VALUE=URI;X-ADDRESS=Old Church Gallery 110 Wilson St. Floyd VA 24091 Select a Country:;X-APPLE-RADIUS=500;X-TITLE=110 Wilson St.:geo:-80.317746,36.911011
END:VEVENT
BEGIN:VEVENT
DTSTART;TZID=America/New_York:20240601T100000
DTEND;TZID=America/New_York:20240601T130000
DTSTAMP:20260420T040436
CREATED:20240517T032225Z
LAST-MODIFIED:20241212T174342Z
UID:10029381-1717236000-1717246800@visitfloydva.com
SUMMARY:There's the Buffalo!
DESCRIPTION:Old Church Gallery proudly presents our 2024 exhibit “There’s the Buffalo!” Over twenty local artists share their personal visions of Floyd County’s legendary Buffalo Mountain using textiles\, photography\, painting\, and glasswork. Also included in the exhibit are memories of early 20th Century life around Buffalo Mountain taken from 1999-2001 interviews with longtime residents.\nAs the Cultural Arts Museum for Floyd County\, our permanent exhibit spaces are filled with glimpses of life here from prehistoric stone tools to contemporary sculptures. \nWe’re at 110 Wilson Street (between Finders Keepers and Hotel Floyd) with ample parking and walking access off the town Heritage Trail. Admission is free.
URL:https://visitfloydva.com/event/theres-the-buffalo-4/2024-06-01/
LOCATION:Old Church Gallery\, 110 Wilson St.\, Floyd\, VA\, 24091\, Select a Country:
CATEGORIES:Arts & Handcraft,Community
ATTACH;FMTTYPE=image/jpeg:https://visitfloydva.com/wp-content/uploads/2024/05/IMG_2443.jpg
ORGANIZER;CN="Old Church Gallery":MAILTO:oldchurchgallery@swva.net
GEO:36.911011;-80.317746
X-APPLE-STRUCTURED-LOCATION;VALUE=URI;X-ADDRESS=Old Church Gallery 110 Wilson St. Floyd VA 24091 Select a Country:;X-APPLE-RADIUS=500;X-TITLE=110 Wilson St.:geo:-80.317746,36.911011
END:VEVENT
BEGIN:VEVENT
DTSTART;TZID=America/New_York:20240525T100000
DTEND;TZID=America/New_York:20240525T130000
DTSTAMP:20260420T040436
CREATED:20240517T032225Z
LAST-MODIFIED:20241212T174342Z
UID:10029380-1716631200-1716642000@visitfloydva.com
SUMMARY:There's the Buffalo!
DESCRIPTION:Old Church Gallery proudly presents our 2024 exhibit “There’s the Buffalo!” Over twenty local artists share their personal visions of Floyd County’s legendary Buffalo Mountain using textiles\, photography\, painting\, and glasswork. Also included in the exhibit are memories of early 20th Century life around Buffalo Mountain taken from 1999-2001 interviews with longtime residents.\nAs the Cultural Arts Museum for Floyd County\, our permanent exhibit spaces are filled with glimpses of life here from prehistoric stone tools to contemporary sculptures. \nWe’re at 110 Wilson Street (between Finders Keepers and Hotel Floyd) with ample parking and walking access off the town Heritage Trail. Admission is free.
URL:https://visitfloydva.com/event/theres-the-buffalo-4/2024-05-25/
LOCATION:Old Church Gallery\, 110 Wilson St.\, Floyd\, VA\, 24091\, Select a Country:
CATEGORIES:Arts & Handcraft,Community
ATTACH;FMTTYPE=image/jpeg:https://visitfloydva.com/wp-content/uploads/2024/05/IMG_2443.jpg
ORGANIZER;CN="Old Church Gallery":MAILTO:oldchurchgallery@swva.net
GEO:36.911011;-80.317746
X-APPLE-STRUCTURED-LOCATION;VALUE=URI;X-ADDRESS=Old Church Gallery 110 Wilson St. Floyd VA 24091 Select a Country:;X-APPLE-RADIUS=500;X-TITLE=110 Wilson St.:geo:-80.317746,36.911011
END:VEVENT
BEGIN:VEVENT
DTSTART;TZID=America/New_York:20240518T100000
DTEND;TZID=America/New_York:20240518T130000
DTSTAMP:20260420T040436
CREATED:20240517T032225Z
LAST-MODIFIED:20241212T174342Z
UID:10029379-1716026400-1716037200@visitfloydva.com
SUMMARY:There's the Buffalo!
DESCRIPTION:Old Church Gallery proudly presents our 2024 exhibit “There’s the Buffalo!” Over twenty local artists share their personal visions of Floyd County’s legendary Buffalo Mountain using textiles\, photography\, painting\, and glasswork. Also included in the exhibit are memories of early 20th Century life around Buffalo Mountain taken from 1999-2001 interviews with longtime residents.\nAs the Cultural Arts Museum for Floyd County\, our permanent exhibit spaces are filled with glimpses of life here from prehistoric stone tools to contemporary sculptures. \nWe’re at 110 Wilson Street (between Finders Keepers and Hotel Floyd) with ample parking and walking access off the town Heritage Trail. Admission is free.
URL:https://visitfloydva.com/event/theres-the-buffalo-4/2024-05-18/
LOCATION:Old Church Gallery\, 110 Wilson St.\, Floyd\, VA\, 24091\, Select a Country:
CATEGORIES:Arts & Handcraft,Community
ATTACH;FMTTYPE=image/jpeg:https://visitfloydva.com/wp-content/uploads/2024/05/IMG_2443.jpg
ORGANIZER;CN="Old Church Gallery":MAILTO:oldchurchgallery@swva.net
GEO:36.911011;-80.317746
X-APPLE-STRUCTURED-LOCATION;VALUE=URI;X-ADDRESS=Old Church Gallery 110 Wilson St. Floyd VA 24091 Select a Country:;X-APPLE-RADIUS=500;X-TITLE=110 Wilson St.:geo:-80.317746,36.911011
END:VEVENT
END:VCALENDAR