BEGIN:VCALENDAR
VERSION:2.0
PRODID:-//Visit Floyd Virginia - ECPv6.15.20//NONSGML v1.0//EN
CALSCALE:GREGORIAN
METHOD:PUBLISH
X-ORIGINAL-URL:https://visitfloydva.com
X-WR-CALDESC:Events for Visit Floyd Virginia
REFRESH-INTERVAL;VALUE=DURATION:PT1H
X-Robots-Tag:noindex
X-PUBLISHED-TTL:PT1H
BEGIN:VTIMEZONE
TZID:America/New_York
BEGIN:DAYLIGHT
TZOFFSETFROM:-0500
TZOFFSETTO:-0400
TZNAME:EDT
DTSTART:20240310T070000
END:DAYLIGHT
BEGIN:STANDARD
TZOFFSETFROM:-0400
TZOFFSETTO:-0500
TZNAME:EST
DTSTART:20241103T060000
END:STANDARD
BEGIN:DAYLIGHT
TZOFFSETFROM:-0500
TZOFFSETTO:-0400
TZNAME:EDT
DTSTART:20250309T070000
END:DAYLIGHT
BEGIN:STANDARD
TZOFFSETFROM:-0400
TZOFFSETTO:-0500
TZNAME:EST
DTSTART:20251102T060000
END:STANDARD
BEGIN:DAYLIGHT
TZOFFSETFROM:-0500
TZOFFSETTO:-0400
TZNAME:EDT
DTSTART:20260308T070000
END:DAYLIGHT
BEGIN:STANDARD
TZOFFSETFROM:-0400
TZOFFSETTO:-0500
TZNAME:EST
DTSTART:20261101T060000
END:STANDARD
END:VTIMEZONE
BEGIN:VEVENT
DTSTART;TZID=America/New_York:20251226T200000
DTEND;TZID=America/New_York:20251226T230000
DTSTAMP:20260420T011936
CREATED:20251231T170707Z
LAST-MODIFIED:20251231T170707Z
UID:10031531-1766779200-1766790000@visitfloydva.com
SUMMARY:Rosebud Band at Dogtown
DESCRIPTION:Rosebud Band • Fri 12/26 • 8pm \nFree show \nRosebud is a Floyd\, Virginia–based band rooted in the timeless spirit of the Grateful Dead\, blending faithful covers with a growing catalog of original songs.
URL:https://visitfloydva.com/event/rosebud-band-at-dogtown/
LOCATION:Dogtown Pizza\, 302 S. Locust St.\, Floyd\, VA\, 24091\, United States
CATEGORIES:Entertainment
ATTACH;FMTTYPE=image/jpeg:https://visitfloydva.com/wp-content/uploads/2025/12/1000014063-1.jpg
GEO:36.9099373;-80.3197514
X-APPLE-STRUCTURED-LOCATION;VALUE=URI;X-ADDRESS=Dogtown Pizza 302 S. Locust St. Floyd VA 24091 United States;X-APPLE-RADIUS=500;X-TITLE=302 S. Locust St.:geo:-80.3197514,36.9099373
END:VEVENT
END:VCALENDAR