BEGIN:VCALENDAR
VERSION:2.0
PRODID:-//Visit Floyd Virginia - ECPv6.15.20//NONSGML v1.0//EN
CALSCALE:GREGORIAN
METHOD:PUBLISH
X-WR-CALNAME:Visit Floyd Virginia
X-ORIGINAL-URL:https://visitfloydva.com
X-WR-CALDESC:Events for Visit Floyd Virginia
REFRESH-INTERVAL;VALUE=DURATION:PT1H
X-Robots-Tag:noindex
X-PUBLISHED-TTL:PT1H
BEGIN:VTIMEZONE
TZID:America/New_York
BEGIN:DAYLIGHT
TZOFFSETFROM:-0500
TZOFFSETTO:-0400
TZNAME:EDT
DTSTART:20230312T070000
END:DAYLIGHT
BEGIN:STANDARD
TZOFFSETFROM:-0400
TZOFFSETTO:-0500
TZNAME:EST
DTSTART:20231105T060000
END:STANDARD
BEGIN:DAYLIGHT
TZOFFSETFROM:-0500
TZOFFSETTO:-0400
TZNAME:EDT
DTSTART:20240310T070000
END:DAYLIGHT
BEGIN:STANDARD
TZOFFSETFROM:-0400
TZOFFSETTO:-0500
TZNAME:EST
DTSTART:20241103T060000
END:STANDARD
BEGIN:DAYLIGHT
TZOFFSETFROM:-0500
TZOFFSETTO:-0400
TZNAME:EDT
DTSTART:20250309T070000
END:DAYLIGHT
BEGIN:STANDARD
TZOFFSETFROM:-0400
TZOFFSETTO:-0500
TZNAME:EST
DTSTART:20251102T060000
END:STANDARD
END:VTIMEZONE
BEGIN:VEVENT
DTSTART;TZID=America/New_York:20241012T130000
DTEND;TZID=America/New_York:20241012T160000
DTSTAMP:20260420T051758
CREATED:20240907T151421Z
LAST-MODIFIED:20240907T151421Z
UID:10027837-1728738000-1728748800@visitfloydva.com
SUMMARY:October Paint and Taste
DESCRIPTION:Spooky Paint and Taste event on Saturday October 12 at 1 pm! For just $25 per person\, immerse yourself in a creative experience where you’ll receive step-by-step painting instructions\, all necessary supplies\, and indulge in complimentary coffee\, tea\, or hot chocolate along with a light snack. (Feel free to bring along your favorite beverage to sip and enjoy). Let’s make this spooky season truly memorable!   Pay on line or on site.
URL:https://visitfloydva.com/event/october-paint-and-taste/
LOCATION:Moonlight Manor Bed andBreakfast\, 136 Old fields Rd SW\, Floyd\, VA\, 24091\, United States
CATEGORIES:Arts & Handcraft,Workshop
ATTACH;FMTTYPE=image/jpeg:https://visitfloydva.com/wp-content/uploads/2024/09/Ocotober-Paint-and-Taste.jpg
ORGANIZER;CN="Art Above Floyd":MAILTO:artabovefloyd@gmail.com
END:VEVENT
BEGIN:VEVENT
DTSTART;TZID=America/New_York:20240511T080000
DTEND;TZID=America/New_York:20240511T130000
DTSTAMP:20260420T051758
CREATED:20240507T163609Z
LAST-MODIFIED:20240507T163609Z
UID:10029376-1715414400-1715432400@visitfloydva.com
SUMMARY:May Paint and Taste
DESCRIPTION:Treat your mom (or yourself) to our Paint and Taste event on Saturday May 11th at 1 pm! For just $35 per person\, immerse yourself in a creative experience where you’ll receive step-by-step painting instructions\, all necessary supplies\, and indulge in complimentary coffee\, tea\, or hot chocolate along with a light snack. (Feel free to bring along your favorite beverage to sip and enjoy). Let’s make this Mother’s Day truly memorable together! Pay on line or on site.
URL:https://visitfloydva.com/event/may-paint-and-taste/
LOCATION:Moonlight Manor Bed andBreakfast\, 136 Old fields Rd SW\, Floyd\, VA\, 24091\, United States
CATEGORIES:Arts & Handcraft,Community,Family,Workshop
ATTACH;FMTTYPE=image/jpeg:https://visitfloydva.com/wp-content/uploads/2024/05/VD-Facebook-event-cover-2.jpg
ORGANIZER;CN="Moonlight Manor Bed &amp%3B Breakfast":MAILTO:moonlightmanorfloyd.com
END:VEVENT
BEGIN:VEVENT
DTSTART;TZID=America/New_York:20240414T140000
DTEND;TZID=America/New_York:20240414T170000
DTSTAMP:20260420T051758
CREATED:20240403T135949Z
LAST-MODIFIED:20240403T135949Z
UID:10029289-1713103200-1713114000@visitfloydva.com
SUMMARY:Spring Paint and Taste
DESCRIPTION:We will be painting a Spring Cherry Tree branch. $35 per person. Price includes: All supplies needed to paint a 16×20″ painting\, instructions on how to paint\, beverages (water\, coffee/tea/hot chocolate – feel free to bring your own) and light snacks. Please RSVP. Pre pay via the link or pay on site. We accept Cash\, Credit\, or Venmo.
URL:https://visitfloydva.com/event/spring-paint-and-taste-2/
LOCATION:Moonlight Manor Bed andBreakfast\, 136 Old fields Rd SW\, Floyd\, VA\, 24091\, United States
CATEGORIES:Arts & Handcraft
ATTACH;FMTTYPE=image/jpeg:https://visitfloydva.com/wp-content/uploads/2024/03/April-Paint.jpg
ORGANIZER;CN="Moonlight Manor Bed &amp%3B Breakfast":MAILTO:moonlightmanorfloyd.com
END:VEVENT
END:VCALENDAR