BEGIN:VCALENDAR
VERSION:2.0
PRODID:-//Visit Floyd Virginia - ECPv6.15.20//NONSGML v1.0//EN
CALSCALE:GREGORIAN
METHOD:PUBLISH
X-WR-CALNAME:Visit Floyd Virginia
X-ORIGINAL-URL:https://visitfloydva.com
X-WR-CALDESC:Events for Visit Floyd Virginia
REFRESH-INTERVAL;VALUE=DURATION:PT1H
X-Robots-Tag:noindex
X-PUBLISHED-TTL:PT1H
BEGIN:VTIMEZONE
TZID:America/New_York
BEGIN:DAYLIGHT
TZOFFSETFROM:-0500
TZOFFSETTO:-0400
TZNAME:EDT
DTSTART:20250309T070000
END:DAYLIGHT
BEGIN:STANDARD
TZOFFSETFROM:-0400
TZOFFSETTO:-0500
TZNAME:EST
DTSTART:20251102T060000
END:STANDARD
BEGIN:DAYLIGHT
TZOFFSETFROM:-0500
TZOFFSETTO:-0400
TZNAME:EDT
DTSTART:20260308T070000
END:DAYLIGHT
BEGIN:STANDARD
TZOFFSETFROM:-0400
TZOFFSETTO:-0500
TZNAME:EST
DTSTART:20261101T060000
END:STANDARD
BEGIN:DAYLIGHT
TZOFFSETFROM:-0500
TZOFFSETTO:-0400
TZNAME:EDT
DTSTART:20270314T070000
END:DAYLIGHT
BEGIN:STANDARD
TZOFFSETFROM:-0400
TZOFFSETTO:-0500
TZNAME:EST
DTSTART:20271107T060000
END:STANDARD
END:VTIMEZONE
BEGIN:VEVENT
DTSTART;TZID=America/New_York:20260424T103000
DTEND;TZID=America/New_York:20260424T113000
DTSTAMP:20260419T114634
CREATED:20260409T165844Z
LAST-MODIFIED:20260409T165844Z
UID:10032425-1777026600-1777030200@visitfloydva.com
SUMMARY:Joy Jammers
DESCRIPTION:Join us for Kari’s Joy Jammers by Heart of the Child Music Education from 10:30-11:30am on Friday mornings at The Floyd Country Store. \nThis class is a joyful\, interactive group musical experience for children and their caregivers at The Floyd Country Store. These FUN and developmentally appropriate classes are produced by Kari Kovick and Heart of the Child Music Education and foster a love of music while building foundational musical skills\, safe connection\, secure attachment\, and healthy community. \nJoy Jammers is aimed toward children ages 0 to 6. \nDates are subject to cancellation or change pending teacher availability\, inclement weather\, illness\, etc. Individual classes are $15 per child for drop in. Five-class passes are available for $60\, or 10 for $120 (or $12 per class). Additional siblings are half price. \nContact us to purchase a prepaid pass\, book a session using a prepaid pass\, or to enroll/register multiple siblings. You can call our Office Manager / Administrative Assistant Leigh McKagen at 540-745-2110 or email her at leigh@handmademusicschool.org. \nTo enroll your child in a single session\, click on the registration link below! \n\n\n\n\nREGISTER HERE
URL:https://visitfloydva.com/event/joy-jammers-3/2026-04-24/
LOCATION:Floyd Country Store
GEO:36.9103975;-80.3202795
END:VEVENT
BEGIN:VEVENT
DTSTART;TZID=America/New_York:20260501T103000
DTEND;TZID=America/New_York:20260501T113000
DTSTAMP:20260419T114634
CREATED:20260409T165844Z
LAST-MODIFIED:20260409T165844Z
UID:10032426-1777631400-1777635000@visitfloydva.com
SUMMARY:Joy Jammers
DESCRIPTION:Join us for Kari’s Joy Jammers by Heart of the Child Music Education from 10:30-11:30am on Friday mornings at The Floyd Country Store. \nThis class is a joyful\, interactive group musical experience for children and their caregivers at The Floyd Country Store. These FUN and developmentally appropriate classes are produced by Kari Kovick and Heart of the Child Music Education and foster a love of music while building foundational musical skills\, safe connection\, secure attachment\, and healthy community. \nJoy Jammers is aimed toward children ages 0 to 6. \nDates are subject to cancellation or change pending teacher availability\, inclement weather\, illness\, etc. Individual classes are $15 per child for drop in. Five-class passes are available for $60\, or 10 for $120 (or $12 per class). Additional siblings are half price. \nContact us to purchase a prepaid pass\, book a session using a prepaid pass\, or to enroll/register multiple siblings. You can call our Office Manager / Administrative Assistant Leigh McKagen at 540-745-2110 or email her at leigh@handmademusicschool.org. \nTo enroll your child in a single session\, click on the registration link below! \n\n\n\n\nREGISTER HERE
URL:https://visitfloydva.com/event/joy-jammers-3/2026-05-01/
LOCATION:Floyd Country Store
GEO:36.9103975;-80.3202795
END:VEVENT
BEGIN:VEVENT
DTSTART;TZID=America/New_York:20260508T103000
DTEND;TZID=America/New_York:20260508T113000
DTSTAMP:20260419T114634
CREATED:20260409T165844Z
LAST-MODIFIED:20260409T165844Z
UID:10032427-1778236200-1778239800@visitfloydva.com
SUMMARY:Joy Jammers
DESCRIPTION:Join us for Kari’s Joy Jammers by Heart of the Child Music Education from 10:30-11:30am on Friday mornings at The Floyd Country Store. \nThis class is a joyful\, interactive group musical experience for children and their caregivers at The Floyd Country Store. These FUN and developmentally appropriate classes are produced by Kari Kovick and Heart of the Child Music Education and foster a love of music while building foundational musical skills\, safe connection\, secure attachment\, and healthy community. \nJoy Jammers is aimed toward children ages 0 to 6. \nDates are subject to cancellation or change pending teacher availability\, inclement weather\, illness\, etc. Individual classes are $15 per child for drop in. Five-class passes are available for $60\, or 10 for $120 (or $12 per class). Additional siblings are half price. \nContact us to purchase a prepaid pass\, book a session using a prepaid pass\, or to enroll/register multiple siblings. You can call our Office Manager / Administrative Assistant Leigh McKagen at 540-745-2110 or email her at leigh@handmademusicschool.org. \nTo enroll your child in a single session\, click on the registration link below! \n\n\n\n\nREGISTER HERE
URL:https://visitfloydva.com/event/joy-jammers-3/2026-05-08/
LOCATION:Floyd Country Store
GEO:36.9103975;-80.3202795
END:VEVENT
BEGIN:VEVENT
DTSTART;TZID=America/New_York:20260515T103000
DTEND;TZID=America/New_York:20260515T113000
DTSTAMP:20260419T114634
CREATED:20260409T165844Z
LAST-MODIFIED:20260409T165844Z
UID:10032428-1778841000-1778844600@visitfloydva.com
SUMMARY:Joy Jammers
DESCRIPTION:Join us for Kari’s Joy Jammers by Heart of the Child Music Education from 10:30-11:30am on Friday mornings at The Floyd Country Store. \nThis class is a joyful\, interactive group musical experience for children and their caregivers at The Floyd Country Store. These FUN and developmentally appropriate classes are produced by Kari Kovick and Heart of the Child Music Education and foster a love of music while building foundational musical skills\, safe connection\, secure attachment\, and healthy community. \nJoy Jammers is aimed toward children ages 0 to 6. \nDates are subject to cancellation or change pending teacher availability\, inclement weather\, illness\, etc. Individual classes are $15 per child for drop in. Five-class passes are available for $60\, or 10 for $120 (or $12 per class). Additional siblings are half price. \nContact us to purchase a prepaid pass\, book a session using a prepaid pass\, or to enroll/register multiple siblings. You can call our Office Manager / Administrative Assistant Leigh McKagen at 540-745-2110 or email her at leigh@handmademusicschool.org. \nTo enroll your child in a single session\, click on the registration link below! \n\n\n\n\nREGISTER HERE
URL:https://visitfloydva.com/event/joy-jammers-3/2026-05-15/
LOCATION:Floyd Country Store
GEO:36.9103975;-80.3202795
END:VEVENT
BEGIN:VEVENT
DTSTART;TZID=America/New_York:20260522T103000
DTEND;TZID=America/New_York:20260522T113000
DTSTAMP:20260419T114634
CREATED:20260409T165844Z
LAST-MODIFIED:20260409T165844Z
UID:10032429-1779445800-1779449400@visitfloydva.com
SUMMARY:Joy Jammers
DESCRIPTION:Join us for Kari’s Joy Jammers by Heart of the Child Music Education from 10:30-11:30am on Friday mornings at The Floyd Country Store. \nThis class is a joyful\, interactive group musical experience for children and their caregivers at The Floyd Country Store. These FUN and developmentally appropriate classes are produced by Kari Kovick and Heart of the Child Music Education and foster a love of music while building foundational musical skills\, safe connection\, secure attachment\, and healthy community. \nJoy Jammers is aimed toward children ages 0 to 6. \nDates are subject to cancellation or change pending teacher availability\, inclement weather\, illness\, etc. Individual classes are $15 per child for drop in. Five-class passes are available for $60\, or 10 for $120 (or $12 per class). Additional siblings are half price. \nContact us to purchase a prepaid pass\, book a session using a prepaid pass\, or to enroll/register multiple siblings. You can call our Office Manager / Administrative Assistant Leigh McKagen at 540-745-2110 or email her at leigh@handmademusicschool.org. \nTo enroll your child in a single session\, click on the registration link below! \n\n\n\n\nREGISTER HERE
URL:https://visitfloydva.com/event/joy-jammers-3/2026-05-22/
LOCATION:Floyd Country Store
GEO:36.9103975;-80.3202795
END:VEVENT
BEGIN:VEVENT
DTSTART;TZID=America/New_York:20260529T103000
DTEND;TZID=America/New_York:20260529T113000
DTSTAMP:20260419T114634
CREATED:20260409T165844Z
LAST-MODIFIED:20260409T165844Z
UID:10032430-1780050600-1780054200@visitfloydva.com
SUMMARY:Joy Jammers
DESCRIPTION:Join us for Kari’s Joy Jammers by Heart of the Child Music Education from 10:30-11:30am on Friday mornings at The Floyd Country Store. \nThis class is a joyful\, interactive group musical experience for children and their caregivers at The Floyd Country Store. These FUN and developmentally appropriate classes are produced by Kari Kovick and Heart of the Child Music Education and foster a love of music while building foundational musical skills\, safe connection\, secure attachment\, and healthy community. \nJoy Jammers is aimed toward children ages 0 to 6. \nDates are subject to cancellation or change pending teacher availability\, inclement weather\, illness\, etc. Individual classes are $15 per child for drop in. Five-class passes are available for $60\, or 10 for $120 (or $12 per class). Additional siblings are half price. \nContact us to purchase a prepaid pass\, book a session using a prepaid pass\, or to enroll/register multiple siblings. You can call our Office Manager / Administrative Assistant Leigh McKagen at 540-745-2110 or email her at leigh@handmademusicschool.org. \nTo enroll your child in a single session\, click on the registration link below! \n\n\n\n\nREGISTER HERE
URL:https://visitfloydva.com/event/joy-jammers-3/2026-05-29/
LOCATION:Floyd Country Store
GEO:36.9103975;-80.3202795
END:VEVENT
END:VCALENDAR