BEGIN:VCALENDAR
VERSION:2.0
PRODID:-//Visit Floyd Virginia - ECPv6.15.20//NONSGML v1.0//EN
CALSCALE:GREGORIAN
METHOD:PUBLISH
X-WR-CALNAME:Visit Floyd Virginia
X-ORIGINAL-URL:https://visitfloydva.com
X-WR-CALDESC:Events for Visit Floyd Virginia
REFRESH-INTERVAL;VALUE=DURATION:PT1H
X-Robots-Tag:noindex
X-PUBLISHED-TTL:PT1H
BEGIN:VTIMEZONE
TZID:America/New_York
BEGIN:DAYLIGHT
TZOFFSETFROM:-0500
TZOFFSETTO:-0400
TZNAME:EDT
DTSTART:20250309T070000
END:DAYLIGHT
BEGIN:STANDARD
TZOFFSETFROM:-0400
TZOFFSETTO:-0500
TZNAME:EST
DTSTART:20251102T060000
END:STANDARD
BEGIN:DAYLIGHT
TZOFFSETFROM:-0500
TZOFFSETTO:-0400
TZNAME:EDT
DTSTART:20260308T070000
END:DAYLIGHT
BEGIN:STANDARD
TZOFFSETFROM:-0400
TZOFFSETTO:-0500
TZNAME:EST
DTSTART:20261101T060000
END:STANDARD
BEGIN:DAYLIGHT
TZOFFSETFROM:-0500
TZOFFSETTO:-0400
TZNAME:EDT
DTSTART:20270314T070000
END:DAYLIGHT
BEGIN:STANDARD
TZOFFSETFROM:-0400
TZOFFSETTO:-0500
TZNAME:EST
DTSTART:20271107T060000
END:STANDARD
END:VTIMEZONE
BEGIN:VEVENT
DTSTART;TZID=America/New_York:20260421T180000
DTEND;TZID=America/New_York:20260421T200000
DTSTAMP:20260419T212857
CREATED:20251215T201006Z
LAST-MODIFIED:20251215T201006Z
UID:10031324-1776794400-1776801600@visitfloydva.com
SUMMARY:Bingo at the Brewery!
DESCRIPTION:On Tuesdays\, we play BINGO! \nRounds are called from 6-8pm and the nachos are served all evening long!\nFeaturing amazing local business sponsors and some fantastic prizes!\n$1 per card\, max of 3 cards per person.
URL:https://visitfloydva.com/event/bingo-at-the-brewery/2026-04-21/
LOCATION:Buffalo Mountain Brewery & McDaniel’s Tavern\, 332 Webbs Mill Rd.\, Floyd\, VA\, 24091\, United States
GEO:36.9212216;-80.3255321
X-APPLE-STRUCTURED-LOCATION;VALUE=URI;X-ADDRESS=Buffalo Mountain Brewery & McDaniel’s Tavern 332 Webbs Mill Rd. Floyd VA 24091 United States;X-APPLE-RADIUS=500;X-TITLE=332 Webbs Mill Rd.:geo:-80.3255321,36.9212216
END:VEVENT
BEGIN:VEVENT
DTSTART;TZID=America/New_York:20260428T180000
DTEND;TZID=America/New_York:20260428T200000
DTSTAMP:20260419T212857
CREATED:20251215T201006Z
LAST-MODIFIED:20251215T201006Z
UID:10031325-1777399200-1777406400@visitfloydva.com
SUMMARY:Bingo at the Brewery!
DESCRIPTION:On Tuesdays\, we play BINGO! \nRounds are called from 6-8pm and the nachos are served all evening long!\nFeaturing amazing local business sponsors and some fantastic prizes!\n$1 per card\, max of 3 cards per person.
URL:https://visitfloydva.com/event/bingo-at-the-brewery/2026-04-28/
LOCATION:Buffalo Mountain Brewery & McDaniel’s Tavern\, 332 Webbs Mill Rd.\, Floyd\, VA\, 24091\, United States
GEO:36.9212216;-80.3255321
X-APPLE-STRUCTURED-LOCATION;VALUE=URI;X-ADDRESS=Buffalo Mountain Brewery & McDaniel’s Tavern 332 Webbs Mill Rd. Floyd VA 24091 United States;X-APPLE-RADIUS=500;X-TITLE=332 Webbs Mill Rd.:geo:-80.3255321,36.9212216
END:VEVENT
BEGIN:VEVENT
DTSTART;TZID=America/New_York:20260505T180000
DTEND;TZID=America/New_York:20260505T200000
DTSTAMP:20260419T212857
CREATED:20251215T201006Z
LAST-MODIFIED:20251215T201006Z
UID:10031326-1778004000-1778011200@visitfloydva.com
SUMMARY:Bingo at the Brewery!
DESCRIPTION:On Tuesdays\, we play BINGO! \nRounds are called from 6-8pm and the nachos are served all evening long!\nFeaturing amazing local business sponsors and some fantastic prizes!\n$1 per card\, max of 3 cards per person.
URL:https://visitfloydva.com/event/bingo-at-the-brewery/2026-05-05/
LOCATION:Buffalo Mountain Brewery & McDaniel’s Tavern\, 332 Webbs Mill Rd.\, Floyd\, VA\, 24091\, United States
GEO:36.9212216;-80.3255321
X-APPLE-STRUCTURED-LOCATION;VALUE=URI;X-ADDRESS=Buffalo Mountain Brewery & McDaniel’s Tavern 332 Webbs Mill Rd. Floyd VA 24091 United States;X-APPLE-RADIUS=500;X-TITLE=332 Webbs Mill Rd.:geo:-80.3255321,36.9212216
END:VEVENT
BEGIN:VEVENT
DTSTART;TZID=America/New_York:20260512T180000
DTEND;TZID=America/New_York:20260512T200000
DTSTAMP:20260419T212857
CREATED:20251215T201006Z
LAST-MODIFIED:20251215T201006Z
UID:10031327-1778608800-1778616000@visitfloydva.com
SUMMARY:Bingo at the Brewery!
DESCRIPTION:On Tuesdays\, we play BINGO! \nRounds are called from 6-8pm and the nachos are served all evening long!\nFeaturing amazing local business sponsors and some fantastic prizes!\n$1 per card\, max of 3 cards per person.
URL:https://visitfloydva.com/event/bingo-at-the-brewery/2026-05-12/
LOCATION:Buffalo Mountain Brewery & McDaniel’s Tavern\, 332 Webbs Mill Rd.\, Floyd\, VA\, 24091\, United States
GEO:36.9212216;-80.3255321
X-APPLE-STRUCTURED-LOCATION;VALUE=URI;X-ADDRESS=Buffalo Mountain Brewery & McDaniel’s Tavern 332 Webbs Mill Rd. Floyd VA 24091 United States;X-APPLE-RADIUS=500;X-TITLE=332 Webbs Mill Rd.:geo:-80.3255321,36.9212216
END:VEVENT
BEGIN:VEVENT
DTSTART;TZID=America/New_York:20260519T180000
DTEND;TZID=America/New_York:20260519T200000
DTSTAMP:20260419T212857
CREATED:20251215T201006Z
LAST-MODIFIED:20251215T201006Z
UID:10031328-1779213600-1779220800@visitfloydva.com
SUMMARY:Bingo at the Brewery!
DESCRIPTION:On Tuesdays\, we play BINGO! \nRounds are called from 6-8pm and the nachos are served all evening long!\nFeaturing amazing local business sponsors and some fantastic prizes!\n$1 per card\, max of 3 cards per person.
URL:https://visitfloydva.com/event/bingo-at-the-brewery/2026-05-19/
LOCATION:Buffalo Mountain Brewery & McDaniel’s Tavern\, 332 Webbs Mill Rd.\, Floyd\, VA\, 24091\, United States
GEO:36.9212216;-80.3255321
X-APPLE-STRUCTURED-LOCATION;VALUE=URI;X-ADDRESS=Buffalo Mountain Brewery & McDaniel’s Tavern 332 Webbs Mill Rd. Floyd VA 24091 United States;X-APPLE-RADIUS=500;X-TITLE=332 Webbs Mill Rd.:geo:-80.3255321,36.9212216
END:VEVENT
BEGIN:VEVENT
DTSTART;TZID=America/New_York:20260526T180000
DTEND;TZID=America/New_York:20260526T200000
DTSTAMP:20260419T212857
CREATED:20251215T201006Z
LAST-MODIFIED:20251215T201006Z
UID:10031329-1779818400-1779825600@visitfloydva.com
SUMMARY:Bingo at the Brewery!
DESCRIPTION:On Tuesdays\, we play BINGO! \nRounds are called from 6-8pm and the nachos are served all evening long!\nFeaturing amazing local business sponsors and some fantastic prizes!\n$1 per card\, max of 3 cards per person.
URL:https://visitfloydva.com/event/bingo-at-the-brewery/2026-05-26/
LOCATION:Buffalo Mountain Brewery & McDaniel’s Tavern\, 332 Webbs Mill Rd.\, Floyd\, VA\, 24091\, United States
GEO:36.9212216;-80.3255321
X-APPLE-STRUCTURED-LOCATION;VALUE=URI;X-ADDRESS=Buffalo Mountain Brewery & McDaniel’s Tavern 332 Webbs Mill Rd. Floyd VA 24091 United States;X-APPLE-RADIUS=500;X-TITLE=332 Webbs Mill Rd.:geo:-80.3255321,36.9212216
END:VEVENT
BEGIN:VEVENT
DTSTART;TZID=America/New_York:20260602T180000
DTEND;TZID=America/New_York:20260602T200000
DTSTAMP:20260419T212857
CREATED:20251215T201006Z
LAST-MODIFIED:20251215T201006Z
UID:10031330-1780423200-1780430400@visitfloydva.com
SUMMARY:Bingo at the Brewery!
DESCRIPTION:On Tuesdays\, we play BINGO! \nRounds are called from 6-8pm and the nachos are served all evening long!\nFeaturing amazing local business sponsors and some fantastic prizes!\n$1 per card\, max of 3 cards per person.
URL:https://visitfloydva.com/event/bingo-at-the-brewery/2026-06-02/
LOCATION:Buffalo Mountain Brewery & McDaniel’s Tavern\, 332 Webbs Mill Rd.\, Floyd\, VA\, 24091\, United States
GEO:36.9212216;-80.3255321
X-APPLE-STRUCTURED-LOCATION;VALUE=URI;X-ADDRESS=Buffalo Mountain Brewery & McDaniel’s Tavern 332 Webbs Mill Rd. Floyd VA 24091 United States;X-APPLE-RADIUS=500;X-TITLE=332 Webbs Mill Rd.:geo:-80.3255321,36.9212216
END:VEVENT
BEGIN:VEVENT
DTSTART;TZID=America/New_York:20260609T180000
DTEND;TZID=America/New_York:20260609T200000
DTSTAMP:20260419T212857
CREATED:20251215T201006Z
LAST-MODIFIED:20251215T201006Z
UID:10031331-1781028000-1781035200@visitfloydva.com
SUMMARY:Bingo at the Brewery!
DESCRIPTION:On Tuesdays\, we play BINGO! \nRounds are called from 6-8pm and the nachos are served all evening long!\nFeaturing amazing local business sponsors and some fantastic prizes!\n$1 per card\, max of 3 cards per person.
URL:https://visitfloydva.com/event/bingo-at-the-brewery/2026-06-09/
LOCATION:Buffalo Mountain Brewery & McDaniel’s Tavern\, 332 Webbs Mill Rd.\, Floyd\, VA\, 24091\, United States
GEO:36.9212216;-80.3255321
X-APPLE-STRUCTURED-LOCATION;VALUE=URI;X-ADDRESS=Buffalo Mountain Brewery & McDaniel’s Tavern 332 Webbs Mill Rd. Floyd VA 24091 United States;X-APPLE-RADIUS=500;X-TITLE=332 Webbs Mill Rd.:geo:-80.3255321,36.9212216
END:VEVENT
BEGIN:VEVENT
DTSTART;TZID=America/New_York:20260616T180000
DTEND;TZID=America/New_York:20260616T200000
DTSTAMP:20260419T212857
CREATED:20251215T201006Z
LAST-MODIFIED:20251215T201006Z
UID:10031332-1781632800-1781640000@visitfloydva.com
SUMMARY:Bingo at the Brewery!
DESCRIPTION:On Tuesdays\, we play BINGO! \nRounds are called from 6-8pm and the nachos are served all evening long!\nFeaturing amazing local business sponsors and some fantastic prizes!\n$1 per card\, max of 3 cards per person.
URL:https://visitfloydva.com/event/bingo-at-the-brewery/2026-06-16/
LOCATION:Buffalo Mountain Brewery & McDaniel’s Tavern\, 332 Webbs Mill Rd.\, Floyd\, VA\, 24091\, United States
GEO:36.9212216;-80.3255321
X-APPLE-STRUCTURED-LOCATION;VALUE=URI;X-ADDRESS=Buffalo Mountain Brewery & McDaniel’s Tavern 332 Webbs Mill Rd. Floyd VA 24091 United States;X-APPLE-RADIUS=500;X-TITLE=332 Webbs Mill Rd.:geo:-80.3255321,36.9212216
END:VEVENT
BEGIN:VEVENT
DTSTART;TZID=America/New_York:20260623T180000
DTEND;TZID=America/New_York:20260623T200000
DTSTAMP:20260419T212857
CREATED:20251215T201006Z
LAST-MODIFIED:20251215T201006Z
UID:10031333-1782237600-1782244800@visitfloydva.com
SUMMARY:Bingo at the Brewery!
DESCRIPTION:On Tuesdays\, we play BINGO! \nRounds are called from 6-8pm and the nachos are served all evening long!\nFeaturing amazing local business sponsors and some fantastic prizes!\n$1 per card\, max of 3 cards per person.
URL:https://visitfloydva.com/event/bingo-at-the-brewery/2026-06-23/
LOCATION:Buffalo Mountain Brewery & McDaniel’s Tavern\, 332 Webbs Mill Rd.\, Floyd\, VA\, 24091\, United States
GEO:36.9212216;-80.3255321
X-APPLE-STRUCTURED-LOCATION;VALUE=URI;X-ADDRESS=Buffalo Mountain Brewery & McDaniel’s Tavern 332 Webbs Mill Rd. Floyd VA 24091 United States;X-APPLE-RADIUS=500;X-TITLE=332 Webbs Mill Rd.:geo:-80.3255321,36.9212216
END:VEVENT
BEGIN:VEVENT
DTSTART;TZID=America/New_York:20260630T180000
DTEND;TZID=America/New_York:20260630T200000
DTSTAMP:20260419T212857
CREATED:20251215T201006Z
LAST-MODIFIED:20251215T201006Z
UID:10031334-1782842400-1782849600@visitfloydva.com
SUMMARY:Bingo at the Brewery!
DESCRIPTION:On Tuesdays\, we play BINGO! \nRounds are called from 6-8pm and the nachos are served all evening long!\nFeaturing amazing local business sponsors and some fantastic prizes!\n$1 per card\, max of 3 cards per person.
URL:https://visitfloydva.com/event/bingo-at-the-brewery/2026-06-30/
LOCATION:Buffalo Mountain Brewery & McDaniel’s Tavern\, 332 Webbs Mill Rd.\, Floyd\, VA\, 24091\, United States
GEO:36.9212216;-80.3255321
X-APPLE-STRUCTURED-LOCATION;VALUE=URI;X-ADDRESS=Buffalo Mountain Brewery & McDaniel’s Tavern 332 Webbs Mill Rd. Floyd VA 24091 United States;X-APPLE-RADIUS=500;X-TITLE=332 Webbs Mill Rd.:geo:-80.3255321,36.9212216
END:VEVENT
BEGIN:VEVENT
DTSTART;TZID=America/New_York:20260707T180000
DTEND;TZID=America/New_York:20260707T200000
DTSTAMP:20260419T212857
CREATED:20251215T201006Z
LAST-MODIFIED:20251215T201006Z
UID:10031335-1783447200-1783454400@visitfloydva.com
SUMMARY:Bingo at the Brewery!
DESCRIPTION:On Tuesdays\, we play BINGO! \nRounds are called from 6-8pm and the nachos are served all evening long!\nFeaturing amazing local business sponsors and some fantastic prizes!\n$1 per card\, max of 3 cards per person.
URL:https://visitfloydva.com/event/bingo-at-the-brewery/2026-07-07/
LOCATION:Buffalo Mountain Brewery & McDaniel’s Tavern\, 332 Webbs Mill Rd.\, Floyd\, VA\, 24091\, United States
GEO:36.9212216;-80.3255321
X-APPLE-STRUCTURED-LOCATION;VALUE=URI;X-ADDRESS=Buffalo Mountain Brewery & McDaniel’s Tavern 332 Webbs Mill Rd. Floyd VA 24091 United States;X-APPLE-RADIUS=500;X-TITLE=332 Webbs Mill Rd.:geo:-80.3255321,36.9212216
END:VEVENT
BEGIN:VEVENT
DTSTART;TZID=America/New_York:20260714T180000
DTEND;TZID=America/New_York:20260714T200000
DTSTAMP:20260419T212857
CREATED:20251215T201006Z
LAST-MODIFIED:20251215T201006Z
UID:10031336-1784052000-1784059200@visitfloydva.com
SUMMARY:Bingo at the Brewery!
DESCRIPTION:On Tuesdays\, we play BINGO! \nRounds are called from 6-8pm and the nachos are served all evening long!\nFeaturing amazing local business sponsors and some fantastic prizes!\n$1 per card\, max of 3 cards per person.
URL:https://visitfloydva.com/event/bingo-at-the-brewery/2026-07-14/
LOCATION:Buffalo Mountain Brewery & McDaniel’s Tavern\, 332 Webbs Mill Rd.\, Floyd\, VA\, 24091\, United States
GEO:36.9212216;-80.3255321
X-APPLE-STRUCTURED-LOCATION;VALUE=URI;X-ADDRESS=Buffalo Mountain Brewery & McDaniel’s Tavern 332 Webbs Mill Rd. Floyd VA 24091 United States;X-APPLE-RADIUS=500;X-TITLE=332 Webbs Mill Rd.:geo:-80.3255321,36.9212216
END:VEVENT
BEGIN:VEVENT
DTSTART;TZID=America/New_York:20260721T180000
DTEND;TZID=America/New_York:20260721T200000
DTSTAMP:20260419T212857
CREATED:20251215T201006Z
LAST-MODIFIED:20251215T201006Z
UID:10031337-1784656800-1784664000@visitfloydva.com
SUMMARY:Bingo at the Brewery!
DESCRIPTION:On Tuesdays\, we play BINGO! \nRounds are called from 6-8pm and the nachos are served all evening long!\nFeaturing amazing local business sponsors and some fantastic prizes!\n$1 per card\, max of 3 cards per person.
URL:https://visitfloydva.com/event/bingo-at-the-brewery/2026-07-21/
LOCATION:Buffalo Mountain Brewery & McDaniel’s Tavern\, 332 Webbs Mill Rd.\, Floyd\, VA\, 24091\, United States
GEO:36.9212216;-80.3255321
X-APPLE-STRUCTURED-LOCATION;VALUE=URI;X-ADDRESS=Buffalo Mountain Brewery & McDaniel’s Tavern 332 Webbs Mill Rd. Floyd VA 24091 United States;X-APPLE-RADIUS=500;X-TITLE=332 Webbs Mill Rd.:geo:-80.3255321,36.9212216
END:VEVENT
BEGIN:VEVENT
DTSTART;TZID=America/New_York:20260728T180000
DTEND;TZID=America/New_York:20260728T200000
DTSTAMP:20260419T212857
CREATED:20251215T201006Z
LAST-MODIFIED:20251215T201006Z
UID:10031338-1785261600-1785268800@visitfloydva.com
SUMMARY:Bingo at the Brewery!
DESCRIPTION:On Tuesdays\, we play BINGO! \nRounds are called from 6-8pm and the nachos are served all evening long!\nFeaturing amazing local business sponsors and some fantastic prizes!\n$1 per card\, max of 3 cards per person.
URL:https://visitfloydva.com/event/bingo-at-the-brewery/2026-07-28/
LOCATION:Buffalo Mountain Brewery & McDaniel’s Tavern\, 332 Webbs Mill Rd.\, Floyd\, VA\, 24091\, United States
GEO:36.9212216;-80.3255321
X-APPLE-STRUCTURED-LOCATION;VALUE=URI;X-ADDRESS=Buffalo Mountain Brewery & McDaniel’s Tavern 332 Webbs Mill Rd. Floyd VA 24091 United States;X-APPLE-RADIUS=500;X-TITLE=332 Webbs Mill Rd.:geo:-80.3255321,36.9212216
END:VEVENT
BEGIN:VEVENT
DTSTART;TZID=America/New_York:20260804T180000
DTEND;TZID=America/New_York:20260804T200000
DTSTAMP:20260419T212857
CREATED:20251215T201006Z
LAST-MODIFIED:20251215T201006Z
UID:10031339-1785866400-1785873600@visitfloydva.com
SUMMARY:Bingo at the Brewery!
DESCRIPTION:On Tuesdays\, we play BINGO! \nRounds are called from 6-8pm and the nachos are served all evening long!\nFeaturing amazing local business sponsors and some fantastic prizes!\n$1 per card\, max of 3 cards per person.
URL:https://visitfloydva.com/event/bingo-at-the-brewery/2026-08-04/
LOCATION:Buffalo Mountain Brewery & McDaniel’s Tavern\, 332 Webbs Mill Rd.\, Floyd\, VA\, 24091\, United States
GEO:36.9212216;-80.3255321
X-APPLE-STRUCTURED-LOCATION;VALUE=URI;X-ADDRESS=Buffalo Mountain Brewery & McDaniel’s Tavern 332 Webbs Mill Rd. Floyd VA 24091 United States;X-APPLE-RADIUS=500;X-TITLE=332 Webbs Mill Rd.:geo:-80.3255321,36.9212216
END:VEVENT
BEGIN:VEVENT
DTSTART;TZID=America/New_York:20260811T180000
DTEND;TZID=America/New_York:20260811T200000
DTSTAMP:20260419T212857
CREATED:20251215T201006Z
LAST-MODIFIED:20251215T201006Z
UID:10031340-1786471200-1786478400@visitfloydva.com
SUMMARY:Bingo at the Brewery!
DESCRIPTION:On Tuesdays\, we play BINGO! \nRounds are called from 6-8pm and the nachos are served all evening long!\nFeaturing amazing local business sponsors and some fantastic prizes!\n$1 per card\, max of 3 cards per person.
URL:https://visitfloydva.com/event/bingo-at-the-brewery/2026-08-11/
LOCATION:Buffalo Mountain Brewery & McDaniel’s Tavern\, 332 Webbs Mill Rd.\, Floyd\, VA\, 24091\, United States
GEO:36.9212216;-80.3255321
X-APPLE-STRUCTURED-LOCATION;VALUE=URI;X-ADDRESS=Buffalo Mountain Brewery & McDaniel’s Tavern 332 Webbs Mill Rd. Floyd VA 24091 United States;X-APPLE-RADIUS=500;X-TITLE=332 Webbs Mill Rd.:geo:-80.3255321,36.9212216
END:VEVENT
BEGIN:VEVENT
DTSTART;TZID=America/New_York:20260818T180000
DTEND;TZID=America/New_York:20260818T200000
DTSTAMP:20260419T212857
CREATED:20251215T201006Z
LAST-MODIFIED:20251215T201006Z
UID:10031341-1787076000-1787083200@visitfloydva.com
SUMMARY:Bingo at the Brewery!
DESCRIPTION:On Tuesdays\, we play BINGO! \nRounds are called from 6-8pm and the nachos are served all evening long!\nFeaturing amazing local business sponsors and some fantastic prizes!\n$1 per card\, max of 3 cards per person.
URL:https://visitfloydva.com/event/bingo-at-the-brewery/2026-08-18/
LOCATION:Buffalo Mountain Brewery & McDaniel’s Tavern\, 332 Webbs Mill Rd.\, Floyd\, VA\, 24091\, United States
GEO:36.9212216;-80.3255321
X-APPLE-STRUCTURED-LOCATION;VALUE=URI;X-ADDRESS=Buffalo Mountain Brewery & McDaniel’s Tavern 332 Webbs Mill Rd. Floyd VA 24091 United States;X-APPLE-RADIUS=500;X-TITLE=332 Webbs Mill Rd.:geo:-80.3255321,36.9212216
END:VEVENT
BEGIN:VEVENT
DTSTART;TZID=America/New_York:20260825T180000
DTEND;TZID=America/New_York:20260825T200000
DTSTAMP:20260419T212857
CREATED:20251215T201006Z
LAST-MODIFIED:20251215T201006Z
UID:10031342-1787680800-1787688000@visitfloydva.com
SUMMARY:Bingo at the Brewery!
DESCRIPTION:On Tuesdays\, we play BINGO! \nRounds are called from 6-8pm and the nachos are served all evening long!\nFeaturing amazing local business sponsors and some fantastic prizes!\n$1 per card\, max of 3 cards per person.
URL:https://visitfloydva.com/event/bingo-at-the-brewery/2026-08-25/
LOCATION:Buffalo Mountain Brewery & McDaniel’s Tavern\, 332 Webbs Mill Rd.\, Floyd\, VA\, 24091\, United States
GEO:36.9212216;-80.3255321
X-APPLE-STRUCTURED-LOCATION;VALUE=URI;X-ADDRESS=Buffalo Mountain Brewery & McDaniel’s Tavern 332 Webbs Mill Rd. Floyd VA 24091 United States;X-APPLE-RADIUS=500;X-TITLE=332 Webbs Mill Rd.:geo:-80.3255321,36.9212216
END:VEVENT
BEGIN:VEVENT
DTSTART;TZID=America/New_York:20260901T180000
DTEND;TZID=America/New_York:20260901T200000
DTSTAMP:20260419T212857
CREATED:20251215T201006Z
LAST-MODIFIED:20251215T201006Z
UID:10031343-1788285600-1788292800@visitfloydva.com
SUMMARY:Bingo at the Brewery!
DESCRIPTION:On Tuesdays\, we play BINGO! \nRounds are called from 6-8pm and the nachos are served all evening long!\nFeaturing amazing local business sponsors and some fantastic prizes!\n$1 per card\, max of 3 cards per person.
URL:https://visitfloydva.com/event/bingo-at-the-brewery/2026-09-01/
LOCATION:Buffalo Mountain Brewery & McDaniel’s Tavern\, 332 Webbs Mill Rd.\, Floyd\, VA\, 24091\, United States
GEO:36.9212216;-80.3255321
X-APPLE-STRUCTURED-LOCATION;VALUE=URI;X-ADDRESS=Buffalo Mountain Brewery & McDaniel’s Tavern 332 Webbs Mill Rd. Floyd VA 24091 United States;X-APPLE-RADIUS=500;X-TITLE=332 Webbs Mill Rd.:geo:-80.3255321,36.9212216
END:VEVENT
BEGIN:VEVENT
DTSTART;TZID=America/New_York:20260908T180000
DTEND;TZID=America/New_York:20260908T200000
DTSTAMP:20260419T212857
CREATED:20251215T201006Z
LAST-MODIFIED:20251215T201006Z
UID:10031344-1788890400-1788897600@visitfloydva.com
SUMMARY:Bingo at the Brewery!
DESCRIPTION:On Tuesdays\, we play BINGO! \nRounds are called from 6-8pm and the nachos are served all evening long!\nFeaturing amazing local business sponsors and some fantastic prizes!\n$1 per card\, max of 3 cards per person.
URL:https://visitfloydva.com/event/bingo-at-the-brewery/2026-09-08/
LOCATION:Buffalo Mountain Brewery & McDaniel’s Tavern\, 332 Webbs Mill Rd.\, Floyd\, VA\, 24091\, United States
GEO:36.9212216;-80.3255321
X-APPLE-STRUCTURED-LOCATION;VALUE=URI;X-ADDRESS=Buffalo Mountain Brewery & McDaniel’s Tavern 332 Webbs Mill Rd. Floyd VA 24091 United States;X-APPLE-RADIUS=500;X-TITLE=332 Webbs Mill Rd.:geo:-80.3255321,36.9212216
END:VEVENT
BEGIN:VEVENT
DTSTART;TZID=America/New_York:20260915T180000
DTEND;TZID=America/New_York:20260915T200000
DTSTAMP:20260419T212857
CREATED:20251215T201006Z
LAST-MODIFIED:20251215T201006Z
UID:10031345-1789495200-1789502400@visitfloydva.com
SUMMARY:Bingo at the Brewery!
DESCRIPTION:On Tuesdays\, we play BINGO! \nRounds are called from 6-8pm and the nachos are served all evening long!\nFeaturing amazing local business sponsors and some fantastic prizes!\n$1 per card\, max of 3 cards per person.
URL:https://visitfloydva.com/event/bingo-at-the-brewery/2026-09-15/
LOCATION:Buffalo Mountain Brewery & McDaniel’s Tavern\, 332 Webbs Mill Rd.\, Floyd\, VA\, 24091\, United States
GEO:36.9212216;-80.3255321
X-APPLE-STRUCTURED-LOCATION;VALUE=URI;X-ADDRESS=Buffalo Mountain Brewery & McDaniel’s Tavern 332 Webbs Mill Rd. Floyd VA 24091 United States;X-APPLE-RADIUS=500;X-TITLE=332 Webbs Mill Rd.:geo:-80.3255321,36.9212216
END:VEVENT
BEGIN:VEVENT
DTSTART;TZID=America/New_York:20260922T180000
DTEND;TZID=America/New_York:20260922T200000
DTSTAMP:20260419T212857
CREATED:20251215T201006Z
LAST-MODIFIED:20251215T201006Z
UID:10031346-1790100000-1790107200@visitfloydva.com
SUMMARY:Bingo at the Brewery!
DESCRIPTION:On Tuesdays\, we play BINGO! \nRounds are called from 6-8pm and the nachos are served all evening long!\nFeaturing amazing local business sponsors and some fantastic prizes!\n$1 per card\, max of 3 cards per person.
URL:https://visitfloydva.com/event/bingo-at-the-brewery/2026-09-22/
LOCATION:Buffalo Mountain Brewery & McDaniel’s Tavern\, 332 Webbs Mill Rd.\, Floyd\, VA\, 24091\, United States
GEO:36.9212216;-80.3255321
X-APPLE-STRUCTURED-LOCATION;VALUE=URI;X-ADDRESS=Buffalo Mountain Brewery & McDaniel’s Tavern 332 Webbs Mill Rd. Floyd VA 24091 United States;X-APPLE-RADIUS=500;X-TITLE=332 Webbs Mill Rd.:geo:-80.3255321,36.9212216
END:VEVENT
BEGIN:VEVENT
DTSTART;TZID=America/New_York:20260929T180000
DTEND;TZID=America/New_York:20260929T200000
DTSTAMP:20260419T212857
CREATED:20251215T201006Z
LAST-MODIFIED:20251215T201006Z
UID:10031347-1790704800-1790712000@visitfloydva.com
SUMMARY:Bingo at the Brewery!
DESCRIPTION:On Tuesdays\, we play BINGO! \nRounds are called from 6-8pm and the nachos are served all evening long!\nFeaturing amazing local business sponsors and some fantastic prizes!\n$1 per card\, max of 3 cards per person.
URL:https://visitfloydva.com/event/bingo-at-the-brewery/2026-09-29/
LOCATION:Buffalo Mountain Brewery & McDaniel’s Tavern\, 332 Webbs Mill Rd.\, Floyd\, VA\, 24091\, United States
GEO:36.9212216;-80.3255321
X-APPLE-STRUCTURED-LOCATION;VALUE=URI;X-ADDRESS=Buffalo Mountain Brewery & McDaniel’s Tavern 332 Webbs Mill Rd. Floyd VA 24091 United States;X-APPLE-RADIUS=500;X-TITLE=332 Webbs Mill Rd.:geo:-80.3255321,36.9212216
END:VEVENT
BEGIN:VEVENT
DTSTART;TZID=America/New_York:20261006T180000
DTEND;TZID=America/New_York:20261006T200000
DTSTAMP:20260419T212857
CREATED:20251215T201006Z
LAST-MODIFIED:20251215T201006Z
UID:10031348-1791309600-1791316800@visitfloydva.com
SUMMARY:Bingo at the Brewery!
DESCRIPTION:On Tuesdays\, we play BINGO! \nRounds are called from 6-8pm and the nachos are served all evening long!\nFeaturing amazing local business sponsors and some fantastic prizes!\n$1 per card\, max of 3 cards per person.
URL:https://visitfloydva.com/event/bingo-at-the-brewery/2026-10-06/
LOCATION:Buffalo Mountain Brewery & McDaniel’s Tavern\, 332 Webbs Mill Rd.\, Floyd\, VA\, 24091\, United States
GEO:36.9212216;-80.3255321
X-APPLE-STRUCTURED-LOCATION;VALUE=URI;X-ADDRESS=Buffalo Mountain Brewery & McDaniel’s Tavern 332 Webbs Mill Rd. Floyd VA 24091 United States;X-APPLE-RADIUS=500;X-TITLE=332 Webbs Mill Rd.:geo:-80.3255321,36.9212216
END:VEVENT
BEGIN:VEVENT
DTSTART;TZID=America/New_York:20261013T180000
DTEND;TZID=America/New_York:20261013T200000
DTSTAMP:20260419T212857
CREATED:20251215T201006Z
LAST-MODIFIED:20251215T201006Z
UID:10031349-1791914400-1791921600@visitfloydva.com
SUMMARY:Bingo at the Brewery!
DESCRIPTION:On Tuesdays\, we play BINGO! \nRounds are called from 6-8pm and the nachos are served all evening long!\nFeaturing amazing local business sponsors and some fantastic prizes!\n$1 per card\, max of 3 cards per person.
URL:https://visitfloydva.com/event/bingo-at-the-brewery/2026-10-13/
LOCATION:Buffalo Mountain Brewery & McDaniel’s Tavern\, 332 Webbs Mill Rd.\, Floyd\, VA\, 24091\, United States
GEO:36.9212216;-80.3255321
X-APPLE-STRUCTURED-LOCATION;VALUE=URI;X-ADDRESS=Buffalo Mountain Brewery & McDaniel’s Tavern 332 Webbs Mill Rd. Floyd VA 24091 United States;X-APPLE-RADIUS=500;X-TITLE=332 Webbs Mill Rd.:geo:-80.3255321,36.9212216
END:VEVENT
BEGIN:VEVENT
DTSTART;TZID=America/New_York:20261020T180000
DTEND;TZID=America/New_York:20261020T200000
DTSTAMP:20260419T212857
CREATED:20251215T201006Z
LAST-MODIFIED:20251215T201006Z
UID:10031350-1792519200-1792526400@visitfloydva.com
SUMMARY:Bingo at the Brewery!
DESCRIPTION:On Tuesdays\, we play BINGO! \nRounds are called from 6-8pm and the nachos are served all evening long!\nFeaturing amazing local business sponsors and some fantastic prizes!\n$1 per card\, max of 3 cards per person.
URL:https://visitfloydva.com/event/bingo-at-the-brewery/2026-10-20/
LOCATION:Buffalo Mountain Brewery & McDaniel’s Tavern\, 332 Webbs Mill Rd.\, Floyd\, VA\, 24091\, United States
GEO:36.9212216;-80.3255321
X-APPLE-STRUCTURED-LOCATION;VALUE=URI;X-ADDRESS=Buffalo Mountain Brewery & McDaniel’s Tavern 332 Webbs Mill Rd. Floyd VA 24091 United States;X-APPLE-RADIUS=500;X-TITLE=332 Webbs Mill Rd.:geo:-80.3255321,36.9212216
END:VEVENT
BEGIN:VEVENT
DTSTART;TZID=America/New_York:20261027T180000
DTEND;TZID=America/New_York:20261027T200000
DTSTAMP:20260419T212857
CREATED:20251215T201006Z
LAST-MODIFIED:20251215T201006Z
UID:10031351-1793124000-1793131200@visitfloydva.com
SUMMARY:Bingo at the Brewery!
DESCRIPTION:On Tuesdays\, we play BINGO! \nRounds are called from 6-8pm and the nachos are served all evening long!\nFeaturing amazing local business sponsors and some fantastic prizes!\n$1 per card\, max of 3 cards per person.
URL:https://visitfloydva.com/event/bingo-at-the-brewery/2026-10-27/
LOCATION:Buffalo Mountain Brewery & McDaniel’s Tavern\, 332 Webbs Mill Rd.\, Floyd\, VA\, 24091\, United States
GEO:36.9212216;-80.3255321
X-APPLE-STRUCTURED-LOCATION;VALUE=URI;X-ADDRESS=Buffalo Mountain Brewery & McDaniel’s Tavern 332 Webbs Mill Rd. Floyd VA 24091 United States;X-APPLE-RADIUS=500;X-TITLE=332 Webbs Mill Rd.:geo:-80.3255321,36.9212216
END:VEVENT
BEGIN:VEVENT
DTSTART;TZID=America/New_York:20261103T180000
DTEND;TZID=America/New_York:20261103T200000
DTSTAMP:20260419T212857
CREATED:20251215T201006Z
LAST-MODIFIED:20251215T201006Z
UID:10031352-1793728800-1793736000@visitfloydva.com
SUMMARY:Bingo at the Brewery!
DESCRIPTION:On Tuesdays\, we play BINGO! \nRounds are called from 6-8pm and the nachos are served all evening long!\nFeaturing amazing local business sponsors and some fantastic prizes!\n$1 per card\, max of 3 cards per person.
URL:https://visitfloydva.com/event/bingo-at-the-brewery/2026-11-03/
LOCATION:Buffalo Mountain Brewery & McDaniel’s Tavern\, 332 Webbs Mill Rd.\, Floyd\, VA\, 24091\, United States
GEO:36.9212216;-80.3255321
X-APPLE-STRUCTURED-LOCATION;VALUE=URI;X-ADDRESS=Buffalo Mountain Brewery & McDaniel’s Tavern 332 Webbs Mill Rd. Floyd VA 24091 United States;X-APPLE-RADIUS=500;X-TITLE=332 Webbs Mill Rd.:geo:-80.3255321,36.9212216
END:VEVENT
BEGIN:VEVENT
DTSTART;TZID=America/New_York:20261110T180000
DTEND;TZID=America/New_York:20261110T200000
DTSTAMP:20260419T212857
CREATED:20251215T201006Z
LAST-MODIFIED:20251215T201006Z
UID:10031353-1794333600-1794340800@visitfloydva.com
SUMMARY:Bingo at the Brewery!
DESCRIPTION:On Tuesdays\, we play BINGO! \nRounds are called from 6-8pm and the nachos are served all evening long!\nFeaturing amazing local business sponsors and some fantastic prizes!\n$1 per card\, max of 3 cards per person.
URL:https://visitfloydva.com/event/bingo-at-the-brewery/2026-11-10/
LOCATION:Buffalo Mountain Brewery & McDaniel’s Tavern\, 332 Webbs Mill Rd.\, Floyd\, VA\, 24091\, United States
GEO:36.9212216;-80.3255321
X-APPLE-STRUCTURED-LOCATION;VALUE=URI;X-ADDRESS=Buffalo Mountain Brewery & McDaniel’s Tavern 332 Webbs Mill Rd. Floyd VA 24091 United States;X-APPLE-RADIUS=500;X-TITLE=332 Webbs Mill Rd.:geo:-80.3255321,36.9212216
END:VEVENT
END:VCALENDAR