BEGIN:VCALENDAR
VERSION:2.0
PRODID:-//Visit Floyd Virginia - ECPv6.15.20//NONSGML v1.0//EN
CALSCALE:GREGORIAN
METHOD:PUBLISH
X-WR-CALNAME:Visit Floyd Virginia
X-ORIGINAL-URL:https://visitfloydva.com
X-WR-CALDESC:Events for Visit Floyd Virginia
REFRESH-INTERVAL;VALUE=DURATION:PT1H
X-Robots-Tag:noindex
X-PUBLISHED-TTL:PT1H
BEGIN:VTIMEZONE
TZID:America/New_York
BEGIN:DAYLIGHT
TZOFFSETFROM:-0500
TZOFFSETTO:-0400
TZNAME:EDT
DTSTART:20250309T070000
END:DAYLIGHT
BEGIN:STANDARD
TZOFFSETFROM:-0400
TZOFFSETTO:-0500
TZNAME:EST
DTSTART:20251102T060000
END:STANDARD
BEGIN:DAYLIGHT
TZOFFSETFROM:-0500
TZOFFSETTO:-0400
TZNAME:EDT
DTSTART:20260308T070000
END:DAYLIGHT
BEGIN:STANDARD
TZOFFSETFROM:-0400
TZOFFSETTO:-0500
TZNAME:EST
DTSTART:20261101T060000
END:STANDARD
BEGIN:DAYLIGHT
TZOFFSETFROM:-0500
TZOFFSETTO:-0400
TZNAME:EDT
DTSTART:20270314T070000
END:DAYLIGHT
BEGIN:STANDARD
TZOFFSETFROM:-0400
TZOFFSETTO:-0500
TZNAME:EST
DTSTART:20271107T060000
END:STANDARD
END:VTIMEZONE
BEGIN:VEVENT
DTSTART;TZID=America/New_York:20260509T120000
DTEND;TZID=America/New_York:20260509T140000
DTSTAMP:20260419T230259
CREATED:20260114T183902Z
LAST-MODIFIED:20260114T183902Z
UID:10031674-1778328000-1778335200@visitfloydva.com
SUMMARY:Herbal Infused Oils & Salve Making Class
DESCRIPTION:Applying herbs topically\, as infused oils or salves\, is one of the many ways we can utilize herbs for health and healing.  We will discuss several methods of extracting herbs in oil and how to do so\, including a demonstration preparing an herb for oil extraction.  These infused herbal oils can be used as is\, or made into healing herbal salves.  We will collectively make an herbal salve in class\, and each attendee will take home a container of salve made in the class. \nThe workshop would entail: \n-Small Plant ID Walk and discussion in EcoVillage Learning Garden (weather permitting) \n-Rules on Harvesting Sustainably and at peak potency \n-Oils/Salve making class & notes\n-Hands on – each attendee will take home a jar of salve made in class. Note- depending on weather and availability of herbs\, plant material for salve making will either be supplied by I-TAL Acres or we will harvest them onsite as needed.\n-Demonstration of how to make an infused herbal oil. \n-Info on how to make tinctures.
URL:https://visitfloydva.com/event/herbal-infused-oils-salve-making-class/
LOCATION:Floyd EcoVillage\, 188 EcoVillage Trl SE\, Floyd\, VA\, 24091\, United States
CATEGORIES:Farms & Agriculture,Workshop
GEO:36.9132692;-80.2835861
X-APPLE-STRUCTURED-LOCATION;VALUE=URI;X-ADDRESS=Floyd EcoVillage 188 EcoVillage Trl SE Floyd VA 24091 United States;X-APPLE-RADIUS=500;X-TITLE=188 EcoVillage Trl SE:geo:-80.2835861,36.9132692
END:VEVENT
END:VCALENDAR