BEGIN:VCALENDAR
VERSION:2.0
PRODID:-//Visit Floyd Virginia - ECPv6.15.20//NONSGML v1.0//EN
CALSCALE:GREGORIAN
METHOD:PUBLISH
X-ORIGINAL-URL:https://visitfloydva.com
X-WR-CALDESC:Events for Visit Floyd Virginia
REFRESH-INTERVAL;VALUE=DURATION:PT1H
X-Robots-Tag:noindex
X-PUBLISHED-TTL:PT1H
BEGIN:VTIMEZONE
TZID:America/New_York
BEGIN:DAYLIGHT
TZOFFSETFROM:-0500
TZOFFSETTO:-0400
TZNAME:EDT
DTSTART:20240310T070000
END:DAYLIGHT
BEGIN:STANDARD
TZOFFSETFROM:-0400
TZOFFSETTO:-0500
TZNAME:EST
DTSTART:20241103T060000
END:STANDARD
BEGIN:DAYLIGHT
TZOFFSETFROM:-0500
TZOFFSETTO:-0400
TZNAME:EDT
DTSTART:20250309T070000
END:DAYLIGHT
BEGIN:STANDARD
TZOFFSETFROM:-0400
TZOFFSETTO:-0500
TZNAME:EST
DTSTART:20251102T060000
END:STANDARD
BEGIN:DAYLIGHT
TZOFFSETFROM:-0500
TZOFFSETTO:-0400
TZNAME:EDT
DTSTART:20260308T070000
END:DAYLIGHT
BEGIN:STANDARD
TZOFFSETFROM:-0400
TZOFFSETTO:-0500
TZNAME:EST
DTSTART:20261101T060000
END:STANDARD
END:VTIMEZONE
BEGIN:VEVENT
DTSTART;TZID=America/New_York:20250914T100000
DTEND;TZID=America/New_York:20250914T170000
DTSTAMP:20260420T172009
CREATED:20241115T223714Z
LAST-MODIFIED:20250917T125131Z
UID:10030413-1757844000-1757869200@visitfloydva.com
SUMMARY:Anne Vaughan Holiday Open Studio
DESCRIPTION:Ring in the holiday season with the AVD team at our signature shopping event! \nWe’re taking over the Innovation Center for a festive weekend filled with live music\, delicious hors d’oeuvres\, mulled cider\, and our annual holiday bourbon tasting. Explore our complete jewelry collections\, one-of-a-kind designs\, and exclusive end-of-year specials\, all in one place. \nWhile you shop\, the guys (or gals) can kick back in our lounge featuring a big-screen TV playing college bowl games\, along with food and drinks to enjoy. Everyone who RSVPs by December 1st will be entered to win a $75 gift card\, with one winner drawn each day. \nRSVP at https://annevaughandesigns.com/pages/avd-open-house\, and we look forward to celebrating with you!
URL:https://visitfloydva.com/event/anne-vaughan-holiday-open-studio/2025-09-14/
LOCATION:Anne Vaughan Designs\, 158 Pioneer Wy #4\, Floyd\, VA\, 24091
CATEGORIES:Arts & Handcraft,Entertainment,Holiday,Shopping,Spirits
ATTACH;FMTTYPE=image/jpeg:https://visitfloydva.com/wp-content/uploads/2024/11/Holiday-Open-Studio-2023-53.jpg
ORGANIZER;CN="Anne Vaughan Designs":MAILTO:aaron@annevaughandesigns.com
GEO:36.9235841;-80.2420441
X-APPLE-STRUCTURED-LOCATION;VALUE=URI;X-ADDRESS=Anne Vaughan Designs 158 Pioneer Wy #4 Floyd VA 24091;X-APPLE-RADIUS=500;X-TITLE=158 Pioneer Wy #4:geo:-80.2420441,36.9235841
END:VEVENT
BEGIN:VEVENT
DTSTART;TZID=America/New_York:20250919T100000
DTEND;TZID=America/New_York:20250919T150000
DTSTAMP:20260420T172009
CREATED:20250908T135633Z
LAST-MODIFIED:20250917T200632Z
UID:10030347-1758276000-1758294000@visitfloydva.com
SUMMARY:Open Warehouse Sale at Medina Mercantile
DESCRIPTION:Our Fall wholesale clearance event is an exciting experience with deep discounts on imports from Morocco and Peru. We throw open our doors to clear out samples\, seconds and overstock at huge savings plus amazing one of a kind textiles and home wares. Friday and Saturday from 10-3. Visit www.medinamercantile.com for a sneak peek!
URL:https://visitfloydva.com/event/open-warehouse-sale/2025-09-19/
LOCATION:Medina Mercantile Floyd Showroom\, 8909 Deer Run Dr SE\, Copper Hill\, VA\, 24079
CATEGORIES:Arts & Handcraft,Shopping
ATTACH;FMTTYPE=image/jpeg:https://visitfloydva.com/wp-content/uploads/2025/09/IMG_5954-scaled.jpeg
END:VEVENT
BEGIN:VEVENT
DTSTART;TZID=America/New_York:20250920T100000
DTEND;TZID=America/New_York:20250920T150000
DTSTAMP:20260420T172009
CREATED:20250908T135633Z
LAST-MODIFIED:20250917T200632Z
UID:10030419-1758362400-1758380400@visitfloydva.com
SUMMARY:Open Warehouse Sale at Medina Mercantile
DESCRIPTION:Our Fall wholesale clearance event is an exciting experience with deep discounts on imports from Morocco and Peru. We throw open our doors to clear out samples\, seconds and overstock at huge savings plus amazing one of a kind textiles and home wares. Friday and Saturday from 10-3. Visit www.medinamercantile.com for a sneak peek!
URL:https://visitfloydva.com/event/open-warehouse-sale/2025-09-20/
LOCATION:Medina Mercantile Floyd Showroom\, 8909 Deer Run Dr SE\, Copper Hill\, VA\, 24079
CATEGORIES:Arts & Handcraft,Shopping
ATTACH;FMTTYPE=image/jpeg:https://visitfloydva.com/wp-content/uploads/2025/09/IMG_5954-scaled.jpeg
END:VEVENT
END:VCALENDAR