BEGIN:VCALENDAR
VERSION:2.0
PRODID:-//Visit Floyd Virginia - ECPv6.15.20//NONSGML v1.0//EN
CALSCALE:GREGORIAN
METHOD:PUBLISH
X-ORIGINAL-URL:https://visitfloydva.com
X-WR-CALDESC:Events for Visit Floyd Virginia
REFRESH-INTERVAL;VALUE=DURATION:PT1H
X-Robots-Tag:noindex
X-PUBLISHED-TTL:PT1H
BEGIN:VTIMEZONE
TZID:America/New_York
BEGIN:DAYLIGHT
TZOFFSETFROM:-0500
TZOFFSETTO:-0400
TZNAME:EDT
DTSTART:20230312T070000
END:DAYLIGHT
BEGIN:STANDARD
TZOFFSETFROM:-0400
TZOFFSETTO:-0500
TZNAME:EST
DTSTART:20231105T060000
END:STANDARD
BEGIN:DAYLIGHT
TZOFFSETFROM:-0500
TZOFFSETTO:-0400
TZNAME:EDT
DTSTART:20240310T070000
END:DAYLIGHT
BEGIN:STANDARD
TZOFFSETFROM:-0400
TZOFFSETTO:-0500
TZNAME:EST
DTSTART:20241103T060000
END:STANDARD
BEGIN:DAYLIGHT
TZOFFSETFROM:-0500
TZOFFSETTO:-0400
TZNAME:EDT
DTSTART:20250309T070000
END:DAYLIGHT
BEGIN:STANDARD
TZOFFSETFROM:-0400
TZOFFSETTO:-0500
TZNAME:EST
DTSTART:20251102T060000
END:STANDARD
END:VTIMEZONE
BEGIN:VEVENT
DTSTART;TZID=America/New_York:20241215T110000
DTEND;TZID=America/New_York:20241215T160000
DTSTAMP:20260421T101042
CREATED:20241115T223941Z
LAST-MODIFIED:20241115T224009Z
UID:10028037-1734260400-1734278400@visitfloydva.com
SUMMARY:Anne Vaughan Holiday Open Studio
DESCRIPTION:Get ready and join the AVD team and ring in the holiday season with the return of our signature holiday shopping event! Shop our complete selection of handcrafted earrings\, necklaces and bracelets including seasonal and limited collections\, as well as one of a kind designs! \nJoin Chef Michael Gucciardo as he designs a holiday selection of treats including cannolis\, savory meatballs and dips\, and a charcuterie spread for every taste! Beer\, wine and non-alcoholic beverages available during the event. \nZach Wiley is back both Saturday and Sunday and creates a memorable experience with his acoustic playlist to set the mood and put you in the holiday spirit! \nRSVP at https://annevaughandesigns.com/open-studio and we look forward to celebrating with you!
URL:https://visitfloydva.com/event/anne-vaughan-holiday-open-studio-2/
LOCATION:Anne Vaughan Designs\, 158 Pioneer Wy #4\, Floyd\, VA\, 24091
CATEGORIES:Arts & Handcraft,Entertainment,Holiday,Shopping,Spirits
ATTACH;FMTTYPE=image/jpeg:https://visitfloydva.com/wp-content/uploads/2024/11/Holiday-Open-Studio-2023-53-1.jpg
ORGANIZER;CN="Anne Vaughan Designs":MAILTO:aaron@annevaughandesigns.com
GEO:36.9235841;-80.2420441
X-APPLE-STRUCTURED-LOCATION;VALUE=URI;X-ADDRESS=Anne Vaughan Designs 158 Pioneer Wy #4 Floyd VA 24091;X-APPLE-RADIUS=500;X-TITLE=158 Pioneer Wy #4:geo:-80.2420441,36.9235841
END:VEVENT
END:VCALENDAR