BEGIN:VCALENDAR
VERSION:2.0
PRODID:-//Visit Floyd Virginia - ECPv6.15.20//NONSGML v1.0//EN
CALSCALE:GREGORIAN
METHOD:PUBLISH
X-WR-CALNAME:Visit Floyd Virginia
X-ORIGINAL-URL:https://visitfloydva.com
X-WR-CALDESC:Events for Visit Floyd Virginia
REFRESH-INTERVAL;VALUE=DURATION:PT1H
X-Robots-Tag:noindex
X-PUBLISHED-TTL:PT1H
BEGIN:VTIMEZONE
TZID:America/New_York
BEGIN:DAYLIGHT
TZOFFSETFROM:-0500
TZOFFSETTO:-0400
TZNAME:EDT
DTSTART:20230312T070000
END:DAYLIGHT
BEGIN:STANDARD
TZOFFSETFROM:-0400
TZOFFSETTO:-0500
TZNAME:EST
DTSTART:20231105T060000
END:STANDARD
BEGIN:DAYLIGHT
TZOFFSETFROM:-0500
TZOFFSETTO:-0400
TZNAME:EDT
DTSTART:20240310T070000
END:DAYLIGHT
BEGIN:STANDARD
TZOFFSETFROM:-0400
TZOFFSETTO:-0500
TZNAME:EST
DTSTART:20241103T060000
END:STANDARD
BEGIN:DAYLIGHT
TZOFFSETFROM:-0500
TZOFFSETTO:-0400
TZNAME:EDT
DTSTART:20250309T070000
END:DAYLIGHT
BEGIN:STANDARD
TZOFFSETFROM:-0400
TZOFFSETTO:-0500
TZNAME:EST
DTSTART:20251102T060000
END:STANDARD
END:VTIMEZONE
BEGIN:VEVENT
DTSTART;TZID=America/New_York:20240808T100000
DTEND;TZID=America/New_York:20240808T210000
DTSTAMP:20260420T195523
CREATED:20240805T124546Z
LAST-MODIFIED:20240805T153140Z
UID:10027809-1723111200-1723150800@visitfloydva.com
SUMMARY:YouPick Flowers
DESCRIPTION:Come experience YouPick Flowers every weekend throughout our season. We have sunflowers\, a variety of zinnias\, cosmos\, wildflowers and more! Follow us on FB to find out about popup weekend entertainment like music\, food trucks\, and other activities. \nOur YouPick fields are open Thursday – Sunday 10am-Sunset\nHow the YouPick works\n1) Come to the store\n2) Purchase a container\n3) Pick your heart out! \nWe also have camping available at our campground through 12 November.
URL:https://visitfloydva.com/event/youpick-flowers/2024-08-08/
LOCATION:Crooked Mountain\, 1378 Shooting Creek Rd SE\, Floyd\, VA\, 24091
CATEGORIES:Camping,Entertainment,Gardens,Music
ATTACH;FMTTYPE=image/png:https://visitfloydva.com/wp-content/uploads/2024/08/flower-pics.png
ORGANIZER;CN="Crooked Mountain":MAILTO:crookedmtnva@gmail.com
END:VEVENT
BEGIN:VEVENT
DTSTART;TZID=America/New_York:20240803T170000
DTEND;TZID=America/New_York:20240803T210000
DTSTAMP:20260420T195523
CREATED:20240301T141923Z
LAST-MODIFIED:20240301T141923Z
UID:10029250-1722704400-1722718800@visitfloydva.com
SUMMARY:Citizens Gig Finale Part
DESCRIPTION:Citizens is finishing up our Fiber project and we want you to celebrate with us!. Join us for an evening of entertainment\, food and fun! The Worx will be playing from 6 pm until 9 pm with food trucks from 5 pm to 9 pm!
URL:https://visitfloydva.com/event/citizens-gig-finale-part/
LOCATION:Citizens Telephone Coop\, 220 Webbs Mill Rd\, Floyd\, VA\, 24091\, United States
CATEGORIES:Entertainment,Kid friendly,Music
ORGANIZER;CN="Citizens (Citizens Telephone Cooperative)":MAILTO:marketing@citizens.coop
GEO:36.918296;-80.324699
X-APPLE-STRUCTURED-LOCATION;VALUE=URI;X-ADDRESS=Citizens Telephone Coop 220 Webbs Mill Rd Floyd VA 24091 United States;X-APPLE-RADIUS=500;X-TITLE=220 Webbs Mill Rd:geo:-80.324699,36.918296
END:VEVENT
BEGIN:VEVENT
DTSTART;TZID=America/New_York:20240803T100000
DTEND;TZID=America/New_York:20240803T160000
DTSTAMP:20260420T195523
CREATED:20240730T135906Z
LAST-MODIFIED:20240730T193257Z
UID:10029505-1722679200-1722700800@visitfloydva.com
SUMMARY:Chanterellefest
DESCRIPTION:The 2nd Annual Chanterellefest! A Celebration of Foraging Fungi! August 3\, 2024 10:00AM – 4:00PM \nChanterellefest is “A Celebration of Foraging Fungi” where we will have multiple education stations to learn about mushroom foraging\, cooking\, cleaning\, storage & cultivation!\nWe have about a dozen local arts & craft vendors coming to sell their wares and will have music on our Gap Stage from 11:00A until 3:45P provided by Rebekah & Matt Hiser with special guest Scott Patrick as well as Hazy Mill. \nPicnic style food\, snacks & drinks will be available in the Tuggle’s Gap shop\, so bring your chairs & blanket for a nice lunch with live music! Our shop is also stocked with great mushroom foraging tools like field guides & specialty knives\, as well as the Official Chanterellefest Tshirt! \nKids activities include a Fairy House Building contest to work on beforehand and on the day of the event we will have a chanterelle drawing contest with prizes going to the best in each contest! Winners will be selected by votes on social media.\nPARKING IS LIMITED AT TUGGLE’S GAP\, SO PLEASE CARPOOL!\nMessage us or call (276)692-2220 with any questions!
URL:https://visitfloydva.com/event/chanterellefest-2/
LOCATION:Tuggles Gap\, 3351 PARKWAY LN S\, Floyd\, VA\, 24091
CATEGORIES:Arts & Handcraft,Education,Kid friendly,Music
END:VEVENT
BEGIN:VEVENT
DTSTART;TZID=America/New_York:20240724T100000
DTEND;TZID=America/New_York:20240728T220000
DTSTAMP:20260420T195523
CREATED:20230210T160933Z
LAST-MODIFIED:20231102T143204Z
UID:10027136-1721815200-1722204000@visitfloydva.com
SUMMARY:FloydFest 24~Horizon
DESCRIPTION:Welcome to FloydFest 24~Horizon — July 24-28\, 2024\n• 5826 Floyd Hwy N\, Floyd\, Va. • \nFive days of ‘Music\, Magic and Mountains\,’ at our new home: 5826 Floyd Highway North\, Check\, Va. — featuring purposeful programming\, vibrant and varied vendors\, quality craft brews and chews\, healing arts\, workshops and whimsy\, camping and children’s activities\, outdoor adventure\, onsite art installations and a final lineup featuring almost 100 artists performing on six stages over five days. \nAnnouncing the FIRST ROUND of lineup additions\, with many more on the ‘Horizon:’ Sierra Ferrell 💚 Sierra Hull 💛 Circles Around The Sun 💙 Maggie Rose 🧡 ORGŌNE ❤️ Sons Of The East 💚 The Hip Abduction 🧡 The Heavy Heavy ❤️ Town Mountain 💙 Cat Clyde 💛 The Vegabonds 💚 Caitlin Krisko and The Broadcast 🧡 Joe Hertler & The Rainbow Seekers ❤️ Sexbruise? 💙 The Wilson Springs Hotel 💛 Palmyra the Band (FF22 On-the-Rise Winner) 💚 The Jared Stout Band (FF22 On-the-Rise Runner-Up) \nTicket Link: https://aftontickets.com/floydfest24 \nFor more information\, click to FloydFest.com or email info@floydfest.com \nStay informed via FloydFest’s newsletter at FloydFest.com/newsletter/ \nPatrons can also opt-in for the FloydFest Text Club by texting “FloydFest” to 540-215-2002 on their mobile device. \n#music #magic #mountains #FloydFest #Horizon #onward #FF24
URL:https://visitfloydva.com/event/floydfest-23forever/
LOCATION:Festival Park\, 5826 Floyd Hwy N\, Check\, VA\, 24072\, United States
CATEGORIES:Arts & Handcraft,Brewery,Camping,Community,Cycling,Dance,Entertainment,Family,Festivals,Kid friendly,Music,Shopping
ATTACH;FMTTYPE=image/jpeg:https://visitfloydva.com/wp-content/uploads/2023/02/391713704_863497211848022_7078033419271508804_n.jpg
END:VEVENT
BEGIN:VEVENT
DTSTART;TZID=America/New_York:20240713T120000
DTEND;TZID=America/New_York:20240713T233000
DTSTAMP:20260420T195523
CREATED:20240703T130409Z
LAST-MODIFIED:20240703T130409Z
UID:10027783-1720872000-1720913400@visitfloydva.com
SUMMARY:Replenish Festival
DESCRIPTION:**9th Annual Replenish Festival Returns to Floyd\, Virginia\, Promising a Family-Oriented\, Faith-Based Music Experience** \nReplenish Festival is thrilled to announce its highly anticipated 9th annual event\, scheduled to take place on July 13th\, 2024 at the Burnett Farm in Floyd\, Virginia. Promising an unforgettable experience for attendees of all ages\, this community-focused festival is set to feature an impressive lineup of musical performances\, engaging activities\, and inspirational speakers. Headlining this year’s festival is the acclaimed Christian Artist\, Building 429. Renowned for their uplifting and anthemic songs\, Building 429 is set to deliver a powerful performance that resonates with audiences. Joining them on stage are other talented artists including Lifeline Worship\, The Gospel Warriors\, AJ Cantrell\, Tanner Blankenship\, and guest speaker-Logan Sherrill from WDBJ7. \nThe Replenish Festival offers much more than just music. Attendees can look forward to a variety of activities including concerts by both national and local artists\, engaging speakers\, Baptisms\, food vendors\, merchant vendors\, and a car\, tractor\, and motorcycle cruise-in with awards. Families will delight in the Kidz Zone\, featuring organized activities\, games\, inflatables\, kids train\, and even horse rides. Don’t forget the popular duck races down the creek\, two races this year winners receive a prize. A new addition to this year’s activities is a FCA Outdoors. They are providing archery instruction for children and youth. Also\, new to the event is a Teen Zone\, lead by Roof Crashers\, full of activities for teenagers. \nFor those wishing to make a weekend of it\, camping options are available for Friday and Saturday night. It’s encouraged to bring your church youth group\, family\, and friends. For camping\, the gates will open on Friday\, July 12th at 3pm with discounted online rates of $15 per spot per night. On Saturday\, July 13th\, the gate opens to the public at noon with daytime activities running from noon to 6pm. The main stage performances kick off at 6pm\, with Building 429 taking the stage at 9pm. \nIn addition to the music and activities\, Replenish Festival also hosts a Cruise-In\, showcasing classic cars\, newer cars\, trucks\, motorcycles\, tractors\, and more. Drivers participating in the Cruise-In will receive free admission to the festival. People’s choice awards will be given away on the main stage at 6pm for each class. \nThe Replenish Festival is more than just an event. It’s a community gathering with a mission to replenish hearts and lives through the gospel of Jesus Christ. Tickets are available for purchase now at discounted rates online with special pricing for adults at $10\, juniors $5\, and free admission for children under 5 and all veterans. Prices will be slightly higher at the gate starting Friday\, July 12th. \nFor more information and to purchase tickets\, please visit replenishfest.com or contact (540) 267-6763 or info@replenishfest.com.\nDon’t miss out on this extraordinary celebration of faith\, family\, and music at Replenish Festival 2024! \nReplenish Festival Team\nPhone: (540) 267-6763\nEmail: info@replenishfest.com\nWebsite: replenishfest.com \nReplenish Festival is an annual event held in Floyd\, Virginia\, dedicated to providing a family-oriented\, faith-based music experience with a diverse lineup of musical performances\, engaging activities\, and inspirational speakers. Replenish Festival seeks to replenish the hearts\nand lives of all who attend through the gospel of Jesus Christ. \nDirections:\nDirections From the West/South: If you are coming from the West or South you will have to come from I-77. Take the Galax/Hillsville/221 exit and head North on 221. You will travel approx 25 miles to a Left on Camp 5 Rd. and travel about 2.8 miles to the stop sign. Take a left on Indian Valley Rd (RT 787) and go 0.6 miles to the Replenish Festival on the Right (just after the big white Barn)! From the North: Depends on where you are coming from…..if you are coming South on I-81\, use the East directions. There are 2 ways to find Floyd from that direction…either come through Roanoke via I-81 to I-581 to SR221 South to the Floyd Stoplight or via I-81 to the RT 8 South/Floyd/Christiansburg exit to the Floyd Stoplight. If you come Rt8\, about 5 miles before the Town of Floyd\, turn Right on Rt 730 (Ridgeview Rd). Continue to the stop sign on Rt 750 (Alum Ridge Rd). Go straight on Rt 730 (now Duncan’s Chapel) to a Left on RT 787 (Indian Valley Rd). Go 4 miles to the Replenish Festival on the Left! If you are coming down I-77\, use the West/South directions.
URL:https://visitfloydva.com/event/replenish-festival-8/
LOCATION:Burnett Farm\, 5555 Indian Valley Road\, Willis\, VA\, 24380\, United States
CATEGORIES:Entertainment,Family,Festivals,Kid friendly,Music,Outdoor Recreation
ATTACH;FMTTYPE=image/jpeg:https://visitfloydva.com/wp-content/uploads/2024/07/Building429_Replenishfest-VA.jpg
ORGANIZER;CN="Replenish Ministries%2C Inc.":MAILTO:info@replenishfest.com
GEO:36.8856031;-80.5322364
X-APPLE-STRUCTURED-LOCATION;VALUE=URI;X-ADDRESS=Burnett Farm 5555 Indian Valley Road Willis VA 24380 United States;X-APPLE-RADIUS=500;X-TITLE=5555 Indian Valley Road:geo:-80.5322364,36.8856031
END:VEVENT
BEGIN:VEVENT
DTSTART;TZID=America/New_York:20240705T180000
DTEND;TZID=America/New_York:20240705T200000
DTSTAMP:20260420T195523
CREATED:20240708T124449Z
LAST-MODIFIED:20240708T124449Z
UID:10027801-1720202400-1720209600@visitfloydva.com
SUMMARY:The Flying Doves in Outer Space
DESCRIPTION:Original Americana music\nBy singer/songwriter Robert McNabb with the Flying Dives.
URL:https://visitfloydva.com/event/the-flying-doves-in-outer-space/
LOCATION:Outerspace\, 320 S Locust St\, Floyd\, VA\, 24091
CATEGORIES:Music
ATTACH;FMTTYPE=image/jpeg:https://visitfloydva.com/wp-content/uploads/2024/07/Messenger_creation_8f9998bd-6637-42a4-86e0-f74864fec0ff.jpeg
END:VEVENT
BEGIN:VEVENT
DTSTART;TZID=America/New_York:20240519T080000
DTEND;TZID=America/New_York:20240519T150000
DTSTAMP:20260420T195523
CREATED:20240507T163557Z
LAST-MODIFIED:20240507T163557Z
UID:10029374-1716105600-1716130800@visitfloydva.com
SUMMARY:Spring Choral Concert
DESCRIPTION:Floyd Community Chorus presents a Spring Choral Concert Sunday May 19\, 3pm at the Presbyterian Church of Floyd\n169 Newtown Rd NE\, Floyd\, VA 24091
URL:https://visitfloydva.com/event/spring-choral-concert/
LOCATION:The Presbyterian Church of Floyd\, 169 Newtown Road NE\, Floyd\, VA\, 24091\, United States
CATEGORIES:Music
ATTACH;FMTTYPE=image/jpeg:https://visitfloydva.com/wp-content/uploads/2024/05/Spring-choir-concert.jpg
ORGANIZER;CN="Moonlight Manor Bed &amp%3B Breakfast":MAILTO:moonlightmanorfloyd.com
END:VEVENT
BEGIN:VEVENT
DTSTART;TZID=America/New_York:20240511T190000
DTEND;TZID=America/New_York:20240511T223000
DTSTAMP:20260420T195523
CREATED:20240506T135704Z
LAST-MODIFIED:20240506T135704Z
UID:10029372-1715454000-1715466600@visitfloydva.com
SUMMARY:Floyd Contra Dance
DESCRIPTION:This is the last dance of the season. The band is Cat Wranglers with Joy Greenwolfe calling. All dance figures are taught by the caller. Beginners and experienced dancers of all ages are welcome. Dress is casual and soft-soled shoes that glide work best. Come to dance or come to listen. No partner needed. \nLesson for beginners at 7:00 pm\nDance 7:30 – 10:30 pm. \nAll are welcome. If you feel sick or were recently exposed to someone with symptoms of an illness that may be contagious\, please stay home and take care of yourself\, so we can see you at our next dance. \nFloyd contra dances are held on the second Saturday from September through May at the Floyd Center for the Arts.
URL:https://visitfloydva.com/event/floyd-contra-dance-23/
LOCATION:Floyd Center for the Arts\, 220 Parkway Lane S\, Floyd\, VA\, 24091\, United States
CATEGORIES:Community,Dance,Entertainment,Family,Kid friendly,Music
ORGANIZER;CN="Blue Ridge Country Dancers":MAILTO:floydcountrydancers@yahoo.com
GEO:36.9039185;-80.3170382
X-APPLE-STRUCTURED-LOCATION;VALUE=URI;X-ADDRESS=Floyd Center for the Arts 220 Parkway Lane S Floyd VA 24091 United States;X-APPLE-RADIUS=500;X-TITLE=220 Parkway Lane S:geo:-80.3170382,36.9039185
END:VEVENT
BEGIN:VEVENT
DTSTART;TZID=America/New_York:20240511T100000
DTEND;TZID=America/New_York:20240511T170000
DTSTAMP:20260420T195523
CREATED:20240403T140609Z
LAST-MODIFIED:20240403T140609Z
UID:10029291-1715421600-1715446800@visitfloydva.com
SUMMARY:Art Blossom: Spring Outdoor Art Sale
DESCRIPTION:Join us at the Floyd Center for the Arts on Saturday\, May 11\, 10am-5pm for our lively outdoor spring arts event. We will be welcoming artist vendors\, live music\, and local food! Art Blossom is a community event that is free and open to the public. Support the talented artists of Floyd and join the community with us for a day full of springtime fun outside on FCA’s campus.
URL:https://visitfloydva.com/event/art-blossom-spring-outdoor-art-sale/
LOCATION:Floyd Center for the Arts\, 220 Parkway Lane S\, Floyd\, VA\, 24091\, United States
CATEGORIES:Arts & Handcraft,Community,Entertainment,Music,Shopping
ATTACH;FMTTYPE=image/png:https://visitfloydva.com/wp-content/uploads/2024/04/EVENT_Art-Blossom-2024.png
GEO:36.9039185;-80.3170382
X-APPLE-STRUCTURED-LOCATION;VALUE=URI;X-ADDRESS=Floyd Center for the Arts 220 Parkway Lane S Floyd VA 24091 United States;X-APPLE-RADIUS=500;X-TITLE=220 Parkway Lane S:geo:-80.3170382,36.9039185
END:VEVENT
END:VCALENDAR