BEGIN:VCALENDAR
VERSION:2.0
PRODID:-//Visit Floyd Virginia - ECPv6.15.20//NONSGML v1.0//EN
CALSCALE:GREGORIAN
METHOD:PUBLISH
X-WR-CALNAME:Visit Floyd Virginia
X-ORIGINAL-URL:https://visitfloydva.com
X-WR-CALDESC:Events for Visit Floyd Virginia
REFRESH-INTERVAL;VALUE=DURATION:PT1H
X-Robots-Tag:noindex
X-PUBLISHED-TTL:PT1H
BEGIN:VTIMEZONE
TZID:America/New_York
BEGIN:DAYLIGHT
TZOFFSETFROM:-0500
TZOFFSETTO:-0400
TZNAME:EDT
DTSTART:20250309T070000
END:DAYLIGHT
BEGIN:STANDARD
TZOFFSETFROM:-0400
TZOFFSETTO:-0500
TZNAME:EST
DTSTART:20251102T060000
END:STANDARD
BEGIN:DAYLIGHT
TZOFFSETFROM:-0500
TZOFFSETTO:-0400
TZNAME:EDT
DTSTART:20260308T070000
END:DAYLIGHT
BEGIN:STANDARD
TZOFFSETFROM:-0400
TZOFFSETTO:-0500
TZNAME:EST
DTSTART:20261101T060000
END:STANDARD
BEGIN:DAYLIGHT
TZOFFSETFROM:-0500
TZOFFSETTO:-0400
TZNAME:EDT
DTSTART:20270314T070000
END:DAYLIGHT
BEGIN:STANDARD
TZOFFSETFROM:-0400
TZOFFSETTO:-0500
TZNAME:EST
DTSTART:20271107T060000
END:STANDARD
END:VTIMEZONE
BEGIN:VEVENT
DTSTART;TZID=America/New_York:20260420T140000
DTEND;TZID=America/New_York:20260420T233000
DTSTAMP:20260420T074744
CREATED:20260323T142459Z
LAST-MODIFIED:20260407T134815Z
UID:10032274-1776693600-1776727800@visitfloydva.com
SUMMARY:420 Celebration: Allen Surface & Rosebud Live
DESCRIPTION:All day and night live entertainment and food at Hippie Hollow. Allen Surface takes the stage at 2:30. Rosebud at 5:30. Food available. BYOB
URL:https://visitfloydva.com/event/420-celebration-rosebud-plus-more/
LOCATION:Hippie Hollow\, 709 Webbs Mill Rd N\, Floyd\, VA\, 24091\, United States
CATEGORIES:Music
ATTACH;FMTTYPE=image/jpeg:https://visitfloydva.com/wp-content/uploads/2026/03/Screenshot_20260203_093413_Messages.jpg
END:VEVENT
BEGIN:VEVENT
DTSTART;TZID=America/New_York:20260426T110000
DTEND;TZID=America/New_York:20260426T140000
DTSTAMP:20260420T074744
CREATED:20260313T160851Z
LAST-MODIFIED:20260313T161023Z
UID:10032261-1777201200-1777212000@visitfloydva.com
SUMMARY:2026 Floyd Empty Bowls
DESCRIPTION:Join Us for a Heartwarming Community Meal – and Support a Great Cause! 🥣❤️ \n📅 Sunday\, April 26 | 🕓 11am-2pm | 📍 Floyd County High School \nPick out a beautiful handmade bowl\, enjoy a delicious meal\, and support weekend meals for local students facing food insecurity.\nFloyd Empty Bowls is back for its 15th year – a beloved annual fundraiser supporting the New River Community Action Floyd County Backpack Program\, which provides over 3\,000 weekend meals to local students each month who might otherwise go hungry. Since 2007\, this program has delivered over 600\,000 meals for children. \n🌾 Each full priced meal ticket* includes:\n✔️ A handcrafted ceramic bowl by local potters (yours to keep!)\n✔️ Hearty soup\, fresh bread\, dessert & beverage (home made soup\, bread\, and dessert are made by volunteers)\n✔️ Live local music and a warm community vibe\n* No-bowl tickets are available for a lower price\, disposable bowls for soup are provided for these tickets \nFor ticket prices and to purchase tickets online\, please visit the “Floyd Empty Bowls” Facebook page or use the link provided in this listing.\nThe backpack program is 100% volunteer-run\, with Floyd Rotary members assembling food packets every Wednesday. With program’s food costs currently around $650 a week\, every ticket and every donation makes a difference.
URL:https://visitfloydva.com/event/2026-floyd-empty-bowls/
LOCATION:Floyd County High School\, 721 Baker Street\, Floyd\, VA\, 24091\, United States
CATEGORIES:Community,Family,Fundraising,Kid friendly,Music
ORGANIZER;CN="Empty Bowls Committee":MAILTO:nrca@nrcaa.org
END:VEVENT
BEGIN:VEVENT
DTSTART;TZID=America/New_York:20260427T183000
DTEND;TZID=America/New_York:20260427T203000
DTSTAMP:20260420T074744
CREATED:20250905T132728Z
LAST-MODIFIED:20250905T132728Z
UID:10030335-1777314600-1777321800@visitfloydva.com
SUMMARY:Shape Note Singing in Floyd
DESCRIPTION:Come sing with us! \nShape note is an American tradition of unaccompanied harmony singing with roots that stretch back into the Colonial period. It takes its name from the musical notation system to aid in sight-singing where notes are written on the page with different shapes\, each corresponding to the degree of the scale. There are no concerts — we sing for the fun of singing! \nTunebooks we sing from are The Sacred Harp (1991/2025 Denson edition)\, The Shenandoah Harmony\, and The Valley Pocket Harmonist. Loaner books are available. All are welcome! No experience with sheet music or singing necessary!
URL:https://visitfloydva.com/event/shape-note-singing-in-floyd-5/2026-04-27/
LOCATION:Springhouse\, 144 Silver Maple Lane\, Pilot\, VA\, 24138\, United States
CATEGORIES:Music
ATTACH;FMTTYPE=image/jpeg:https://visitfloydva.com/wp-content/uploads/2025/09/floyd-sn-1.jpg
GEO:36.9098462;-80.2849966
X-APPLE-STRUCTURED-LOCATION;VALUE=URI;X-ADDRESS=Springhouse 144 Silver Maple Lane Pilot VA 24138 United States;X-APPLE-RADIUS=500;X-TITLE=144 Silver Maple Lane:geo:-80.2849966,36.9098462
END:VEVENT
BEGIN:VEVENT
DTSTART;TZID=America/New_York:20260511T183000
DTEND;TZID=America/New_York:20260511T203000
DTSTAMP:20260420T074744
CREATED:20250905T132640Z
LAST-MODIFIED:20250905T132640Z
UID:10030321-1778524200-1778531400@visitfloydva.com
SUMMARY:Shape Note Singing in Floyd
DESCRIPTION:Come sing with us! \nShape note is an American tradition of unaccompanied harmony singing with roots that stretch back into the Colonial period. It takes its name from the musical notation system to aid in sight-singing where notes are written on the page with different shapes\, each corresponding to the degree of the scale. There are no concerts — we sing for the fun of singing! \nTunebooks we sing from are The Sacred Harp (1991/2025 Denson edition)\, The Shenandoah Harmony\, and The Valley Pocket Harmonist. Loaner books are available. All are welcome! No experience with sheet music or singing necessary!
URL:https://visitfloydva.com/event/shape-note-singing-in-floyd-4/2026-05-11/
LOCATION:The Presbyterian Church of Floyd\, 169 Newtown Road NE\, Floyd\, VA\, 24091\, United States
CATEGORIES:Music
ATTACH;FMTTYPE=image/jpeg:https://visitfloydva.com/wp-content/uploads/2025/09/floyd-sn.jpg
END:VEVENT
BEGIN:VEVENT
DTSTART;TZID=America/New_York:20260525T183000
DTEND;TZID=America/New_York:20260525T203000
DTSTAMP:20260420T074744
CREATED:20250905T132728Z
LAST-MODIFIED:20250905T132728Z
UID:10030336-1779733800-1779741000@visitfloydva.com
SUMMARY:Shape Note Singing in Floyd
DESCRIPTION:Come sing with us! \nShape note is an American tradition of unaccompanied harmony singing with roots that stretch back into the Colonial period. It takes its name from the musical notation system to aid in sight-singing where notes are written on the page with different shapes\, each corresponding to the degree of the scale. There are no concerts — we sing for the fun of singing! \nTunebooks we sing from are The Sacred Harp (1991/2025 Denson edition)\, The Shenandoah Harmony\, and The Valley Pocket Harmonist. Loaner books are available. All are welcome! No experience with sheet music or singing necessary!
URL:https://visitfloydva.com/event/shape-note-singing-in-floyd-5/2026-05-25/
LOCATION:Springhouse\, 144 Silver Maple Lane\, Pilot\, VA\, 24138\, United States
CATEGORIES:Music
ATTACH;FMTTYPE=image/jpeg:https://visitfloydva.com/wp-content/uploads/2025/09/floyd-sn-1.jpg
GEO:36.9098462;-80.2849966
X-APPLE-STRUCTURED-LOCATION;VALUE=URI;X-ADDRESS=Springhouse 144 Silver Maple Lane Pilot VA 24138 United States;X-APPLE-RADIUS=500;X-TITLE=144 Silver Maple Lane:geo:-80.2849966,36.9098462
END:VEVENT
BEGIN:VEVENT
DTSTART;TZID=America/New_York:20260608T183000
DTEND;TZID=America/New_York:20260608T203000
DTSTAMP:20260420T074744
CREATED:20250905T132640Z
LAST-MODIFIED:20250905T132640Z
UID:10030322-1780943400-1780950600@visitfloydva.com
SUMMARY:Shape Note Singing in Floyd
DESCRIPTION:Come sing with us! \nShape note is an American tradition of unaccompanied harmony singing with roots that stretch back into the Colonial period. It takes its name from the musical notation system to aid in sight-singing where notes are written on the page with different shapes\, each corresponding to the degree of the scale. There are no concerts — we sing for the fun of singing! \nTunebooks we sing from are The Sacred Harp (1991/2025 Denson edition)\, The Shenandoah Harmony\, and The Valley Pocket Harmonist. Loaner books are available. All are welcome! No experience with sheet music or singing necessary!
URL:https://visitfloydva.com/event/shape-note-singing-in-floyd-4/2026-06-08/
LOCATION:The Presbyterian Church of Floyd\, 169 Newtown Road NE\, Floyd\, VA\, 24091\, United States
CATEGORIES:Music
ATTACH;FMTTYPE=image/jpeg:https://visitfloydva.com/wp-content/uploads/2025/09/floyd-sn.jpg
END:VEVENT
BEGIN:VEVENT
DTSTART;TZID=America/New_York:20260622T183000
DTEND;TZID=America/New_York:20260622T203000
DTSTAMP:20260420T074744
CREATED:20250905T132728Z
LAST-MODIFIED:20250905T132728Z
UID:10030337-1782153000-1782160200@visitfloydva.com
SUMMARY:Shape Note Singing in Floyd
DESCRIPTION:Come sing with us! \nShape note is an American tradition of unaccompanied harmony singing with roots that stretch back into the Colonial period. It takes its name from the musical notation system to aid in sight-singing where notes are written on the page with different shapes\, each corresponding to the degree of the scale. There are no concerts — we sing for the fun of singing! \nTunebooks we sing from are The Sacred Harp (1991/2025 Denson edition)\, The Shenandoah Harmony\, and The Valley Pocket Harmonist. Loaner books are available. All are welcome! No experience with sheet music or singing necessary!
URL:https://visitfloydva.com/event/shape-note-singing-in-floyd-5/2026-06-22/
LOCATION:Springhouse\, 144 Silver Maple Lane\, Pilot\, VA\, 24138\, United States
CATEGORIES:Music
ATTACH;FMTTYPE=image/jpeg:https://visitfloydva.com/wp-content/uploads/2025/09/floyd-sn-1.jpg
GEO:36.9098462;-80.2849966
X-APPLE-STRUCTURED-LOCATION;VALUE=URI;X-ADDRESS=Springhouse 144 Silver Maple Lane Pilot VA 24138 United States;X-APPLE-RADIUS=500;X-TITLE=144 Silver Maple Lane:geo:-80.2849966,36.9098462
END:VEVENT
BEGIN:VEVENT
DTSTART;VALUE=DATE:20260711
DTEND;VALUE=DATE:20260712
DTSTAMP:20260420T074744
CREATED:20251231T172601Z
LAST-MODIFIED:20251231T172601Z
UID:10031536-1783728000-1783814399@visitfloydva.com
SUMMARY:Replenish Festival
DESCRIPTION:On Saturday\, July 11th\, the festival gates will open to the general public at 12pm. \nVisit our website for all the details on artists\, activities\, food trucks and more! Lots of activities for everyone in the family\, check out the website for all the details and schedule! \nVenue:\nBurnett Farm\, 5430 Indian Valley Road\,Willis\, VA 24380 \nDirections:\nDirections From the West/South: If you are coming from the West or South you will have to come from I-77. Take the Galax/Hillsville/221 exit and head North on 221. You will travel approx 25 miles to a Left on Camp 5 Rd. and travel about 2.8 miles to the stop sign. Take a left on Indian Valley Rd (RT 787) and go 0.6 miles to the Replenish Festival on the Right (just after the big white Barn)! \nFrom the North: Depends on where you are coming from…..if you are coming South on I-81\, use the East directions. There are 2 ways to find Floyd from that direction…either come through Roanoke via I-81 to I-581 to SR221 South to the Floyd Stoplight or via I-81 to the RT 8 South/Floyd/Christiansburg exit to the Floyd Stoplight. If you come Rt8\, about 5 miles before the Town of Floyd\, turn Right on Rt 730 (Ridgeview Rd). Continue to the stop sign on Rt 750 (Alum Ridge Rd). Go straight on Rt 730 (now Duncan’s Chapel) to a Left on RT 787 (Indian Valley Rd). Go 4 miles to the Replenish Festival on the Left! If you are coming down I-77\, use the West/South directions. \nEmail: info@replenishfest.com
URL:https://visitfloydva.com/event/replenish-festival/
LOCATION:Burnett Farm\, 5555 Indian Valley Road\, Willis\, VA\, 24380\, United States
CATEGORIES:Camping,Community,Family,Festivals,Kid friendly,Music
GEO:36.8856031;-80.5322364
X-APPLE-STRUCTURED-LOCATION;VALUE=URI;X-ADDRESS=Burnett Farm 5555 Indian Valley Road Willis VA 24380 United States;X-APPLE-RADIUS=500;X-TITLE=5555 Indian Valley Road:geo:-80.5322364,36.8856031
END:VEVENT
BEGIN:VEVENT
DTSTART;TZID=America/New_York:20260713T183000
DTEND;TZID=America/New_York:20260713T203000
DTSTAMP:20260420T074744
CREATED:20250905T132640Z
LAST-MODIFIED:20250905T132640Z
UID:10030323-1783967400-1783974600@visitfloydva.com
SUMMARY:Shape Note Singing in Floyd
DESCRIPTION:Come sing with us! \nShape note is an American tradition of unaccompanied harmony singing with roots that stretch back into the Colonial period. It takes its name from the musical notation system to aid in sight-singing where notes are written on the page with different shapes\, each corresponding to the degree of the scale. There are no concerts — we sing for the fun of singing! \nTunebooks we sing from are The Sacred Harp (1991/2025 Denson edition)\, The Shenandoah Harmony\, and The Valley Pocket Harmonist. Loaner books are available. All are welcome! No experience with sheet music or singing necessary!
URL:https://visitfloydva.com/event/shape-note-singing-in-floyd-4/2026-07-13/
LOCATION:The Presbyterian Church of Floyd\, 169 Newtown Road NE\, Floyd\, VA\, 24091\, United States
CATEGORIES:Music
ATTACH;FMTTYPE=image/jpeg:https://visitfloydva.com/wp-content/uploads/2025/09/floyd-sn.jpg
END:VEVENT
BEGIN:VEVENT
DTSTART;TZID=America/New_York:20260727T183000
DTEND;TZID=America/New_York:20260727T203000
DTSTAMP:20260420T074744
CREATED:20250905T132728Z
LAST-MODIFIED:20250905T132728Z
UID:10030338-1785177000-1785184200@visitfloydva.com
SUMMARY:Shape Note Singing in Floyd
DESCRIPTION:Come sing with us! \nShape note is an American tradition of unaccompanied harmony singing with roots that stretch back into the Colonial period. It takes its name from the musical notation system to aid in sight-singing where notes are written on the page with different shapes\, each corresponding to the degree of the scale. There are no concerts — we sing for the fun of singing! \nTunebooks we sing from are The Sacred Harp (1991/2025 Denson edition)\, The Shenandoah Harmony\, and The Valley Pocket Harmonist. Loaner books are available. All are welcome! No experience with sheet music or singing necessary!
URL:https://visitfloydva.com/event/shape-note-singing-in-floyd-5/2026-07-27/
LOCATION:Springhouse\, 144 Silver Maple Lane\, Pilot\, VA\, 24138\, United States
CATEGORIES:Music
ATTACH;FMTTYPE=image/jpeg:https://visitfloydva.com/wp-content/uploads/2025/09/floyd-sn-1.jpg
GEO:36.9098462;-80.2849966
X-APPLE-STRUCTURED-LOCATION;VALUE=URI;X-ADDRESS=Springhouse 144 Silver Maple Lane Pilot VA 24138 United States;X-APPLE-RADIUS=500;X-TITLE=144 Silver Maple Lane:geo:-80.2849966,36.9098462
END:VEVENT
BEGIN:VEVENT
DTSTART;TZID=America/New_York:20260810T183000
DTEND;TZID=America/New_York:20260810T203000
DTSTAMP:20260420T074744
CREATED:20250905T132640Z
LAST-MODIFIED:20250905T132640Z
UID:10030324-1786386600-1786393800@visitfloydva.com
SUMMARY:Shape Note Singing in Floyd
DESCRIPTION:Come sing with us! \nShape note is an American tradition of unaccompanied harmony singing with roots that stretch back into the Colonial period. It takes its name from the musical notation system to aid in sight-singing where notes are written on the page with different shapes\, each corresponding to the degree of the scale. There are no concerts — we sing for the fun of singing! \nTunebooks we sing from are The Sacred Harp (1991/2025 Denson edition)\, The Shenandoah Harmony\, and The Valley Pocket Harmonist. Loaner books are available. All are welcome! No experience with sheet music or singing necessary!
URL:https://visitfloydva.com/event/shape-note-singing-in-floyd-4/2026-08-10/
LOCATION:The Presbyterian Church of Floyd\, 169 Newtown Road NE\, Floyd\, VA\, 24091\, United States
CATEGORIES:Music
ATTACH;FMTTYPE=image/jpeg:https://visitfloydva.com/wp-content/uploads/2025/09/floyd-sn.jpg
END:VEVENT
BEGIN:VEVENT
DTSTART;TZID=America/New_York:20260824T183000
DTEND;TZID=America/New_York:20260824T203000
DTSTAMP:20260420T074744
CREATED:20250905T132728Z
LAST-MODIFIED:20250905T132728Z
UID:10030339-1787596200-1787603400@visitfloydva.com
SUMMARY:Shape Note Singing in Floyd
DESCRIPTION:Come sing with us! \nShape note is an American tradition of unaccompanied harmony singing with roots that stretch back into the Colonial period. It takes its name from the musical notation system to aid in sight-singing where notes are written on the page with different shapes\, each corresponding to the degree of the scale. There are no concerts — we sing for the fun of singing! \nTunebooks we sing from are The Sacred Harp (1991/2025 Denson edition)\, The Shenandoah Harmony\, and The Valley Pocket Harmonist. Loaner books are available. All are welcome! No experience with sheet music or singing necessary!
URL:https://visitfloydva.com/event/shape-note-singing-in-floyd-5/2026-08-24/
LOCATION:Springhouse\, 144 Silver Maple Lane\, Pilot\, VA\, 24138\, United States
CATEGORIES:Music
ATTACH;FMTTYPE=image/jpeg:https://visitfloydva.com/wp-content/uploads/2025/09/floyd-sn-1.jpg
GEO:36.9098462;-80.2849966
X-APPLE-STRUCTURED-LOCATION;VALUE=URI;X-ADDRESS=Springhouse 144 Silver Maple Lane Pilot VA 24138 United States;X-APPLE-RADIUS=500;X-TITLE=144 Silver Maple Lane:geo:-80.2849966,36.9098462
END:VEVENT
BEGIN:VEVENT
DTSTART;TZID=America/New_York:20260912T110000
DTEND;TZID=America/New_York:20260912T200000
DTSTAMP:20260420T074744
CREATED:20251014T162334Z
LAST-MODIFIED:20251014T162334Z
UID:10030669-1789210800-1789243200@visitfloydva.com
SUMMARY:Mountain Valor Fest
DESCRIPTION:Mountain Valor Fest is a free\, family-friendly event honoring our nation’s veterans and their families through remembrance\, connection\, and community. The day features live music\, local food trucks\, veteran resource providers\, kids’ activities\, and military displays. At the heart of the festival is a powerful 9/11 Remembrance Ceremony at 4:00 PM\, paying tribute to those we’ve lost and those who’ve served. \nThis annual event draws hundreds of attendees from across rural Virginia\, bringing together veterans\, families\, and neighbors to celebrate service and build stronger communities. \nLearn more at www.mtnvalor.org/fest\nFollow: @MountainValorVeteranServices
URL:https://visitfloydva.com/event/mountain-valor-fest-3/
LOCATION:Crooked Mountain\, 1378 Shooting Creek Rd SE\, Floyd\, VA\, 24091
CATEGORIES:Community,Family,Music
ATTACH;FMTTYPE=image/jpeg:https://visitfloydva.com/wp-content/uploads/2025/10/IMG_1793.jpeg
ORGANIZER;CN="Mountain Valor Veteran Services":MAILTO:mountainvalorvets@gmail.com
END:VEVENT
BEGIN:VEVENT
DTSTART;TZID=America/New_York:20260914T183000
DTEND;TZID=America/New_York:20260914T203000
DTSTAMP:20260420T074744
CREATED:20250905T132640Z
LAST-MODIFIED:20250905T132640Z
UID:10030325-1789410600-1789417800@visitfloydva.com
SUMMARY:Shape Note Singing in Floyd
DESCRIPTION:Come sing with us! \nShape note is an American tradition of unaccompanied harmony singing with roots that stretch back into the Colonial period. It takes its name from the musical notation system to aid in sight-singing where notes are written on the page with different shapes\, each corresponding to the degree of the scale. There are no concerts — we sing for the fun of singing! \nTunebooks we sing from are The Sacred Harp (1991/2025 Denson edition)\, The Shenandoah Harmony\, and The Valley Pocket Harmonist. Loaner books are available. All are welcome! No experience with sheet music or singing necessary!
URL:https://visitfloydva.com/event/shape-note-singing-in-floyd-4/2026-09-14/
LOCATION:The Presbyterian Church of Floyd\, 169 Newtown Road NE\, Floyd\, VA\, 24091\, United States
CATEGORIES:Music
ATTACH;FMTTYPE=image/jpeg:https://visitfloydva.com/wp-content/uploads/2025/09/floyd-sn.jpg
END:VEVENT
BEGIN:VEVENT
DTSTART;TZID=America/New_York:20260928T183000
DTEND;TZID=America/New_York:20260928T203000
DTSTAMP:20260420T074744
CREATED:20250905T132728Z
LAST-MODIFIED:20250905T132728Z
UID:10030340-1790620200-1790627400@visitfloydva.com
SUMMARY:Shape Note Singing in Floyd
DESCRIPTION:Come sing with us! \nShape note is an American tradition of unaccompanied harmony singing with roots that stretch back into the Colonial period. It takes its name from the musical notation system to aid in sight-singing where notes are written on the page with different shapes\, each corresponding to the degree of the scale. There are no concerts — we sing for the fun of singing! \nTunebooks we sing from are The Sacred Harp (1991/2025 Denson edition)\, The Shenandoah Harmony\, and The Valley Pocket Harmonist. Loaner books are available. All are welcome! No experience with sheet music or singing necessary!
URL:https://visitfloydva.com/event/shape-note-singing-in-floyd-5/2026-09-28/
LOCATION:Springhouse\, 144 Silver Maple Lane\, Pilot\, VA\, 24138\, United States
CATEGORIES:Music
ATTACH;FMTTYPE=image/jpeg:https://visitfloydva.com/wp-content/uploads/2025/09/floyd-sn-1.jpg
GEO:36.9098462;-80.2849966
X-APPLE-STRUCTURED-LOCATION;VALUE=URI;X-ADDRESS=Springhouse 144 Silver Maple Lane Pilot VA 24138 United States;X-APPLE-RADIUS=500;X-TITLE=144 Silver Maple Lane:geo:-80.2849966,36.9098462
END:VEVENT
BEGIN:VEVENT
DTSTART;TZID=America/New_York:20261012T183000
DTEND;TZID=America/New_York:20261012T203000
DTSTAMP:20260420T074744
CREATED:20250905T132640Z
LAST-MODIFIED:20250905T132640Z
UID:10030326-1791829800-1791837000@visitfloydva.com
SUMMARY:Shape Note Singing in Floyd
DESCRIPTION:Come sing with us! \nShape note is an American tradition of unaccompanied harmony singing with roots that stretch back into the Colonial period. It takes its name from the musical notation system to aid in sight-singing where notes are written on the page with different shapes\, each corresponding to the degree of the scale. There are no concerts — we sing for the fun of singing! \nTunebooks we sing from are The Sacred Harp (1991/2025 Denson edition)\, The Shenandoah Harmony\, and The Valley Pocket Harmonist. Loaner books are available. All are welcome! No experience with sheet music or singing necessary!
URL:https://visitfloydva.com/event/shape-note-singing-in-floyd-4/2026-10-12/
LOCATION:The Presbyterian Church of Floyd\, 169 Newtown Road NE\, Floyd\, VA\, 24091\, United States
CATEGORIES:Music
ATTACH;FMTTYPE=image/jpeg:https://visitfloydva.com/wp-content/uploads/2025/09/floyd-sn.jpg
END:VEVENT
BEGIN:VEVENT
DTSTART;TZID=America/New_York:20261026T183000
DTEND;TZID=America/New_York:20261026T203000
DTSTAMP:20260420T074744
CREATED:20250905T132728Z
LAST-MODIFIED:20250905T132728Z
UID:10030341-1793039400-1793046600@visitfloydva.com
SUMMARY:Shape Note Singing in Floyd
DESCRIPTION:Come sing with us! \nShape note is an American tradition of unaccompanied harmony singing with roots that stretch back into the Colonial period. It takes its name from the musical notation system to aid in sight-singing where notes are written on the page with different shapes\, each corresponding to the degree of the scale. There are no concerts — we sing for the fun of singing! \nTunebooks we sing from are The Sacred Harp (1991/2025 Denson edition)\, The Shenandoah Harmony\, and The Valley Pocket Harmonist. Loaner books are available. All are welcome! No experience with sheet music or singing necessary!
URL:https://visitfloydva.com/event/shape-note-singing-in-floyd-5/2026-10-26/
LOCATION:Springhouse\, 144 Silver Maple Lane\, Pilot\, VA\, 24138\, United States
CATEGORIES:Music
ATTACH;FMTTYPE=image/jpeg:https://visitfloydva.com/wp-content/uploads/2025/09/floyd-sn-1.jpg
GEO:36.9098462;-80.2849966
X-APPLE-STRUCTURED-LOCATION;VALUE=URI;X-ADDRESS=Springhouse 144 Silver Maple Lane Pilot VA 24138 United States;X-APPLE-RADIUS=500;X-TITLE=144 Silver Maple Lane:geo:-80.2849966,36.9098462
END:VEVENT
BEGIN:VEVENT
DTSTART;TZID=America/New_York:20261109T183000
DTEND;TZID=America/New_York:20261109T203000
DTSTAMP:20260420T074744
CREATED:20250905T132640Z
LAST-MODIFIED:20250905T132640Z
UID:10030327-1794249000-1794256200@visitfloydva.com
SUMMARY:Shape Note Singing in Floyd
DESCRIPTION:Come sing with us! \nShape note is an American tradition of unaccompanied harmony singing with roots that stretch back into the Colonial period. It takes its name from the musical notation system to aid in sight-singing where notes are written on the page with different shapes\, each corresponding to the degree of the scale. There are no concerts — we sing for the fun of singing! \nTunebooks we sing from are The Sacred Harp (1991/2025 Denson edition)\, The Shenandoah Harmony\, and The Valley Pocket Harmonist. Loaner books are available. All are welcome! No experience with sheet music or singing necessary!
URL:https://visitfloydva.com/event/shape-note-singing-in-floyd-4/2026-11-09/
LOCATION:The Presbyterian Church of Floyd\, 169 Newtown Road NE\, Floyd\, VA\, 24091\, United States
CATEGORIES:Music
ATTACH;FMTTYPE=image/jpeg:https://visitfloydva.com/wp-content/uploads/2025/09/floyd-sn.jpg
END:VEVENT
BEGIN:VEVENT
DTSTART;TZID=America/New_York:20261123T183000
DTEND;TZID=America/New_York:20261123T203000
DTSTAMP:20260420T074744
CREATED:20250905T132728Z
LAST-MODIFIED:20250905T132728Z
UID:10030342-1795458600-1795465800@visitfloydva.com
SUMMARY:Shape Note Singing in Floyd
DESCRIPTION:Come sing with us! \nShape note is an American tradition of unaccompanied harmony singing with roots that stretch back into the Colonial period. It takes its name from the musical notation system to aid in sight-singing where notes are written on the page with different shapes\, each corresponding to the degree of the scale. There are no concerts — we sing for the fun of singing! \nTunebooks we sing from are The Sacred Harp (1991/2025 Denson edition)\, The Shenandoah Harmony\, and The Valley Pocket Harmonist. Loaner books are available. All are welcome! No experience with sheet music or singing necessary!
URL:https://visitfloydva.com/event/shape-note-singing-in-floyd-5/2026-11-23/
LOCATION:Springhouse\, 144 Silver Maple Lane\, Pilot\, VA\, 24138\, United States
CATEGORIES:Music
ATTACH;FMTTYPE=image/jpeg:https://visitfloydva.com/wp-content/uploads/2025/09/floyd-sn-1.jpg
GEO:36.9098462;-80.2849966
X-APPLE-STRUCTURED-LOCATION;VALUE=URI;X-ADDRESS=Springhouse 144 Silver Maple Lane Pilot VA 24138 United States;X-APPLE-RADIUS=500;X-TITLE=144 Silver Maple Lane:geo:-80.2849966,36.9098462
END:VEVENT
END:VCALENDAR