BEGIN:VCALENDAR
VERSION:2.0
PRODID:-//Visit Floyd Virginia - ECPv6.15.20//NONSGML v1.0//EN
CALSCALE:GREGORIAN
METHOD:PUBLISH
X-ORIGINAL-URL:https://visitfloydva.com
X-WR-CALDESC:Events for Visit Floyd Virginia
REFRESH-INTERVAL;VALUE=DURATION:PT1H
X-Robots-Tag:noindex
X-PUBLISHED-TTL:PT1H
BEGIN:VTIMEZONE
TZID:America/New_York
BEGIN:DAYLIGHT
TZOFFSETFROM:-0500
TZOFFSETTO:-0400
TZNAME:EDT
DTSTART:20240310T070000
END:DAYLIGHT
BEGIN:STANDARD
TZOFFSETFROM:-0400
TZOFFSETTO:-0500
TZNAME:EST
DTSTART:20241103T060000
END:STANDARD
BEGIN:DAYLIGHT
TZOFFSETFROM:-0500
TZOFFSETTO:-0400
TZNAME:EDT
DTSTART:20250309T070000
END:DAYLIGHT
BEGIN:STANDARD
TZOFFSETFROM:-0400
TZOFFSETTO:-0500
TZNAME:EST
DTSTART:20251102T060000
END:STANDARD
BEGIN:DAYLIGHT
TZOFFSETFROM:-0500
TZOFFSETTO:-0400
TZNAME:EDT
DTSTART:20260308T070000
END:DAYLIGHT
BEGIN:STANDARD
TZOFFSETFROM:-0400
TZOFFSETTO:-0500
TZNAME:EST
DTSTART:20261101T060000
END:STANDARD
END:VTIMEZONE
BEGIN:VEVENT
DTSTART;TZID=America/New_York:20251102T133000
DTEND;TZID=America/New_York:20251102T173000
DTSTAMP:20260420T184452
CREATED:20250109T184230Z
LAST-MODIFIED:20250814T142054Z
UID:10028149-1762090200-1762104600@visitfloydva.com
SUMMARY:Sunday Music Jam
DESCRIPTION:Every Sunday afternoon The Floyd Country Store comes alive with community music during our old time and bluegrass music jams. Bring your instrument and join in the music or grab some food and be our audience! The jam is open and free for everyone. \n12:00pm – 1:00pm: Old-Time Beginner Jam in the Floyd Country Store Community Room\n1:30pm – 3:30pm: Old-Time Music Jam\n4:00pm – 5:30pm: Bluegrass Jam \nJoin us for old time beginner jams from 12:00 to 1:00 in the Floyd Country Store Community Room. The old time jam session starts at 1:30 and is hosted by a different string band each week\, leading tunes at a moderate speed. Traditional instruments and dancers welcome! At 4:00 the bluegrass jam kicks off\, with hosts who lead the group in bluegrass songs and tunes. Song selections and solos pass around the circle. Sunday Music Jams are a great way to see traditional music the way it has been played and handed down for centuries\, amongst friends and family in a community setting.
URL:https://visitfloydva.com/event/sunday-music-jam-8/2025-11-02/
LOCATION:Floyd Country Store
CATEGORIES:Dance,Kid friendly,Music
GEO:36.9103975;-80.3202795
END:VEVENT
BEGIN:VEVENT
DTSTART;TZID=America/New_York:20251107T120000
DTEND;TZID=America/New_York:20251107T160000
DTSTAMP:20260420T184452
CREATED:20250707T140731Z
LAST-MODIFIED:20251107T161421Z
UID:10030188-1762516800-1762531200@visitfloydva.com
SUMMARY:Music of the Mountains Exhibit
DESCRIPTION:The Music of the Mountains exhibit at the Floyd Historical Society museum focuses on the music of Appalachia\, particularly music that has a Floyd County touch. It includes items that range from early church music to the present music scene\, along with information about individual musicians such as Blind Alfred Reed\, Randall Hylton\, Arthur Conner\, as well as local groups. \nThe Museum is open each Friday and Saturday (through December 6) from noon until 4 pm. There is no admission fee. \nThe Museum Store specializes in books with a focus on local history. We also have a variety of other items\, many of them perfect for gifting history lovers. \nCome visit us in person while you’re in Floyd. There’s a friendly docent awaiting. And visit our website year-round; it’s always open and you can shop from wherever you are!
URL:https://visitfloydva.com/event/music-of-the-mountains-exhibit/2025-11-07/
LOCATION:Floyd County Historical Society Museum\, 217 North Locust St.\, Floyd\, VA\, 24091\, United States
CATEGORIES:Arts & Handcraft,Education,Family,Historic,Music
ATTACH;FMTTYPE=image/jpeg:https://visitfloydva.com/wp-content/uploads/2025/07/mountain-music-exhibit-collage.jpg
ORGANIZER;CN="Floyd County Historical Society":MAILTO:floydhistoricalsociety@gmail.com
GEO:36.913873;-80.320442
X-APPLE-STRUCTURED-LOCATION;VALUE=URI;X-ADDRESS=Floyd County Historical Society Museum 217 North Locust St. Floyd VA 24091 United States;X-APPLE-RADIUS=500;X-TITLE=217 North Locust St.:geo:-80.320442,36.913873
END:VEVENT
BEGIN:VEVENT
DTSTART;TZID=America/New_York:20251108T120000
DTEND;TZID=America/New_York:20251108T160000
DTSTAMP:20260420T184452
CREATED:20250707T140731Z
LAST-MODIFIED:20251107T161421Z
UID:10030189-1762603200-1762617600@visitfloydva.com
SUMMARY:Music of the Mountains Exhibit
DESCRIPTION:The Music of the Mountains exhibit at the Floyd Historical Society museum focuses on the music of Appalachia\, particularly music that has a Floyd County touch. It includes items that range from early church music to the present music scene\, along with information about individual musicians such as Blind Alfred Reed\, Randall Hylton\, Arthur Conner\, as well as local groups. \nThe Museum is open each Friday and Saturday (through December 6) from noon until 4 pm. There is no admission fee. \nThe Museum Store specializes in books with a focus on local history. We also have a variety of other items\, many of them perfect for gifting history lovers. \nCome visit us in person while you’re in Floyd. There’s a friendly docent awaiting. And visit our website year-round; it’s always open and you can shop from wherever you are!
URL:https://visitfloydva.com/event/music-of-the-mountains-exhibit/2025-11-08/
LOCATION:Floyd County Historical Society Museum\, 217 North Locust St.\, Floyd\, VA\, 24091\, United States
CATEGORIES:Arts & Handcraft,Education,Family,Historic,Music
ATTACH;FMTTYPE=image/jpeg:https://visitfloydva.com/wp-content/uploads/2025/07/mountain-music-exhibit-collage.jpg
ORGANIZER;CN="Floyd County Historical Society":MAILTO:floydhistoricalsociety@gmail.com
GEO:36.913873;-80.320442
X-APPLE-STRUCTURED-LOCATION;VALUE=URI;X-ADDRESS=Floyd County Historical Society Museum 217 North Locust St. Floyd VA 24091 United States;X-APPLE-RADIUS=500;X-TITLE=217 North Locust St.:geo:-80.320442,36.913873
END:VEVENT
BEGIN:VEVENT
DTSTART;TZID=America/New_York:20251108T190000
DTEND;TZID=America/New_York:20251108T223000
DTSTAMP:20260420T184452
CREATED:20251103T145358Z
LAST-MODIFIED:20251103T145358Z
UID:10030777-1762628400-1762641000@visitfloydva.com
SUMMARY:Floyd Contra Dance
DESCRIPTION:Jim Harrington and Rya Martin will be playing and Charlotte Critten will be calling. \nBeginner lesson: 7:00 PM\nDance: 7:30 – 10:30 PM\nAdmission: $10\, Students $5\, Children under 12 – FREE\nPlace – Floyd Center for the Arts\, 220 Parkway Lane South\, Floyd\, VA \nAll are welcome. All dances are walked through before being danced. Floyd Contra Dance occurs on the second Saturday from September through May.
URL:https://visitfloydva.com/event/floyd-contra-dance-2/
LOCATION:Floyd Center for the Arts\, 220 Parkway Lane S\, Floyd\, VA\, 24091\, United States
CATEGORIES:Community,Dance,Entertainment,Family,Music
GEO:36.9039185;-80.3170382
X-APPLE-STRUCTURED-LOCATION;VALUE=URI;X-ADDRESS=Floyd Center for the Arts 220 Parkway Lane S Floyd VA 24091 United States;X-APPLE-RADIUS=500;X-TITLE=220 Parkway Lane S:geo:-80.3170382,36.9039185
END:VEVENT
BEGIN:VEVENT
DTSTART;TZID=America/New_York:20251109T133000
DTEND;TZID=America/New_York:20251109T173000
DTSTAMP:20260420T184452
CREATED:20250109T184230Z
LAST-MODIFIED:20250814T142054Z
UID:10028150-1762695000-1762709400@visitfloydva.com
SUMMARY:Sunday Music Jam
DESCRIPTION:Every Sunday afternoon The Floyd Country Store comes alive with community music during our old time and bluegrass music jams. Bring your instrument and join in the music or grab some food and be our audience! The jam is open and free for everyone. \n12:00pm – 1:00pm: Old-Time Beginner Jam in the Floyd Country Store Community Room\n1:30pm – 3:30pm: Old-Time Music Jam\n4:00pm – 5:30pm: Bluegrass Jam \nJoin us for old time beginner jams from 12:00 to 1:00 in the Floyd Country Store Community Room. The old time jam session starts at 1:30 and is hosted by a different string band each week\, leading tunes at a moderate speed. Traditional instruments and dancers welcome! At 4:00 the bluegrass jam kicks off\, with hosts who lead the group in bluegrass songs and tunes. Song selections and solos pass around the circle. Sunday Music Jams are a great way to see traditional music the way it has been played and handed down for centuries\, amongst friends and family in a community setting.
URL:https://visitfloydva.com/event/sunday-music-jam-8/2025-11-09/
LOCATION:Floyd Country Store
CATEGORIES:Dance,Kid friendly,Music
GEO:36.9103975;-80.3202795
END:VEVENT
BEGIN:VEVENT
DTSTART;TZID=America/New_York:20251110T183000
DTEND;TZID=America/New_York:20251110T203000
DTSTAMP:20260420T184452
CREATED:20250905T132640Z
LAST-MODIFIED:20250905T132640Z
UID:10030315-1762799400-1762806600@visitfloydva.com
SUMMARY:Shape Note Singing in Floyd
DESCRIPTION:Come sing with us! \nShape note is an American tradition of unaccompanied harmony singing with roots that stretch back into the Colonial period. It takes its name from the musical notation system to aid in sight-singing where notes are written on the page with different shapes\, each corresponding to the degree of the scale. There are no concerts — we sing for the fun of singing! \nTunebooks we sing from are The Sacred Harp (1991/2025 Denson edition)\, The Shenandoah Harmony\, and The Valley Pocket Harmonist. Loaner books are available. All are welcome! No experience with sheet music or singing necessary!
URL:https://visitfloydva.com/event/shape-note-singing-in-floyd-4/2025-11-10/
LOCATION:The Presbyterian Church of Floyd\, 169 Newtown Road NE\, Floyd\, VA\, 24091\, United States
CATEGORIES:Music
ATTACH;FMTTYPE=image/jpeg:https://visitfloydva.com/wp-content/uploads/2025/09/floyd-sn.jpg
END:VEVENT
BEGIN:VEVENT
DTSTART;TZID=America/New_York:20251114T120000
DTEND;TZID=America/New_York:20251114T160000
DTSTAMP:20260420T184452
CREATED:20250707T140731Z
LAST-MODIFIED:20251107T161421Z
UID:10030190-1763121600-1763136000@visitfloydva.com
SUMMARY:Music of the Mountains Exhibit
DESCRIPTION:The Music of the Mountains exhibit at the Floyd Historical Society museum focuses on the music of Appalachia\, particularly music that has a Floyd County touch. It includes items that range from early church music to the present music scene\, along with information about individual musicians such as Blind Alfred Reed\, Randall Hylton\, Arthur Conner\, as well as local groups. \nThe Museum is open each Friday and Saturday (through December 6) from noon until 4 pm. There is no admission fee. \nThe Museum Store specializes in books with a focus on local history. We also have a variety of other items\, many of them perfect for gifting history lovers. \nCome visit us in person while you’re in Floyd. There’s a friendly docent awaiting. And visit our website year-round; it’s always open and you can shop from wherever you are!
URL:https://visitfloydva.com/event/music-of-the-mountains-exhibit/2025-11-14/
LOCATION:Floyd County Historical Society Museum\, 217 North Locust St.\, Floyd\, VA\, 24091\, United States
CATEGORIES:Arts & Handcraft,Education,Family,Historic,Music
ATTACH;FMTTYPE=image/jpeg:https://visitfloydva.com/wp-content/uploads/2025/07/mountain-music-exhibit-collage.jpg
ORGANIZER;CN="Floyd County Historical Society":MAILTO:floydhistoricalsociety@gmail.com
GEO:36.913873;-80.320442
X-APPLE-STRUCTURED-LOCATION;VALUE=URI;X-ADDRESS=Floyd County Historical Society Museum 217 North Locust St. Floyd VA 24091 United States;X-APPLE-RADIUS=500;X-TITLE=217 North Locust St.:geo:-80.320442,36.913873
END:VEVENT
BEGIN:VEVENT
DTSTART;TZID=America/New_York:20251115T120000
DTEND;TZID=America/New_York:20251115T160000
DTSTAMP:20260420T184452
CREATED:20250707T140731Z
LAST-MODIFIED:20251107T161421Z
UID:10030191-1763208000-1763222400@visitfloydva.com
SUMMARY:Music of the Mountains Exhibit
DESCRIPTION:The Music of the Mountains exhibit at the Floyd Historical Society museum focuses on the music of Appalachia\, particularly music that has a Floyd County touch. It includes items that range from early church music to the present music scene\, along with information about individual musicians such as Blind Alfred Reed\, Randall Hylton\, Arthur Conner\, as well as local groups. \nThe Museum is open each Friday and Saturday (through December 6) from noon until 4 pm. There is no admission fee. \nThe Museum Store specializes in books with a focus on local history. We also have a variety of other items\, many of them perfect for gifting history lovers. \nCome visit us in person while you’re in Floyd. There’s a friendly docent awaiting. And visit our website year-round; it’s always open and you can shop from wherever you are!
URL:https://visitfloydva.com/event/music-of-the-mountains-exhibit/2025-11-15/
LOCATION:Floyd County Historical Society Museum\, 217 North Locust St.\, Floyd\, VA\, 24091\, United States
CATEGORIES:Arts & Handcraft,Education,Family,Historic,Music
ATTACH;FMTTYPE=image/jpeg:https://visitfloydva.com/wp-content/uploads/2025/07/mountain-music-exhibit-collage.jpg
ORGANIZER;CN="Floyd County Historical Society":MAILTO:floydhistoricalsociety@gmail.com
GEO:36.913873;-80.320442
X-APPLE-STRUCTURED-LOCATION;VALUE=URI;X-ADDRESS=Floyd County Historical Society Museum 217 North Locust St. Floyd VA 24091 United States;X-APPLE-RADIUS=500;X-TITLE=217 North Locust St.:geo:-80.320442,36.913873
END:VEVENT
BEGIN:VEVENT
DTSTART;TZID=America/New_York:20251116T133000
DTEND;TZID=America/New_York:20251116T173000
DTSTAMP:20260420T184452
CREATED:20250109T184230Z
LAST-MODIFIED:20250814T142054Z
UID:10028151-1763299800-1763314200@visitfloydva.com
SUMMARY:Sunday Music Jam
DESCRIPTION:Every Sunday afternoon The Floyd Country Store comes alive with community music during our old time and bluegrass music jams. Bring your instrument and join in the music or grab some food and be our audience! The jam is open and free for everyone. \n12:00pm – 1:00pm: Old-Time Beginner Jam in the Floyd Country Store Community Room\n1:30pm – 3:30pm: Old-Time Music Jam\n4:00pm – 5:30pm: Bluegrass Jam \nJoin us for old time beginner jams from 12:00 to 1:00 in the Floyd Country Store Community Room. The old time jam session starts at 1:30 and is hosted by a different string band each week\, leading tunes at a moderate speed. Traditional instruments and dancers welcome! At 4:00 the bluegrass jam kicks off\, with hosts who lead the group in bluegrass songs and tunes. Song selections and solos pass around the circle. Sunday Music Jams are a great way to see traditional music the way it has been played and handed down for centuries\, amongst friends and family in a community setting.
URL:https://visitfloydva.com/event/sunday-music-jam-8/2025-11-16/
LOCATION:Floyd Country Store
CATEGORIES:Dance,Kid friendly,Music
GEO:36.9103975;-80.3202795
END:VEVENT
BEGIN:VEVENT
DTSTART;TZID=America/New_York:20251121T120000
DTEND;TZID=America/New_York:20251121T160000
DTSTAMP:20260420T184452
CREATED:20250707T140731Z
LAST-MODIFIED:20251107T161421Z
UID:10030192-1763726400-1763740800@visitfloydva.com
SUMMARY:Music of the Mountains Exhibit
DESCRIPTION:The Music of the Mountains exhibit at the Floyd Historical Society museum focuses on the music of Appalachia\, particularly music that has a Floyd County touch. It includes items that range from early church music to the present music scene\, along with information about individual musicians such as Blind Alfred Reed\, Randall Hylton\, Arthur Conner\, as well as local groups. \nThe Museum is open each Friday and Saturday (through December 6) from noon until 4 pm. There is no admission fee. \nThe Museum Store specializes in books with a focus on local history. We also have a variety of other items\, many of them perfect for gifting history lovers. \nCome visit us in person while you’re in Floyd. There’s a friendly docent awaiting. And visit our website year-round; it’s always open and you can shop from wherever you are!
URL:https://visitfloydva.com/event/music-of-the-mountains-exhibit/2025-11-21/
LOCATION:Floyd County Historical Society Museum\, 217 North Locust St.\, Floyd\, VA\, 24091\, United States
CATEGORIES:Arts & Handcraft,Education,Family,Historic,Music
ATTACH;FMTTYPE=image/jpeg:https://visitfloydva.com/wp-content/uploads/2025/07/mountain-music-exhibit-collage.jpg
ORGANIZER;CN="Floyd County Historical Society":MAILTO:floydhistoricalsociety@gmail.com
GEO:36.913873;-80.320442
X-APPLE-STRUCTURED-LOCATION;VALUE=URI;X-ADDRESS=Floyd County Historical Society Museum 217 North Locust St. Floyd VA 24091 United States;X-APPLE-RADIUS=500;X-TITLE=217 North Locust St.:geo:-80.320442,36.913873
END:VEVENT
BEGIN:VEVENT
DTSTART;TZID=America/New_York:20251122T120000
DTEND;TZID=America/New_York:20251122T160000
DTSTAMP:20260420T184452
CREATED:20250707T140731Z
LAST-MODIFIED:20251107T161421Z
UID:10030193-1763812800-1763827200@visitfloydva.com
SUMMARY:Music of the Mountains Exhibit
DESCRIPTION:The Music of the Mountains exhibit at the Floyd Historical Society museum focuses on the music of Appalachia\, particularly music that has a Floyd County touch. It includes items that range from early church music to the present music scene\, along with information about individual musicians such as Blind Alfred Reed\, Randall Hylton\, Arthur Conner\, as well as local groups. \nThe Museum is open each Friday and Saturday (through December 6) from noon until 4 pm. There is no admission fee. \nThe Museum Store specializes in books with a focus on local history. We also have a variety of other items\, many of them perfect for gifting history lovers. \nCome visit us in person while you’re in Floyd. There’s a friendly docent awaiting. And visit our website year-round; it’s always open and you can shop from wherever you are!
URL:https://visitfloydva.com/event/music-of-the-mountains-exhibit/2025-11-22/
LOCATION:Floyd County Historical Society Museum\, 217 North Locust St.\, Floyd\, VA\, 24091\, United States
CATEGORIES:Arts & Handcraft,Education,Family,Historic,Music
ATTACH;FMTTYPE=image/jpeg:https://visitfloydva.com/wp-content/uploads/2025/07/mountain-music-exhibit-collage.jpg
ORGANIZER;CN="Floyd County Historical Society":MAILTO:floydhistoricalsociety@gmail.com
GEO:36.913873;-80.320442
X-APPLE-STRUCTURED-LOCATION;VALUE=URI;X-ADDRESS=Floyd County Historical Society Museum 217 North Locust St. Floyd VA 24091 United States;X-APPLE-RADIUS=500;X-TITLE=217 North Locust St.:geo:-80.320442,36.913873
END:VEVENT
BEGIN:VEVENT
DTSTART;TZID=America/New_York:20251123T133000
DTEND;TZID=America/New_York:20251123T173000
DTSTAMP:20260420T184452
CREATED:20250109T184230Z
LAST-MODIFIED:20250814T142054Z
UID:10028152-1763904600-1763919000@visitfloydva.com
SUMMARY:Sunday Music Jam
DESCRIPTION:Every Sunday afternoon The Floyd Country Store comes alive with community music during our old time and bluegrass music jams. Bring your instrument and join in the music or grab some food and be our audience! The jam is open and free for everyone. \n12:00pm – 1:00pm: Old-Time Beginner Jam in the Floyd Country Store Community Room\n1:30pm – 3:30pm: Old-Time Music Jam\n4:00pm – 5:30pm: Bluegrass Jam \nJoin us for old time beginner jams from 12:00 to 1:00 in the Floyd Country Store Community Room. The old time jam session starts at 1:30 and is hosted by a different string band each week\, leading tunes at a moderate speed. Traditional instruments and dancers welcome! At 4:00 the bluegrass jam kicks off\, with hosts who lead the group in bluegrass songs and tunes. Song selections and solos pass around the circle. Sunday Music Jams are a great way to see traditional music the way it has been played and handed down for centuries\, amongst friends and family in a community setting.
URL:https://visitfloydva.com/event/sunday-music-jam-8/2025-11-23/
LOCATION:Floyd Country Store
CATEGORIES:Dance,Kid friendly,Music
GEO:36.9103975;-80.3202795
END:VEVENT
BEGIN:VEVENT
DTSTART;TZID=America/New_York:20251124T183000
DTEND;TZID=America/New_York:20251124T203000
DTSTAMP:20260420T184452
CREATED:20250905T132728Z
LAST-MODIFIED:20250905T132728Z
UID:10030330-1764009000-1764016200@visitfloydva.com
SUMMARY:Shape Note Singing in Floyd
DESCRIPTION:Come sing with us! \nShape note is an American tradition of unaccompanied harmony singing with roots that stretch back into the Colonial period. It takes its name from the musical notation system to aid in sight-singing where notes are written on the page with different shapes\, each corresponding to the degree of the scale. There are no concerts — we sing for the fun of singing! \nTunebooks we sing from are The Sacred Harp (1991/2025 Denson edition)\, The Shenandoah Harmony\, and The Valley Pocket Harmonist. Loaner books are available. All are welcome! No experience with sheet music or singing necessary!
URL:https://visitfloydva.com/event/shape-note-singing-in-floyd-5/2025-11-24/
LOCATION:Springhouse\, 144 Silver Maple Lane\, Pilot\, VA\, 24138\, United States
CATEGORIES:Music
ATTACH;FMTTYPE=image/jpeg:https://visitfloydva.com/wp-content/uploads/2025/09/floyd-sn-1.jpg
GEO:36.9098462;-80.2849966
X-APPLE-STRUCTURED-LOCATION;VALUE=URI;X-ADDRESS=Springhouse 144 Silver Maple Lane Pilot VA 24138 United States;X-APPLE-RADIUS=500;X-TITLE=144 Silver Maple Lane:geo:-80.2849966,36.9098462
END:VEVENT
BEGIN:VEVENT
DTSTART;TZID=America/New_York:20251128T120000
DTEND;TZID=America/New_York:20251128T160000
DTSTAMP:20260420T184452
CREATED:20250707T140731Z
LAST-MODIFIED:20251107T161421Z
UID:10030194-1764331200-1764345600@visitfloydva.com
SUMMARY:Music of the Mountains Exhibit
DESCRIPTION:The Music of the Mountains exhibit at the Floyd Historical Society museum focuses on the music of Appalachia\, particularly music that has a Floyd County touch. It includes items that range from early church music to the present music scene\, along with information about individual musicians such as Blind Alfred Reed\, Randall Hylton\, Arthur Conner\, as well as local groups. \nThe Museum is open each Friday and Saturday (through December 6) from noon until 4 pm. There is no admission fee. \nThe Museum Store specializes in books with a focus on local history. We also have a variety of other items\, many of them perfect for gifting history lovers. \nCome visit us in person while you’re in Floyd. There’s a friendly docent awaiting. And visit our website year-round; it’s always open and you can shop from wherever you are!
URL:https://visitfloydva.com/event/music-of-the-mountains-exhibit/2025-11-28/
LOCATION:Floyd County Historical Society Museum\, 217 North Locust St.\, Floyd\, VA\, 24091\, United States
CATEGORIES:Arts & Handcraft,Education,Family,Historic,Music
ATTACH;FMTTYPE=image/jpeg:https://visitfloydva.com/wp-content/uploads/2025/07/mountain-music-exhibit-collage.jpg
ORGANIZER;CN="Floyd County Historical Society":MAILTO:floydhistoricalsociety@gmail.com
GEO:36.913873;-80.320442
X-APPLE-STRUCTURED-LOCATION;VALUE=URI;X-ADDRESS=Floyd County Historical Society Museum 217 North Locust St. Floyd VA 24091 United States;X-APPLE-RADIUS=500;X-TITLE=217 North Locust St.:geo:-80.320442,36.913873
END:VEVENT
BEGIN:VEVENT
DTSTART;TZID=America/New_York:20251129T120000
DTEND;TZID=America/New_York:20251129T160000
DTSTAMP:20260420T184452
CREATED:20250707T140731Z
LAST-MODIFIED:20251107T161421Z
UID:10030195-1764417600-1764432000@visitfloydva.com
SUMMARY:Music of the Mountains Exhibit
DESCRIPTION:The Music of the Mountains exhibit at the Floyd Historical Society museum focuses on the music of Appalachia\, particularly music that has a Floyd County touch. It includes items that range from early church music to the present music scene\, along with information about individual musicians such as Blind Alfred Reed\, Randall Hylton\, Arthur Conner\, as well as local groups. \nThe Museum is open each Friday and Saturday (through December 6) from noon until 4 pm. There is no admission fee. \nThe Museum Store specializes in books with a focus on local history. We also have a variety of other items\, many of them perfect for gifting history lovers. \nCome visit us in person while you’re in Floyd. There’s a friendly docent awaiting. And visit our website year-round; it’s always open and you can shop from wherever you are!
URL:https://visitfloydva.com/event/music-of-the-mountains-exhibit/2025-11-29/
LOCATION:Floyd County Historical Society Museum\, 217 North Locust St.\, Floyd\, VA\, 24091\, United States
CATEGORIES:Arts & Handcraft,Education,Family,Historic,Music
ATTACH;FMTTYPE=image/jpeg:https://visitfloydva.com/wp-content/uploads/2025/07/mountain-music-exhibit-collage.jpg
ORGANIZER;CN="Floyd County Historical Society":MAILTO:floydhistoricalsociety@gmail.com
GEO:36.913873;-80.320442
X-APPLE-STRUCTURED-LOCATION;VALUE=URI;X-ADDRESS=Floyd County Historical Society Museum 217 North Locust St. Floyd VA 24091 United States;X-APPLE-RADIUS=500;X-TITLE=217 North Locust St.:geo:-80.320442,36.913873
END:VEVENT
BEGIN:VEVENT
DTSTART;TZID=America/New_York:20251130T133000
DTEND;TZID=America/New_York:20251130T173000
DTSTAMP:20260420T184452
CREATED:20250109T184230Z
LAST-MODIFIED:20250814T142054Z
UID:10028153-1764509400-1764523800@visitfloydva.com
SUMMARY:Sunday Music Jam
DESCRIPTION:Every Sunday afternoon The Floyd Country Store comes alive with community music during our old time and bluegrass music jams. Bring your instrument and join in the music or grab some food and be our audience! The jam is open and free for everyone. \n12:00pm – 1:00pm: Old-Time Beginner Jam in the Floyd Country Store Community Room\n1:30pm – 3:30pm: Old-Time Music Jam\n4:00pm – 5:30pm: Bluegrass Jam \nJoin us for old time beginner jams from 12:00 to 1:00 in the Floyd Country Store Community Room. The old time jam session starts at 1:30 and is hosted by a different string band each week\, leading tunes at a moderate speed. Traditional instruments and dancers welcome! At 4:00 the bluegrass jam kicks off\, with hosts who lead the group in bluegrass songs and tunes. Song selections and solos pass around the circle. Sunday Music Jams are a great way to see traditional music the way it has been played and handed down for centuries\, amongst friends and family in a community setting.
URL:https://visitfloydva.com/event/sunday-music-jam-8/2025-11-30/
LOCATION:Floyd Country Store
CATEGORIES:Dance,Kid friendly,Music
GEO:36.9103975;-80.3202795
END:VEVENT
END:VCALENDAR