BEGIN:VCALENDAR
VERSION:2.0
PRODID:-//Visit Floyd Virginia - ECPv6.15.20//NONSGML v1.0//EN
CALSCALE:GREGORIAN
METHOD:PUBLISH
X-ORIGINAL-URL:https://visitfloydva.com
X-WR-CALDESC:Events for Visit Floyd Virginia
REFRESH-INTERVAL;VALUE=DURATION:PT1H
X-Robots-Tag:noindex
X-PUBLISHED-TTL:PT1H
BEGIN:VTIMEZONE
TZID:America/New_York
BEGIN:DAYLIGHT
TZOFFSETFROM:-0500
TZOFFSETTO:-0400
TZNAME:EDT
DTSTART:20240310T070000
END:DAYLIGHT
BEGIN:STANDARD
TZOFFSETFROM:-0400
TZOFFSETTO:-0500
TZNAME:EST
DTSTART:20241103T060000
END:STANDARD
BEGIN:DAYLIGHT
TZOFFSETFROM:-0500
TZOFFSETTO:-0400
TZNAME:EDT
DTSTART:20250309T070000
END:DAYLIGHT
BEGIN:STANDARD
TZOFFSETFROM:-0400
TZOFFSETTO:-0500
TZNAME:EST
DTSTART:20251102T060000
END:STANDARD
BEGIN:DAYLIGHT
TZOFFSETFROM:-0500
TZOFFSETTO:-0400
TZNAME:EDT
DTSTART:20260308T070000
END:DAYLIGHT
BEGIN:STANDARD
TZOFFSETFROM:-0400
TZOFFSETTO:-0500
TZNAME:EST
DTSTART:20261101T060000
END:STANDARD
END:VTIMEZONE
BEGIN:VEVENT
DTSTART;TZID=America/New_York:20250706T133000
DTEND;TZID=America/New_York:20250706T173000
DTSTAMP:20260421T014922
CREATED:20250109T184230Z
LAST-MODIFIED:20250814T142054Z
UID:10028132-1751808600-1751823000@visitfloydva.com
SUMMARY:Sunday Music Jam
DESCRIPTION:Every Sunday afternoon The Floyd Country Store comes alive with community music during our old time and bluegrass music jams. Bring your instrument and join in the music or grab some food and be our audience! The jam is open and free for everyone. \n12:00pm – 1:00pm: Old-Time Beginner Jam in the Floyd Country Store Community Room\n1:30pm – 3:30pm: Old-Time Music Jam\n4:00pm – 5:30pm: Bluegrass Jam \nJoin us for old time beginner jams from 12:00 to 1:00 in the Floyd Country Store Community Room. The old time jam session starts at 1:30 and is hosted by a different string band each week\, leading tunes at a moderate speed. Traditional instruments and dancers welcome! At 4:00 the bluegrass jam kicks off\, with hosts who lead the group in bluegrass songs and tunes. Song selections and solos pass around the circle. Sunday Music Jams are a great way to see traditional music the way it has been played and handed down for centuries\, amongst friends and family in a community setting.
URL:https://visitfloydva.com/event/sunday-music-jam-8/2025-07-06/
LOCATION:Floyd Country Store
CATEGORIES:Dance,Kid friendly,Music
GEO:36.9103975;-80.3202795
END:VEVENT
BEGIN:VEVENT
DTSTART;TZID=America/New_York:20250708T183000
DTEND;TZID=America/New_York:20250708T203000
DTSTAMP:20260421T014922
CREATED:20250513T162944Z
LAST-MODIFIED:20250513T162944Z
UID:10028423-1751999400-1752006600@visitfloydva.com
SUMMARY:Shape Note Singing in Floyd
DESCRIPTION:Come sing with us! \nShape note is an American tradition of unaccompanied harmony singing with roots that stretch back into the Colonial period. It takes its name from the musical notation system to aid in sight-singing where notes are written on the page with different shapes\, each corresponding to the degree of the scale. \nTunebooks we sing from are The Sacred Harp (1991 Denson edition)\, The Shenandoah Harmony\, and The Valley Pocket Harmonist. Loaner books are available. \nAll are welcome — no experience with sheet music or singing necessary!
URL:https://visitfloydva.com/event/shape-note-singing-in-floyd-3/2025-07-08/
LOCATION:Springhouse\, 144 Silver Maple Lane\, Pilot\, VA\, 24138\, United States
CATEGORIES:Music
ATTACH;FMTTYPE=image/jpeg:https://visitfloydva.com/wp-content/uploads/2025/05/floyd-sn.jpg
GEO:36.9098462;-80.2849966
X-APPLE-STRUCTURED-LOCATION;VALUE=URI;X-ADDRESS=Springhouse 144 Silver Maple Lane Pilot VA 24138 United States;X-APPLE-RADIUS=500;X-TITLE=144 Silver Maple Lane:geo:-80.2849966,36.9098462
END:VEVENT
BEGIN:VEVENT
DTSTART;TZID=America/New_York:20250709T143000
DTEND;TZID=America/New_York:20250709T170000
DTSTAMP:20260421T014922
CREATED:20250707T133702Z
LAST-MODIFIED:20250707T133702Z
UID:10030144-1752071400-1752080400@visitfloydva.com
SUMMARY:Why Not Wednesday
DESCRIPTION:Live music in the creek. Bring a chair or tube\, cooler\, and a donation for the band. *Weather Permitting
URL:https://visitfloydva.com/event/why-not-wednesday/2025-07-09/
LOCATION:Hippie Hollow\, 709 Webbs Mill Rd N\, Floyd\, VA\, 24091\, United States
CATEGORIES:Music
ATTACH;FMTTYPE=image/jpeg:https://visitfloydva.com/wp-content/uploads/2025/07/20250621_170432.jpg
END:VEVENT
BEGIN:VEVENT
DTSTART;VALUE=DATE:20250712
DTEND;VALUE=DATE:20250713
DTSTAMP:20260421T014922
CREATED:20250701T161542Z
LAST-MODIFIED:20250701T161542Z
UID:10028553-1752278400-1752364799@visitfloydva.com
SUMMARY:Replenish Festival 2025
DESCRIPTION:On Friday\, July 11th\, gates will open at 3pm for those who would like to camp overnight. No music or activities will be held on this night. To camp Friday night\, you will need to purchase an event ticket for the entire event. Camping is an additional $15 per spot\, per night. You may purchase camping passes online also. Tickets are ON SALE NOW at https://ReplenishFest.com \nOn Saturday\, July 12th\, the festival gates will open to the general public at 12pm. Join us in the evening for our headliner artist Cochren & Co. (@cochrenmusic)! \nVisit our website for all the details on artists\, activities\, food trucks and more! Lots of activities for everyone in the family\, check out the website for all the details and schedule! \nVenue:\nBurnett Farm\, 5430 Indian Valley Road\,Willis\, VA 24380 \nDirections:\nDirections From the West/South: If you are coming from the West or South you will have to come from I-77. Take the Galax/Hillsville/221 exit and head North on 221. You will travel approx 25 miles to a Left on Camp 5 Rd. and travel about 2.8 miles to the stop sign. Take a left on Indian Valley Rd (RT 787) and go 0.6 miles to the Replenish Festival on the Right (just after the big white Barn)! \nFrom the North: Depends on where you are coming from…..if you are coming South on I-81\, use the East directions. There are 2 ways to find Floyd from that direction…either come through Roanoke via I-81 to I-581 to SR221 South to the Floyd Stoplight or via I-81 to the RT 8 South/Floyd/Christiansburg exit to the Floyd Stoplight. If you come Rt8\, about 5 miles before the Town of Floyd\, turn Right on Rt 730 (Ridgeview Rd). Continue to the stop sign on Rt 750 (Alum Ridge Rd). Go straight on Rt 730 (now Duncan’s Chapel) to a Left on RT 787 (Indian Valley Rd). Go 4 miles to the Replenish Festival on the Left! If you are coming down I-77\, use the West/South directions. \nEmail: info@replenishfest.com
URL:https://visitfloydva.com/event/replenish-festival-2025/
LOCATION:Burnett Farm\, 5555 Indian Valley Road\, Willis\, VA\, 24380\, United States
CATEGORIES:Camping,Community,Entertainment,Family,Festivals,Fundraising,Kid friendly,Music,Outdoor Recreation,Pet friendly,Shopping
ATTACH;FMTTYPE=image/jpeg:https://visitfloydva.com/wp-content/uploads/2025/06/2025_FB-Page-Cover.jpg
ORGANIZER;CN="Replenish Ministries%2C Inc.":MAILTO:info@replenishfest.com
GEO:36.8856031;-80.5322364
X-APPLE-STRUCTURED-LOCATION;VALUE=URI;X-ADDRESS=Burnett Farm 5555 Indian Valley Road Willis VA 24380 United States;X-APPLE-RADIUS=500;X-TITLE=5555 Indian Valley Road:geo:-80.5322364,36.8856031
END:VEVENT
BEGIN:VEVENT
DTSTART;TZID=America/New_York:20250712T170000
DTEND;TZID=America/New_York:20250712T200000
DTSTAMP:20260421T014922
CREATED:20250707T140554Z
LAST-MODIFIED:20250707T140554Z
UID:10030153-1752339600-1752350400@visitfloydva.com
SUMMARY:Broken Halos Band
DESCRIPTION:A Chris Stapleton Experience
URL:https://visitfloydva.com/event/broken-halos-band/
LOCATION:Hippie Hollow\, 709 Webbs Mill Rd N\, Floyd\, VA\, 24091\, United States
CATEGORIES:Music
ATTACH;FMTTYPE=image/png:https://visitfloydva.com/wp-content/uploads/2025/07/IMG_20250623_073647.png
END:VEVENT
BEGIN:VEVENT
DTSTART;TZID=America/New_York:20250713T133000
DTEND;TZID=America/New_York:20250713T173000
DTSTAMP:20260421T014922
CREATED:20250109T184230Z
LAST-MODIFIED:20250814T142054Z
UID:10028133-1752413400-1752427800@visitfloydva.com
SUMMARY:Sunday Music Jam
DESCRIPTION:Every Sunday afternoon The Floyd Country Store comes alive with community music during our old time and bluegrass music jams. Bring your instrument and join in the music or grab some food and be our audience! The jam is open and free for everyone. \n12:00pm – 1:00pm: Old-Time Beginner Jam in the Floyd Country Store Community Room\n1:30pm – 3:30pm: Old-Time Music Jam\n4:00pm – 5:30pm: Bluegrass Jam \nJoin us for old time beginner jams from 12:00 to 1:00 in the Floyd Country Store Community Room. The old time jam session starts at 1:30 and is hosted by a different string band each week\, leading tunes at a moderate speed. Traditional instruments and dancers welcome! At 4:00 the bluegrass jam kicks off\, with hosts who lead the group in bluegrass songs and tunes. Song selections and solos pass around the circle. Sunday Music Jams are a great way to see traditional music the way it has been played and handed down for centuries\, amongst friends and family in a community setting.
URL:https://visitfloydva.com/event/sunday-music-jam-8/2025-07-13/
LOCATION:Floyd Country Store
CATEGORIES:Dance,Kid friendly,Music
GEO:36.9103975;-80.3202795
END:VEVENT
BEGIN:VEVENT
DTSTART;TZID=America/New_York:20250716T143000
DTEND;TZID=America/New_York:20250716T170000
DTSTAMP:20260421T014922
CREATED:20250707T133702Z
LAST-MODIFIED:20250707T133702Z
UID:10030145-1752676200-1752685200@visitfloydva.com
SUMMARY:Why Not Wednesday
DESCRIPTION:Live music in the creek. Bring a chair or tube\, cooler\, and a donation for the band. *Weather Permitting
URL:https://visitfloydva.com/event/why-not-wednesday/2025-07-16/
LOCATION:Hippie Hollow\, 709 Webbs Mill Rd N\, Floyd\, VA\, 24091\, United States
CATEGORIES:Music
ATTACH;FMTTYPE=image/jpeg:https://visitfloydva.com/wp-content/uploads/2025/07/20250621_170432.jpg
END:VEVENT
BEGIN:VEVENT
DTSTART;TZID=America/New_York:20250717T170000
DTEND;TZID=America/New_York:20250717T174500
DTSTAMP:20260421T014922
CREATED:20250715T142611Z
LAST-MODIFIED:20250715T142725Z
UID:10030207-1752771600-1752774300@visitfloydva.com
SUMMARY:FREE Drum Class
DESCRIPTION:Right before the Floyd small-time summer event\, exists the Floyd Farmers market. This Thursday only\, holar rhythm community Drum School is hosting a free 45 minute\, family friendly drum class starting at 5:00 p.m. \nLimited to a maximum of 20 drums\, first come first serve. Bring your own if you have one! We’ll see you there!
URL:https://visitfloydva.com/event/free-drum-class/
LOCATION:Floyd Farmers market\, 203 S locust St\, Floyd\, VA\, 24091\, United States
CATEGORIES:Community,Education,Family,Kid friendly,Music,Wellness,Workshop
ATTACH;FMTTYPE=image/jpeg:https://visitfloydva.com/wp-content/uploads/2025/07/Free-Drum-class-flyer-Floyd-25_20250714_175147_0000.jpg
ORGANIZER;CN="HoloRhythm Community Drum School":MAILTO:HoloRhythm@gmail.com
END:VEVENT
BEGIN:VEVENT
DTSTART;TZID=America/New_York:20250720T133000
DTEND;TZID=America/New_York:20250720T173000
DTSTAMP:20260421T014922
CREATED:20250109T184230Z
LAST-MODIFIED:20250814T142054Z
UID:10028134-1753018200-1753032600@visitfloydva.com
SUMMARY:Sunday Music Jam
DESCRIPTION:Every Sunday afternoon The Floyd Country Store comes alive with community music during our old time and bluegrass music jams. Bring your instrument and join in the music or grab some food and be our audience! The jam is open and free for everyone. \n12:00pm – 1:00pm: Old-Time Beginner Jam in the Floyd Country Store Community Room\n1:30pm – 3:30pm: Old-Time Music Jam\n4:00pm – 5:30pm: Bluegrass Jam \nJoin us for old time beginner jams from 12:00 to 1:00 in the Floyd Country Store Community Room. The old time jam session starts at 1:30 and is hosted by a different string band each week\, leading tunes at a moderate speed. Traditional instruments and dancers welcome! At 4:00 the bluegrass jam kicks off\, with hosts who lead the group in bluegrass songs and tunes. Song selections and solos pass around the circle. Sunday Music Jams are a great way to see traditional music the way it has been played and handed down for centuries\, amongst friends and family in a community setting.
URL:https://visitfloydva.com/event/sunday-music-jam-8/2025-07-20/
LOCATION:Floyd Country Store
CATEGORIES:Dance,Kid friendly,Music
GEO:36.9103975;-80.3202795
END:VEVENT
BEGIN:VEVENT
DTSTART;TZID=America/New_York:20250723T143000
DTEND;TZID=America/New_York:20250723T170000
DTSTAMP:20260421T014922
CREATED:20250707T133702Z
LAST-MODIFIED:20250707T133702Z
UID:10030146-1753281000-1753290000@visitfloydva.com
SUMMARY:Why Not Wednesday
DESCRIPTION:Live music in the creek. Bring a chair or tube\, cooler\, and a donation for the band. *Weather Permitting
URL:https://visitfloydva.com/event/why-not-wednesday/2025-07-23/
LOCATION:Hippie Hollow\, 709 Webbs Mill Rd N\, Floyd\, VA\, 24091\, United States
CATEGORIES:Music
ATTACH;FMTTYPE=image/jpeg:https://visitfloydva.com/wp-content/uploads/2025/07/20250621_170432.jpg
END:VEVENT
BEGIN:VEVENT
DTSTART;TZID=America/New_York:20250727T133000
DTEND;TZID=America/New_York:20250727T173000
DTSTAMP:20260421T014922
CREATED:20250109T184230Z
LAST-MODIFIED:20250814T142054Z
UID:10028135-1753623000-1753637400@visitfloydva.com
SUMMARY:Sunday Music Jam
DESCRIPTION:Every Sunday afternoon The Floyd Country Store comes alive with community music during our old time and bluegrass music jams. Bring your instrument and join in the music or grab some food and be our audience! The jam is open and free for everyone. \n12:00pm – 1:00pm: Old-Time Beginner Jam in the Floyd Country Store Community Room\n1:30pm – 3:30pm: Old-Time Music Jam\n4:00pm – 5:30pm: Bluegrass Jam \nJoin us for old time beginner jams from 12:00 to 1:00 in the Floyd Country Store Community Room. The old time jam session starts at 1:30 and is hosted by a different string band each week\, leading tunes at a moderate speed. Traditional instruments and dancers welcome! At 4:00 the bluegrass jam kicks off\, with hosts who lead the group in bluegrass songs and tunes. Song selections and solos pass around the circle. Sunday Music Jams are a great way to see traditional music the way it has been played and handed down for centuries\, amongst friends and family in a community setting.
URL:https://visitfloydva.com/event/sunday-music-jam-8/2025-07-27/
LOCATION:Floyd Country Store
CATEGORIES:Dance,Kid friendly,Music
GEO:36.9103975;-80.3202795
END:VEVENT
BEGIN:VEVENT
DTSTART;TZID=America/New_York:20250727T150000
DTEND;TZID=America/New_York:20250727T170000
DTSTAMP:20260421T014922
CREATED:20250707T133528Z
LAST-MODIFIED:20250707T133528Z
UID:10030143-1753628400-1753635600@visitfloydva.com
SUMMARY:Windfall
DESCRIPTION:Windfall performs Americana/Roots music past to present with a mix of original and covers of Americana artists. This concert in the beautiful outdoor setting of Oak Grove Pavillion at Zion Lutheran Church will donate all proceeds to meeting the financial emergency needs of Floyd County residents. Admission FREE.
URL:https://visitfloydva.com/event/windfall-2/
LOCATION:Oak Grove Pavilion\, 365 Needmore Lane\, Floyd\, VA\, 24091\, United States
CATEGORIES:Music
ATTACH;FMTTYPE=image/jpeg:https://visitfloydva.com/wp-content/uploads/2025/07/IMG_4285.jpeg
ORGANIZER;CN="Zion Lutheran Church":MAILTO:Zionstmk@swva.net
GEO:36.920877;-80.316222
X-APPLE-STRUCTURED-LOCATION;VALUE=URI;X-ADDRESS=Oak Grove Pavilion 365 Needmore Lane Floyd VA 24091 United States;X-APPLE-RADIUS=500;X-TITLE=365 Needmore Lane:geo:-80.316222,36.920877
END:VEVENT
BEGIN:VEVENT
DTSTART;TZID=America/New_York:20250730T143000
DTEND;TZID=America/New_York:20250730T170000
DTSTAMP:20260421T014922
CREATED:20250707T133702Z
LAST-MODIFIED:20250707T133702Z
UID:10030147-1753885800-1753894800@visitfloydva.com
SUMMARY:Why Not Wednesday
DESCRIPTION:Live music in the creek. Bring a chair or tube\, cooler\, and a donation for the band. *Weather Permitting
URL:https://visitfloydva.com/event/why-not-wednesday/2025-07-30/
LOCATION:Hippie Hollow\, 709 Webbs Mill Rd N\, Floyd\, VA\, 24091\, United States
CATEGORIES:Music
ATTACH;FMTTYPE=image/jpeg:https://visitfloydva.com/wp-content/uploads/2025/07/20250621_170432.jpg
END:VEVENT
END:VCALENDAR