BEGIN:VCALENDAR
VERSION:2.0
PRODID:-//Visit Floyd Virginia - ECPv6.15.20//NONSGML v1.0//EN
CALSCALE:GREGORIAN
METHOD:PUBLISH
X-ORIGINAL-URL:https://visitfloydva.com
X-WR-CALDESC:Events for Visit Floyd Virginia
REFRESH-INTERVAL;VALUE=DURATION:PT1H
X-Robots-Tag:noindex
X-PUBLISHED-TTL:PT1H
BEGIN:VTIMEZONE
TZID:America/New_York
BEGIN:DAYLIGHT
TZOFFSETFROM:-0500
TZOFFSETTO:-0400
TZNAME:EDT
DTSTART:20240310T070000
END:DAYLIGHT
BEGIN:STANDARD
TZOFFSETFROM:-0400
TZOFFSETTO:-0500
TZNAME:EST
DTSTART:20241103T060000
END:STANDARD
BEGIN:DAYLIGHT
TZOFFSETFROM:-0500
TZOFFSETTO:-0400
TZNAME:EDT
DTSTART:20250309T070000
END:DAYLIGHT
BEGIN:STANDARD
TZOFFSETFROM:-0400
TZOFFSETTO:-0500
TZNAME:EST
DTSTART:20251102T060000
END:STANDARD
BEGIN:DAYLIGHT
TZOFFSETFROM:-0500
TZOFFSETTO:-0400
TZNAME:EDT
DTSTART:20260308T070000
END:DAYLIGHT
BEGIN:STANDARD
TZOFFSETFROM:-0400
TZOFFSETTO:-0500
TZNAME:EST
DTSTART:20261101T060000
END:STANDARD
END:VTIMEZONE
BEGIN:VEVENT
DTSTART;TZID=America/New_York:20250601T133000
DTEND;TZID=America/New_York:20250601T173000
DTSTAMP:20260421T033506
CREATED:20250109T184230Z
LAST-MODIFIED:20250814T142054Z
UID:10028127-1748784600-1748799000@visitfloydva.com
SUMMARY:Sunday Music Jam
DESCRIPTION:Every Sunday afternoon The Floyd Country Store comes alive with community music during our old time and bluegrass music jams. Bring your instrument and join in the music or grab some food and be our audience! The jam is open and free for everyone. \n12:00pm – 1:00pm: Old-Time Beginner Jam in the Floyd Country Store Community Room\n1:30pm – 3:30pm: Old-Time Music Jam\n4:00pm – 5:30pm: Bluegrass Jam \nJoin us for old time beginner jams from 12:00 to 1:00 in the Floyd Country Store Community Room. The old time jam session starts at 1:30 and is hosted by a different string band each week\, leading tunes at a moderate speed. Traditional instruments and dancers welcome! At 4:00 the bluegrass jam kicks off\, with hosts who lead the group in bluegrass songs and tunes. Song selections and solos pass around the circle. Sunday Music Jams are a great way to see traditional music the way it has been played and handed down for centuries\, amongst friends and family in a community setting.
URL:https://visitfloydva.com/event/sunday-music-jam-8/2025-06-01/
LOCATION:Floyd Country Store
CATEGORIES:Dance,Kid friendly,Music
GEO:36.9103975;-80.3202795
END:VEVENT
BEGIN:VEVENT
DTSTART;TZID=America/New_York:20250608T133000
DTEND;TZID=America/New_York:20250608T173000
DTSTAMP:20260421T033506
CREATED:20250109T184230Z
LAST-MODIFIED:20250814T142054Z
UID:10028128-1749389400-1749403800@visitfloydva.com
SUMMARY:Sunday Music Jam
DESCRIPTION:Every Sunday afternoon The Floyd Country Store comes alive with community music during our old time and bluegrass music jams. Bring your instrument and join in the music or grab some food and be our audience! The jam is open and free for everyone. \n12:00pm – 1:00pm: Old-Time Beginner Jam in the Floyd Country Store Community Room\n1:30pm – 3:30pm: Old-Time Music Jam\n4:00pm – 5:30pm: Bluegrass Jam \nJoin us for old time beginner jams from 12:00 to 1:00 in the Floyd Country Store Community Room. The old time jam session starts at 1:30 and is hosted by a different string band each week\, leading tunes at a moderate speed. Traditional instruments and dancers welcome! At 4:00 the bluegrass jam kicks off\, with hosts who lead the group in bluegrass songs and tunes. Song selections and solos pass around the circle. Sunday Music Jams are a great way to see traditional music the way it has been played and handed down for centuries\, amongst friends and family in a community setting.
URL:https://visitfloydva.com/event/sunday-music-jam-8/2025-06-08/
LOCATION:Floyd Country Store
CATEGORIES:Dance,Kid friendly,Music
GEO:36.9103975;-80.3202795
END:VEVENT
BEGIN:VEVENT
DTSTART;TZID=America/New_York:20250610T183000
DTEND;TZID=America/New_York:20250610T203000
DTSTAMP:20260421T033506
CREATED:20250314T154447Z
LAST-MODIFIED:20250314T154447Z
UID:10030001-1749580200-1749587400@visitfloydva.com
SUMMARY:Shape Note Singing in Floyd
DESCRIPTION:Come sing with us! \nShape note is an American tradition of unaccompanied harmony singing with roots that stretch back into the Colonial period. It takes its name from the musical notation system to aid in sight-singing where notes are written on the page with different shapes\, each corresponding to the degree of the scale. \nTunebooks we sing from are The Sacred Harp (1991 Denson edition)\, The Shenandoah Harmony\, and The Valley Pocket Harmonist. Loaner books are available. \nAll are welcome — no experience with sheet music or singing necessary!
URL:https://visitfloydva.com/event/shape-note-singing-in-floyd-2/2025-06-10/
LOCATION:Springhouse\, 144 Silver Maple Lane\, Pilot\, VA\, 24138\, United States
CATEGORIES:Music
ATTACH;FMTTYPE=image/jpeg:https://visitfloydva.com/wp-content/uploads/2025/03/floyd-sn-1.jpg
GEO:36.9098462;-80.2849966
X-APPLE-STRUCTURED-LOCATION;VALUE=URI;X-ADDRESS=Springhouse 144 Silver Maple Lane Pilot VA 24138 United States;X-APPLE-RADIUS=500;X-TITLE=144 Silver Maple Lane:geo:-80.2849966,36.9098462
END:VEVENT
BEGIN:VEVENT
DTSTART;TZID=America/New_York:20250615T133000
DTEND;TZID=America/New_York:20250615T173000
DTSTAMP:20260421T033506
CREATED:20250109T184230Z
LAST-MODIFIED:20250814T142054Z
UID:10028129-1749994200-1750008600@visitfloydva.com
SUMMARY:Sunday Music Jam
DESCRIPTION:Every Sunday afternoon The Floyd Country Store comes alive with community music during our old time and bluegrass music jams. Bring your instrument and join in the music or grab some food and be our audience! The jam is open and free for everyone. \n12:00pm – 1:00pm: Old-Time Beginner Jam in the Floyd Country Store Community Room\n1:30pm – 3:30pm: Old-Time Music Jam\n4:00pm – 5:30pm: Bluegrass Jam \nJoin us for old time beginner jams from 12:00 to 1:00 in the Floyd Country Store Community Room. The old time jam session starts at 1:30 and is hosted by a different string band each week\, leading tunes at a moderate speed. Traditional instruments and dancers welcome! At 4:00 the bluegrass jam kicks off\, with hosts who lead the group in bluegrass songs and tunes. Song selections and solos pass around the circle. Sunday Music Jams are a great way to see traditional music the way it has been played and handed down for centuries\, amongst friends and family in a community setting.
URL:https://visitfloydva.com/event/sunday-music-jam-8/2025-06-15/
LOCATION:Floyd Country Store
CATEGORIES:Dance,Kid friendly,Music
GEO:36.9103975;-80.3202795
END:VEVENT
BEGIN:VEVENT
DTSTART;TZID=America/New_York:20250615T140000
DTEND;TZID=America/New_York:20250615T200000
DTSTAMP:20260421T033506
CREATED:20250519T184728Z
LAST-MODIFIED:20250521T133822Z
UID:10028444-1749996000-1750017600@visitfloydva.com
SUMMARY:1st Annual Fathers Day Guitars and Gear Gathering
DESCRIPTION:A fun filled father’s day on Dodd Creek at Historic Epperly Mill featuring local luthiers of all stringed instruments\, various gear\, Demo’s of unique new\, used and vintage gear and guitars.\nSoul food from Two Trees Catering\, beer and wine. And local musicians in a relaxing atmosphere. Open jams and mingling!
URL:https://visitfloydva.com/event/luthier-and-gear-gathering-epperly-mill-music-and-arts/
LOCATION:Epperly Mill\, 532 Epperly Mill Rd SW\, Floyd\, VA\, 24091
CATEGORIES:Music
ORGANIZER;CN="Epperly Mill Music and Arts":MAILTO:epperlymill@gmail.com
END:VEVENT
BEGIN:VEVENT
DTSTART;TZID=America/New_York:20250622T133000
DTEND;TZID=America/New_York:20250622T173000
DTSTAMP:20260421T033506
CREATED:20250109T184230Z
LAST-MODIFIED:20250814T142054Z
UID:10028130-1750599000-1750613400@visitfloydva.com
SUMMARY:Sunday Music Jam
DESCRIPTION:Every Sunday afternoon The Floyd Country Store comes alive with community music during our old time and bluegrass music jams. Bring your instrument and join in the music or grab some food and be our audience! The jam is open and free for everyone. \n12:00pm – 1:00pm: Old-Time Beginner Jam in the Floyd Country Store Community Room\n1:30pm – 3:30pm: Old-Time Music Jam\n4:00pm – 5:30pm: Bluegrass Jam \nJoin us for old time beginner jams from 12:00 to 1:00 in the Floyd Country Store Community Room. The old time jam session starts at 1:30 and is hosted by a different string band each week\, leading tunes at a moderate speed. Traditional instruments and dancers welcome! At 4:00 the bluegrass jam kicks off\, with hosts who lead the group in bluegrass songs and tunes. Song selections and solos pass around the circle. Sunday Music Jams are a great way to see traditional music the way it has been played and handed down for centuries\, amongst friends and family in a community setting.
URL:https://visitfloydva.com/event/sunday-music-jam-8/2025-06-22/
LOCATION:Floyd Country Store
CATEGORIES:Dance,Kid friendly,Music
GEO:36.9103975;-80.3202795
END:VEVENT
BEGIN:VEVENT
DTSTART;TZID=America/New_York:20250624T183000
DTEND;TZID=America/New_York:20250624T203000
DTSTAMP:20260421T033506
CREATED:20250314T151716Z
LAST-MODIFIED:20250314T151716Z
UID:10029998-1750789800-1750797000@visitfloydva.com
SUMMARY:Shape Note Singing in Floyd
DESCRIPTION:Come sing with us! \nShape note is an American tradition of unaccompanied harmony singing with roots that stretch back into the Colonial period. It takes its name from the musical notation system to aid in sight-singing where notes are written on the page with different shapes\, each corresponding to the degree of the scale. \nTunebooks we sing from are The Sacred Harp (1991 Denson edition)\, The Shenandoah Harmony\, and The Valley Pocket Harmonist. Loaner books are available. \nAll are welcome\, and the singings are free — no experience with sheet music or singing necessary!
URL:https://visitfloydva.com/event/shape-note-singing-in-floyd/2025-06-24/
LOCATION:The Presbyterian Church of Floyd\, 169 Newtown Road NE\, Floyd\, VA\, 24091\, United States
CATEGORIES:Music
ATTACH;FMTTYPE=image/jpeg:https://visitfloydva.com/wp-content/uploads/2025/03/floyd-sn.jpg
END:VEVENT
BEGIN:VEVENT
DTSTART;TZID=America/New_York:20250625T160000
DTEND;TZID=America/New_York:20250625T190000
DTSTAMP:20260421T033506
CREATED:20250616T172602Z
LAST-MODIFIED:20250616T172602Z
UID:10030137-1750867200-1750878000@visitfloydva.com
SUMMARY:Musical Chairs House Party
DESCRIPTION:Relax on the Gallery lawn with refreshments; shop our Silent Auction; compete in Musical Chairs (meets Cake Walk); and enjoy an evening of live music: Vic & Jane Zitta at 4:00; Mac Traynham\, George Slusher & the Floyd String Band All-Stars at 5:00; and the incomparable Willard Gayheart & Ricky Cox at 6:00. \nThe Old Church Gallery is participating in GiveLocalNRV’s Day of Giving sponsored by the Community Foundation of the New River Valley. We appreciate your support as we raise funds toward an addition giving us much-needed display and storage space. \nWe’re saving a chair for you!
URL:https://visitfloydva.com/event/musical-chairs-house-party-2/
LOCATION:Old Church Gallery\, 110 Wilson St.\, Floyd\, VA\, 24091\, Select a Country:
CATEGORIES:Arts & Handcraft,Community,Fundraising,Music
ATTACH;FMTTYPE=image/jpeg:https://visitfloydva.com/wp-content/uploads/2025/06/chairs.jpg
ORGANIZER;CN="Old Church Gallery":MAILTO:oldchurchgallery@swva.net
GEO:36.911011;-80.317746
X-APPLE-STRUCTURED-LOCATION;VALUE=URI;X-ADDRESS=Old Church Gallery 110 Wilson St. Floyd VA 24091 Select a Country:;X-APPLE-RADIUS=500;X-TITLE=110 Wilson St.:geo:-80.317746,36.911011
END:VEVENT
BEGIN:VEVENT
DTSTART;TZID=America/New_York:20250629T133000
DTEND;TZID=America/New_York:20250629T173000
DTSTAMP:20260421T033506
CREATED:20250109T184230Z
LAST-MODIFIED:20250814T142054Z
UID:10028131-1751203800-1751218200@visitfloydva.com
SUMMARY:Sunday Music Jam
DESCRIPTION:Every Sunday afternoon The Floyd Country Store comes alive with community music during our old time and bluegrass music jams. Bring your instrument and join in the music or grab some food and be our audience! The jam is open and free for everyone. \n12:00pm – 1:00pm: Old-Time Beginner Jam in the Floyd Country Store Community Room\n1:30pm – 3:30pm: Old-Time Music Jam\n4:00pm – 5:30pm: Bluegrass Jam \nJoin us for old time beginner jams from 12:00 to 1:00 in the Floyd Country Store Community Room. The old time jam session starts at 1:30 and is hosted by a different string band each week\, leading tunes at a moderate speed. Traditional instruments and dancers welcome! At 4:00 the bluegrass jam kicks off\, with hosts who lead the group in bluegrass songs and tunes. Song selections and solos pass around the circle. Sunday Music Jams are a great way to see traditional music the way it has been played and handed down for centuries\, amongst friends and family in a community setting.
URL:https://visitfloydva.com/event/sunday-music-jam-8/2025-06-29/
LOCATION:Floyd Country Store
CATEGORIES:Dance,Kid friendly,Music
GEO:36.9103975;-80.3202795
END:VEVENT
END:VCALENDAR