BEGIN:VCALENDAR
VERSION:2.0
PRODID:-//Visit Floyd Virginia - ECPv6.15.20//NONSGML v1.0//EN
CALSCALE:GREGORIAN
METHOD:PUBLISH
X-WR-CALNAME:Visit Floyd Virginia
X-ORIGINAL-URL:https://visitfloydva.com
X-WR-CALDESC:Events for Visit Floyd Virginia
REFRESH-INTERVAL;VALUE=DURATION:PT1H
X-Robots-Tag:noindex
X-PUBLISHED-TTL:PT1H
BEGIN:VTIMEZONE
TZID:America/New_York
BEGIN:DAYLIGHT
TZOFFSETFROM:-0500
TZOFFSETTO:-0400
TZNAME:EDT
DTSTART:20240310T070000
END:DAYLIGHT
BEGIN:STANDARD
TZOFFSETFROM:-0400
TZOFFSETTO:-0500
TZNAME:EST
DTSTART:20241103T060000
END:STANDARD
BEGIN:DAYLIGHT
TZOFFSETFROM:-0500
TZOFFSETTO:-0400
TZNAME:EDT
DTSTART:20250309T070000
END:DAYLIGHT
BEGIN:STANDARD
TZOFFSETFROM:-0400
TZOFFSETTO:-0500
TZNAME:EST
DTSTART:20251102T060000
END:STANDARD
BEGIN:DAYLIGHT
TZOFFSETFROM:-0500
TZOFFSETTO:-0400
TZNAME:EDT
DTSTART:20260308T070000
END:DAYLIGHT
BEGIN:STANDARD
TZOFFSETFROM:-0400
TZOFFSETTO:-0500
TZNAME:EST
DTSTART:20261101T060000
END:STANDARD
END:VTIMEZONE
BEGIN:VEVENT
DTSTART;TZID=America/New_York:20250406T133000
DTEND;TZID=America/New_York:20250406T173000
DTSTAMP:20260421T064047
CREATED:20250109T184230Z
LAST-MODIFIED:20250814T142054Z
UID:10028119-1743946200-1743960600@visitfloydva.com
SUMMARY:Sunday Music Jam
DESCRIPTION:Every Sunday afternoon The Floyd Country Store comes alive with community music during our old time and bluegrass music jams. Bring your instrument and join in the music or grab some food and be our audience! The jam is open and free for everyone. \n12:00pm – 1:00pm: Old-Time Beginner Jam in the Floyd Country Store Community Room\n1:30pm – 3:30pm: Old-Time Music Jam\n4:00pm – 5:30pm: Bluegrass Jam \nJoin us for old time beginner jams from 12:00 to 1:00 in the Floyd Country Store Community Room. The old time jam session starts at 1:30 and is hosted by a different string band each week\, leading tunes at a moderate speed. Traditional instruments and dancers welcome! At 4:00 the bluegrass jam kicks off\, with hosts who lead the group in bluegrass songs and tunes. Song selections and solos pass around the circle. Sunday Music Jams are a great way to see traditional music the way it has been played and handed down for centuries\, amongst friends and family in a community setting.
URL:https://visitfloydva.com/event/sunday-music-jam-8/2025-04-06/
LOCATION:Floyd Country Store
CATEGORIES:Dance,Kid friendly,Music
GEO:36.9103975;-80.3202795
END:VEVENT
BEGIN:VEVENT
DTSTART;TZID=America/New_York:20250406T190000
DTEND;TZID=America/New_York:20250406T210000
DTSTAMP:20260421T064047
CREATED:20250320T151404Z
LAST-MODIFIED:20250320T151404Z
UID:10030004-1743966000-1743973200@visitfloydva.com
SUMMARY:Sister Sadie
DESCRIPTION:Coming up soon – Join us for an evening of rip-roaring bluegrass with Sister Sadie – @sistersadiemusic – Live at The Floyd Country Store\, Sunday\, April 6th at 7PM. \nSister Sadie is a groundbreaking\, all-female bluegrass band that has become a force to be reckoned with in the genre and beyond. Formed serendipitously during a one-off jam session at Nashville’s legendary Station Inn\, the group’s undeniable chemistry transformed a casual collaboration into a full-time powerhouse. \nToday\, Sister Sadie is celebrated for their electrifying performances\, stellar musicianship and the seamless blend of tradition and innovation they bring to bluegrass music. The band is composed of six supremely talented musicians\, each with a rich history of individual achievements that elevate the collective magic of Sister Sadie. \nTickets available in-person at The Floyd Country Store\nor online at www.FloydCountryStore.com \nCan’t make it to the show? You can livestream it on FloydCountryStore.tv!
URL:https://visitfloydva.com/event/sister-sadie-2/
LOCATION:Floyd Country Store
CATEGORIES:Entertainment,Kid friendly,Music
ATTACH;FMTTYPE=image/png:https://visitfloydva.com/wp-content/uploads/2025/03/Sister-Sadie-Country-Store.png
GEO:36.9103975;-80.3202795
END:VEVENT
BEGIN:VEVENT
DTSTART;TZID=America/New_York:20250408T183000
DTEND;TZID=America/New_York:20250408T203000
DTSTAMP:20260421T064047
CREATED:20250314T154447Z
LAST-MODIFIED:20250314T154447Z
UID:10029999-1744137000-1744144200@visitfloydva.com
SUMMARY:Shape Note Singing in Floyd
DESCRIPTION:Come sing with us! \nShape note is an American tradition of unaccompanied harmony singing with roots that stretch back into the Colonial period. It takes its name from the musical notation system to aid in sight-singing where notes are written on the page with different shapes\, each corresponding to the degree of the scale. \nTunebooks we sing from are The Sacred Harp (1991 Denson edition)\, The Shenandoah Harmony\, and The Valley Pocket Harmonist. Loaner books are available. \nAll are welcome — no experience with sheet music or singing necessary!
URL:https://visitfloydva.com/event/shape-note-singing-in-floyd-2/2025-04-08/
LOCATION:Springhouse\, 144 Silver Maple Lane\, Pilot\, VA\, 24138\, United States
CATEGORIES:Music
ATTACH;FMTTYPE=image/jpeg:https://visitfloydva.com/wp-content/uploads/2025/03/floyd-sn-1.jpg
GEO:36.9098462;-80.2849966
X-APPLE-STRUCTURED-LOCATION;VALUE=URI;X-ADDRESS=Springhouse 144 Silver Maple Lane Pilot VA 24138 United States;X-APPLE-RADIUS=500;X-TITLE=144 Silver Maple Lane:geo:-80.2849966,36.9098462
END:VEVENT
BEGIN:VEVENT
DTSTART;TZID=America/New_York:20250413T133000
DTEND;TZID=America/New_York:20250413T173000
DTSTAMP:20260421T064048
CREATED:20250109T184230Z
LAST-MODIFIED:20250814T142054Z
UID:10028120-1744551000-1744565400@visitfloydva.com
SUMMARY:Sunday Music Jam
DESCRIPTION:Every Sunday afternoon The Floyd Country Store comes alive with community music during our old time and bluegrass music jams. Bring your instrument and join in the music or grab some food and be our audience! The jam is open and free for everyone. \n12:00pm – 1:00pm: Old-Time Beginner Jam in the Floyd Country Store Community Room\n1:30pm – 3:30pm: Old-Time Music Jam\n4:00pm – 5:30pm: Bluegrass Jam \nJoin us for old time beginner jams from 12:00 to 1:00 in the Floyd Country Store Community Room. The old time jam session starts at 1:30 and is hosted by a different string band each week\, leading tunes at a moderate speed. Traditional instruments and dancers welcome! At 4:00 the bluegrass jam kicks off\, with hosts who lead the group in bluegrass songs and tunes. Song selections and solos pass around the circle. Sunday Music Jams are a great way to see traditional music the way it has been played and handed down for centuries\, amongst friends and family in a community setting.
URL:https://visitfloydva.com/event/sunday-music-jam-8/2025-04-13/
LOCATION:Floyd Country Store
CATEGORIES:Dance,Kid friendly,Music
GEO:36.9103975;-80.3202795
END:VEVENT
BEGIN:VEVENT
DTSTART;TZID=America/New_York:20250420T133000
DTEND;TZID=America/New_York:20250420T173000
DTSTAMP:20260421T064048
CREATED:20250109T184230Z
LAST-MODIFIED:20250814T142054Z
UID:10028121-1745155800-1745170200@visitfloydva.com
SUMMARY:Sunday Music Jam
DESCRIPTION:Every Sunday afternoon The Floyd Country Store comes alive with community music during our old time and bluegrass music jams. Bring your instrument and join in the music or grab some food and be our audience! The jam is open and free for everyone. \n12:00pm – 1:00pm: Old-Time Beginner Jam in the Floyd Country Store Community Room\n1:30pm – 3:30pm: Old-Time Music Jam\n4:00pm – 5:30pm: Bluegrass Jam \nJoin us for old time beginner jams from 12:00 to 1:00 in the Floyd Country Store Community Room. The old time jam session starts at 1:30 and is hosted by a different string band each week\, leading tunes at a moderate speed. Traditional instruments and dancers welcome! At 4:00 the bluegrass jam kicks off\, with hosts who lead the group in bluegrass songs and tunes. Song selections and solos pass around the circle. Sunday Music Jams are a great way to see traditional music the way it has been played and handed down for centuries\, amongst friends and family in a community setting.
URL:https://visitfloydva.com/event/sunday-music-jam-8/2025-04-20/
LOCATION:Floyd Country Store
CATEGORIES:Dance,Kid friendly,Music
GEO:36.9103975;-80.3202795
END:VEVENT
BEGIN:VEVENT
DTSTART;TZID=America/New_York:20250422T183000
DTEND;TZID=America/New_York:20250422T203000
DTSTAMP:20260421T064048
CREATED:20250314T151716Z
LAST-MODIFIED:20250314T151716Z
UID:10029996-1745346600-1745353800@visitfloydva.com
SUMMARY:Shape Note Singing in Floyd
DESCRIPTION:Come sing with us! \nShape note is an American tradition of unaccompanied harmony singing with roots that stretch back into the Colonial period. It takes its name from the musical notation system to aid in sight-singing where notes are written on the page with different shapes\, each corresponding to the degree of the scale. \nTunebooks we sing from are The Sacred Harp (1991 Denson edition)\, The Shenandoah Harmony\, and The Valley Pocket Harmonist. Loaner books are available. \nAll are welcome\, and the singings are free — no experience with sheet music or singing necessary!
URL:https://visitfloydva.com/event/shape-note-singing-in-floyd/2025-04-22/
LOCATION:The Presbyterian Church of Floyd\, 169 Newtown Road NE\, Floyd\, VA\, 24091\, United States
CATEGORIES:Music
ATTACH;FMTTYPE=image/jpeg:https://visitfloydva.com/wp-content/uploads/2025/03/floyd-sn.jpg
END:VEVENT
BEGIN:VEVENT
DTSTART;TZID=America/New_York:20250427T133000
DTEND;TZID=America/New_York:20250427T173000
DTSTAMP:20260421T064048
CREATED:20250109T184230Z
LAST-MODIFIED:20250814T142054Z
UID:10028122-1745760600-1745775000@visitfloydva.com
SUMMARY:Sunday Music Jam
DESCRIPTION:Every Sunday afternoon The Floyd Country Store comes alive with community music during our old time and bluegrass music jams. Bring your instrument and join in the music or grab some food and be our audience! The jam is open and free for everyone. \n12:00pm – 1:00pm: Old-Time Beginner Jam in the Floyd Country Store Community Room\n1:30pm – 3:30pm: Old-Time Music Jam\n4:00pm – 5:30pm: Bluegrass Jam \nJoin us for old time beginner jams from 12:00 to 1:00 in the Floyd Country Store Community Room. The old time jam session starts at 1:30 and is hosted by a different string band each week\, leading tunes at a moderate speed. Traditional instruments and dancers welcome! At 4:00 the bluegrass jam kicks off\, with hosts who lead the group in bluegrass songs and tunes. Song selections and solos pass around the circle. Sunday Music Jams are a great way to see traditional music the way it has been played and handed down for centuries\, amongst friends and family in a community setting.
URL:https://visitfloydva.com/event/sunday-music-jam-8/2025-04-27/
LOCATION:Floyd Country Store
CATEGORIES:Dance,Kid friendly,Music
GEO:36.9103975;-80.3202795
END:VEVENT
END:VCALENDAR