BEGIN:VCALENDAR
VERSION:2.0
PRODID:-//Visit Floyd Virginia - ECPv6.15.20//NONSGML v1.0//EN
CALSCALE:GREGORIAN
METHOD:PUBLISH
X-ORIGINAL-URL:https://visitfloydva.com
X-WR-CALDESC:Events for Visit Floyd Virginia
REFRESH-INTERVAL;VALUE=DURATION:PT1H
X-Robots-Tag:noindex
X-PUBLISHED-TTL:PT1H
BEGIN:VTIMEZONE
TZID:America/New_York
BEGIN:DAYLIGHT
TZOFFSETFROM:-0500
TZOFFSETTO:-0400
TZNAME:EDT
DTSTART:20240310T070000
END:DAYLIGHT
BEGIN:STANDARD
TZOFFSETFROM:-0400
TZOFFSETTO:-0500
TZNAME:EST
DTSTART:20241103T060000
END:STANDARD
BEGIN:DAYLIGHT
TZOFFSETFROM:-0500
TZOFFSETTO:-0400
TZNAME:EDT
DTSTART:20250309T070000
END:DAYLIGHT
BEGIN:STANDARD
TZOFFSETFROM:-0400
TZOFFSETTO:-0500
TZNAME:EST
DTSTART:20251102T060000
END:STANDARD
BEGIN:DAYLIGHT
TZOFFSETFROM:-0500
TZOFFSETTO:-0400
TZNAME:EDT
DTSTART:20260308T070000
END:DAYLIGHT
BEGIN:STANDARD
TZOFFSETFROM:-0400
TZOFFSETTO:-0500
TZNAME:EST
DTSTART:20261101T060000
END:STANDARD
END:VTIMEZONE
BEGIN:VEVENT
DTSTART;TZID=America/New_York:20250301T160000
DTEND;TZID=America/New_York:20250301T170000
DTSTAMP:20260421T082004
CREATED:20250109T173054Z
LAST-MODIFIED:20250109T173054Z
UID:10029860-1740844800-1740848400@visitfloydva.com
SUMMARY:Rhapsodies for Gerswhin
DESCRIPTION:Join acclaimed soprano Karin Paludan and talented pianist Wes McCune for an unforgettable evening of rhythm and artistry on Saturday\, March 1\, 2025 at 4:00 PM at the Floyd Center for the Arts! Prepare to be swept away by the captivating melodies of Rhapsodies for Gershwin\, a concert featuring a dynamic mix of opera\, musical theater\, and the timeless works of George Gershwin. \nAbout the Artists: \nKarin Paludan: Known for her powerful soprano voice and emotive stage presence\, Karin Paludan has performed with prestigious opera companies and symphonies across the globe. Her versatile vocal range and expressive interpretation make her a standout in both classical and contemporary works. \nWes McCune: A gifted pianist and collaborator\, Wes McCune has garnered praise for his dazzling technique and musical insight. He has performed internationally\, offering both solo performances and intimate duets with top artists in the classical music world. \nDon’t miss this opportunity to experience the brilliance and charm of Gershwin’s most beloved compositions\, brought to life by two exceptional artists. \n📅 Date: Saturday\, March 1\, 2025\n🕒 Time: 4:00 PM\n📍 Venue: Floyd Center for the Arts \nGeneral admission tickets are $25\, and student tickets are free of charge. \nGet your tickets online\, by phone\, or in person at the Floyd Center for the Arts.
URL:https://visitfloydva.com/event/rhapsodies-for-gerswhin/
LOCATION:Floyd Center for the Arts\, 220 Parkway Lane S\, Floyd\, VA\, 24091\, United States
CATEGORIES:Arts & Handcraft,Community,Music
ATTACH;FMTTYPE=image/png:https://visitfloydva.com/wp-content/uploads/2025/01/GershwinSocialMediagraphic.png
GEO:36.9039185;-80.3170382
X-APPLE-STRUCTURED-LOCATION;VALUE=URI;X-ADDRESS=Floyd Center for the Arts 220 Parkway Lane S Floyd VA 24091 United States;X-APPLE-RADIUS=500;X-TITLE=220 Parkway Lane S:geo:-80.3170382,36.9039185
END:VEVENT
BEGIN:VEVENT
DTSTART;TZID=America/New_York:20250302T133000
DTEND;TZID=America/New_York:20250302T173000
DTSTAMP:20260421T082004
CREATED:20250109T184230Z
LAST-MODIFIED:20250814T142054Z
UID:10028114-1740922200-1740936600@visitfloydva.com
SUMMARY:Sunday Music Jam
DESCRIPTION:Every Sunday afternoon The Floyd Country Store comes alive with community music during our old time and bluegrass music jams. Bring your instrument and join in the music or grab some food and be our audience! The jam is open and free for everyone. \n12:00pm – 1:00pm: Old-Time Beginner Jam in the Floyd Country Store Community Room\n1:30pm – 3:30pm: Old-Time Music Jam\n4:00pm – 5:30pm: Bluegrass Jam \nJoin us for old time beginner jams from 12:00 to 1:00 in the Floyd Country Store Community Room. The old time jam session starts at 1:30 and is hosted by a different string band each week\, leading tunes at a moderate speed. Traditional instruments and dancers welcome! At 4:00 the bluegrass jam kicks off\, with hosts who lead the group in bluegrass songs and tunes. Song selections and solos pass around the circle. Sunday Music Jams are a great way to see traditional music the way it has been played and handed down for centuries\, amongst friends and family in a community setting.
URL:https://visitfloydva.com/event/sunday-music-jam-8/2025-03-02/
LOCATION:Floyd Country Store
CATEGORIES:Dance,Kid friendly,Music
GEO:36.9103975;-80.3202795
END:VEVENT
BEGIN:VEVENT
DTSTART;TZID=America/New_York:20250309T133000
DTEND;TZID=America/New_York:20250309T173000
DTSTAMP:20260421T082004
CREATED:20250109T184230Z
LAST-MODIFIED:20250814T142054Z
UID:10028115-1741527000-1741541400@visitfloydva.com
SUMMARY:Sunday Music Jam
DESCRIPTION:Every Sunday afternoon The Floyd Country Store comes alive with community music during our old time and bluegrass music jams. Bring your instrument and join in the music or grab some food and be our audience! The jam is open and free for everyone. \n12:00pm – 1:00pm: Old-Time Beginner Jam in the Floyd Country Store Community Room\n1:30pm – 3:30pm: Old-Time Music Jam\n4:00pm – 5:30pm: Bluegrass Jam \nJoin us for old time beginner jams from 12:00 to 1:00 in the Floyd Country Store Community Room. The old time jam session starts at 1:30 and is hosted by a different string band each week\, leading tunes at a moderate speed. Traditional instruments and dancers welcome! At 4:00 the bluegrass jam kicks off\, with hosts who lead the group in bluegrass songs and tunes. Song selections and solos pass around the circle. Sunday Music Jams are a great way to see traditional music the way it has been played and handed down for centuries\, amongst friends and family in a community setting.
URL:https://visitfloydva.com/event/sunday-music-jam-8/2025-03-09/
LOCATION:Floyd Country Store
CATEGORIES:Dance,Kid friendly,Music
GEO:36.9103975;-80.3202795
END:VEVENT
BEGIN:VEVENT
DTSTART;TZID=America/New_York:20250316T133000
DTEND;TZID=America/New_York:20250316T173000
DTSTAMP:20260421T082004
CREATED:20250109T184230Z
LAST-MODIFIED:20250814T142054Z
UID:10028116-1742131800-1742146200@visitfloydva.com
SUMMARY:Sunday Music Jam
DESCRIPTION:Every Sunday afternoon The Floyd Country Store comes alive with community music during our old time and bluegrass music jams. Bring your instrument and join in the music or grab some food and be our audience! The jam is open and free for everyone. \n12:00pm – 1:00pm: Old-Time Beginner Jam in the Floyd Country Store Community Room\n1:30pm – 3:30pm: Old-Time Music Jam\n4:00pm – 5:30pm: Bluegrass Jam \nJoin us for old time beginner jams from 12:00 to 1:00 in the Floyd Country Store Community Room. The old time jam session starts at 1:30 and is hosted by a different string band each week\, leading tunes at a moderate speed. Traditional instruments and dancers welcome! At 4:00 the bluegrass jam kicks off\, with hosts who lead the group in bluegrass songs and tunes. Song selections and solos pass around the circle. Sunday Music Jams are a great way to see traditional music the way it has been played and handed down for centuries\, amongst friends and family in a community setting.
URL:https://visitfloydva.com/event/sunday-music-jam-8/2025-03-16/
LOCATION:Floyd Country Store
CATEGORIES:Dance,Kid friendly,Music
GEO:36.9103975;-80.3202795
END:VEVENT
BEGIN:VEVENT
DTSTART;TZID=America/New_York:20250316T143000
DTEND;TZID=America/New_York:20250316T153000
DTSTAMP:20260421T082004
CREATED:20250227T175220Z
LAST-MODIFIED:20250227T175220Z
UID:10028249-1742135400-1742139000@visitfloydva.com
SUMMARY:A Celtic Celebration
DESCRIPTION:Virginia’s Blue Ridge Music Festival will host A Celtic Celebration just in time for St. Patrick’s Day. Traditional and contemporary instrumentals and vocals from Ireland\, Scotland and Canada including beautiful slow airs\, waltzes\, lively jigs\, reels\, Scottish marches and strathspeys will delight the audience and get your toes tapping. Musicians are Katherine Wiley\, Fiddle; David Scheim\, Harp and Piano\, Geoffrey Sauer\, Pipes\, and Ash Devine\, Vocals. These extraordinary musicians will entertain us on Sunday March 16\, 2:30pm at The Presbyterian Church of Floyd. Admission for students is free and adults are $15.00 in advance at virginiasblueridgemusicfestival.org and at the door. Get your green on and begin your St. Patrick’s Day celebration with an afternoon of Celtic tunes and fun for the whole family. For more information: info@virginiasblueridgemusicfestival.org. Virginia’s Blue Ridge Music Festival is an affiliate of the Roanoke Symphony Orchestra\, Roanoke\, VA. Our focus is on music education and making classical music blended with Appalachian heritage styles affordable and available in Floyd County.
URL:https://visitfloydva.com/event/a-celtic-celebration/
LOCATION:The Presbyterian Church of Floyd\, 169 Newtown Road NE\, Floyd\, VA\, 24091\, United States
CATEGORIES:Music
ATTACH;FMTTYPE=image/jpeg:https://visitfloydva.com/wp-content/uploads/2025/02/Marchh-16-photo-Katherine-Geoffrey-David-full-heigh-max-resolution.jpg
END:VEVENT
BEGIN:VEVENT
DTSTART;TZID=America/New_York:20250323T133000
DTEND;TZID=America/New_York:20250323T173000
DTSTAMP:20260421T082004
CREATED:20250109T184230Z
LAST-MODIFIED:20250814T142054Z
UID:10028117-1742736600-1742751000@visitfloydva.com
SUMMARY:Sunday Music Jam
DESCRIPTION:Every Sunday afternoon The Floyd Country Store comes alive with community music during our old time and bluegrass music jams. Bring your instrument and join in the music or grab some food and be our audience! The jam is open and free for everyone. \n12:00pm – 1:00pm: Old-Time Beginner Jam in the Floyd Country Store Community Room\n1:30pm – 3:30pm: Old-Time Music Jam\n4:00pm – 5:30pm: Bluegrass Jam \nJoin us for old time beginner jams from 12:00 to 1:00 in the Floyd Country Store Community Room. The old time jam session starts at 1:30 and is hosted by a different string band each week\, leading tunes at a moderate speed. Traditional instruments and dancers welcome! At 4:00 the bluegrass jam kicks off\, with hosts who lead the group in bluegrass songs and tunes. Song selections and solos pass around the circle. Sunday Music Jams are a great way to see traditional music the way it has been played and handed down for centuries\, amongst friends and family in a community setting.
URL:https://visitfloydva.com/event/sunday-music-jam-8/2025-03-23/
LOCATION:Floyd Country Store
CATEGORIES:Dance,Kid friendly,Music
GEO:36.9103975;-80.3202795
END:VEVENT
BEGIN:VEVENT
DTSTART;TZID=America/New_York:20250325T183000
DTEND;TZID=America/New_York:20250325T203000
DTSTAMP:20260421T082004
CREATED:20250314T151716Z
LAST-MODIFIED:20250314T151716Z
UID:10029995-1742927400-1742934600@visitfloydva.com
SUMMARY:Shape Note Singing in Floyd
DESCRIPTION:Come sing with us! \nShape note is an American tradition of unaccompanied harmony singing with roots that stretch back into the Colonial period. It takes its name from the musical notation system to aid in sight-singing where notes are written on the page with different shapes\, each corresponding to the degree of the scale. \nTunebooks we sing from are The Sacred Harp (1991 Denson edition)\, The Shenandoah Harmony\, and The Valley Pocket Harmonist. Loaner books are available. \nAll are welcome\, and the singings are free — no experience with sheet music or singing necessary!
URL:https://visitfloydva.com/event/shape-note-singing-in-floyd/2025-03-25/
LOCATION:The Presbyterian Church of Floyd\, 169 Newtown Road NE\, Floyd\, VA\, 24091\, United States
CATEGORIES:Music
ATTACH;FMTTYPE=image/jpeg:https://visitfloydva.com/wp-content/uploads/2025/03/floyd-sn.jpg
END:VEVENT
BEGIN:VEVENT
DTSTART;TZID=America/New_York:20250330T133000
DTEND;TZID=America/New_York:20250330T173000
DTSTAMP:20260421T082004
CREATED:20250109T184230Z
LAST-MODIFIED:20250814T142054Z
UID:10028118-1743341400-1743355800@visitfloydva.com
SUMMARY:Sunday Music Jam
DESCRIPTION:Every Sunday afternoon The Floyd Country Store comes alive with community music during our old time and bluegrass music jams. Bring your instrument and join in the music or grab some food and be our audience! The jam is open and free for everyone. \n12:00pm – 1:00pm: Old-Time Beginner Jam in the Floyd Country Store Community Room\n1:30pm – 3:30pm: Old-Time Music Jam\n4:00pm – 5:30pm: Bluegrass Jam \nJoin us for old time beginner jams from 12:00 to 1:00 in the Floyd Country Store Community Room. The old time jam session starts at 1:30 and is hosted by a different string band each week\, leading tunes at a moderate speed. Traditional instruments and dancers welcome! At 4:00 the bluegrass jam kicks off\, with hosts who lead the group in bluegrass songs and tunes. Song selections and solos pass around the circle. Sunday Music Jams are a great way to see traditional music the way it has been played and handed down for centuries\, amongst friends and family in a community setting.
URL:https://visitfloydva.com/event/sunday-music-jam-8/2025-03-30/
LOCATION:Floyd Country Store
CATEGORIES:Dance,Kid friendly,Music
GEO:36.9103975;-80.3202795
END:VEVENT
END:VCALENDAR