BEGIN:VCALENDAR
VERSION:2.0
PRODID:-//Visit Floyd Virginia - ECPv6.15.20//NONSGML v1.0//EN
CALSCALE:GREGORIAN
METHOD:PUBLISH
X-ORIGINAL-URL:https://visitfloydva.com
X-WR-CALDESC:Events for Visit Floyd Virginia
REFRESH-INTERVAL;VALUE=DURATION:PT1H
X-Robots-Tag:noindex
X-PUBLISHED-TTL:PT1H
BEGIN:VTIMEZONE
TZID:America/New_York
BEGIN:DAYLIGHT
TZOFFSETFROM:-0500
TZOFFSETTO:-0400
TZNAME:EDT
DTSTART:20230312T070000
END:DAYLIGHT
BEGIN:STANDARD
TZOFFSETFROM:-0400
TZOFFSETTO:-0500
TZNAME:EST
DTSTART:20231105T060000
END:STANDARD
BEGIN:DAYLIGHT
TZOFFSETFROM:-0500
TZOFFSETTO:-0400
TZNAME:EDT
DTSTART:20240310T070000
END:DAYLIGHT
BEGIN:STANDARD
TZOFFSETFROM:-0400
TZOFFSETTO:-0500
TZNAME:EST
DTSTART:20241103T060000
END:STANDARD
BEGIN:DAYLIGHT
TZOFFSETFROM:-0500
TZOFFSETTO:-0400
TZNAME:EDT
DTSTART:20250309T070000
END:DAYLIGHT
BEGIN:STANDARD
TZOFFSETFROM:-0400
TZOFFSETTO:-0500
TZNAME:EST
DTSTART:20251102T060000
END:STANDARD
END:VTIMEZONE
BEGIN:VEVENT
DTSTART;TZID=America/New_York:20241201T183000
DTEND;TZID=America/New_York:20241201T200000
DTSTAMP:20260421T124352
CREATED:20241021T132401Z
LAST-MODIFIED:20241021T132401Z
UID:10029785-1733077800-1733083200@visitfloydva.com
SUMMARY:Christmas in Floyd
DESCRIPTION:Christmas in Floyd is a free Christmas celebration for the whole community. This year will feature music from Carson Peters & Iron Mountain\, as well as our annual children’s nativity pageant.
URL:https://visitfloydva.com/event/christmas-in-floyd/
LOCATION:Floyd United Methodist Church\, 417 East Main Street\, Floyd\, VA\, 24091\, United States
CATEGORIES:Community,Family,Holiday,Music
ATTACH;FMTTYPE=image/jpeg:https://visitfloydva.com/wp-content/uploads/2024/10/Poster.jpg
GEO:36.911677;-80.315006
X-APPLE-STRUCTURED-LOCATION;VALUE=URI;X-ADDRESS=Floyd United Methodist Church 417 East Main Street Floyd VA 24091 United States;X-APPLE-RADIUS=500;X-TITLE=417 East Main Street:geo:-80.315006,36.911677
END:VEVENT
BEGIN:VEVENT
DTSTART;TZID=America/New_York:20241214T190000
DTEND;TZID=America/New_York:20241214T223000
DTSTAMP:20260421T124352
CREATED:20241209T152606Z
LAST-MODIFIED:20241209T152606Z
UID:10028058-1734202800-1734215400@visitfloydva.com
SUMMARY:Floyd-Blacksburg Combined Contra Dance
DESCRIPTION:Join us Saturday\, December 14th for a special combined Floyd and Blacksburg contra dance. Andrew Carter and friends will be playing and Joy Greenwolfe will be calling. All dances will be taught. \nBeginner lesson – 7:00 pm\nDance – 7:30 – 10:30 pm \nAll are welcome. If you feel sick or were recently exposed to someone with symptoms of an illness that may be contagious\, please stay home and take care of yourself\, so we can see you at our next dance.
URL:https://visitfloydva.com/event/floyd-blacksburg-combined-contra-dance/
LOCATION:Floyd Center for the Arts\, 220 Parkway Lane S\, Floyd\, VA\, 24091\, United States
CATEGORIES:Community,Dance,Entertainment,Family,Kid friendly,Music
ORGANIZER;CN="Blue Ridge Country Dancers":MAILTO:floydcountrydancers@yahoo.com
GEO:36.9039185;-80.3170382
X-APPLE-STRUCTURED-LOCATION;VALUE=URI;X-ADDRESS=Floyd Center for the Arts 220 Parkway Lane S Floyd VA 24091 United States;X-APPLE-RADIUS=500;X-TITLE=220 Parkway Lane S:geo:-80.3170382,36.9039185
END:VEVENT
BEGIN:VEVENT
DTSTART;TZID=America/New_York:20241215T150000
DTEND;TZID=America/New_York:20241215T170000
DTSTAMP:20260421T124352
CREATED:20241202T150556Z
LAST-MODIFIED:20241202T150556Z
UID:10029827-1734274800-1734282000@visitfloydva.com
SUMMARY:Home For the Holidays Music Concert
DESCRIPTION:Virginia’s Blue Ridge Music Festival presents Home for the Holidays with Maestro David Stewart Wiley\, Akemi Takayama\, and Phillip Bouknight. This is an afternoon of winter and holiday pieces from Handel\, Vivaldi and others. Join us in a wonderful holiday singalong of favorite songs.
URL:https://visitfloydva.com/event/home-for-the-holidays-music-concert-2/
LOCATION:The Presbyterian Church of Floyd\, 169 Newtown Road NE\, Floyd\, VA\, 24091\, United States
CATEGORIES:Music
ATTACH;FMTTYPE=image/jpeg:https://visitfloydva.com/wp-content/uploads/2024/11/Wiley-Red-jacket-photo-scaled.jpg
ORGANIZER;CN="Virginia's Blue Rdige Music Festival":MAILTO:forhisglory144@outlook.com
END:VEVENT
END:VCALENDAR