BEGIN:VCALENDAR
VERSION:2.0
PRODID:-//Visit Floyd Virginia - ECPv6.15.20//NONSGML v1.0//EN
CALSCALE:GREGORIAN
METHOD:PUBLISH
X-WR-CALNAME:Visit Floyd Virginia
X-ORIGINAL-URL:https://visitfloydva.com
X-WR-CALDESC:Events for Visit Floyd Virginia
REFRESH-INTERVAL;VALUE=DURATION:PT1H
X-Robots-Tag:noindex
X-PUBLISHED-TTL:PT1H
BEGIN:VTIMEZONE
TZID:America/New_York
BEGIN:DAYLIGHT
TZOFFSETFROM:-0500
TZOFFSETTO:-0400
TZNAME:EDT
DTSTART:20230312T070000
END:DAYLIGHT
BEGIN:STANDARD
TZOFFSETFROM:-0400
TZOFFSETTO:-0500
TZNAME:EST
DTSTART:20231105T060000
END:STANDARD
BEGIN:DAYLIGHT
TZOFFSETFROM:-0500
TZOFFSETTO:-0400
TZNAME:EDT
DTSTART:20240310T070000
END:DAYLIGHT
BEGIN:STANDARD
TZOFFSETFROM:-0400
TZOFFSETTO:-0500
TZNAME:EST
DTSTART:20241103T060000
END:STANDARD
BEGIN:DAYLIGHT
TZOFFSETFROM:-0500
TZOFFSETTO:-0400
TZNAME:EDT
DTSTART:20250309T070000
END:DAYLIGHT
BEGIN:STANDARD
TZOFFSETFROM:-0400
TZOFFSETTO:-0500
TZNAME:EST
DTSTART:20251102T060000
END:STANDARD
END:VTIMEZONE
BEGIN:VEVENT
DTSTART;TZID=America/New_York:20241004T120000
DTEND;TZID=America/New_York:20241006T150000
DTSTAMP:20260421T155345
CREATED:20240716T125907Z
LAST-MODIFIED:20240716T125907Z
UID:10029493-1728043200-1728226800@visitfloydva.com
SUMMARY:Crooked Mountain Moto Rally
DESCRIPTION:Join us at Crooked Mountain for an adrenaline-packed weekend of motorcycling fun. Whether you’re a seasoned rider or a newbie\, this event is perfect for all motorcycle enthusiasts. Get ready for thrilling rides\, scenic views\, and good times with fellow riders.\nAt the Crooked Mountain Moto Rally\, you can expect live music\, delicious food\, and plenty of opportunities to connect with like-minded individuals. It’s a great chance to share stories\, swap tips\, make memories that will last a lifetime\, and of course… ride some great roads around Floyd\, VA.
URL:https://visitfloydva.com/event/crooked-mountain-moto-rally/
LOCATION:Crooked Mountain\, 1378 Shooting Creek Rd SE\, Floyd\, VA\, 24091
CATEGORIES:Camping,Motorcycle,Music
ATTACH;FMTTYPE=image/png:https://visitfloydva.com/wp-content/uploads/2024/07/Moto-rally-pic.png
ORGANIZER;CN="Crooked Mountain":MAILTO:crookedmtnva@gmail.com
END:VEVENT
BEGIN:VEVENT
DTSTART;TZID=America/New_York:20241012T190000
DTEND;TZID=America/New_York:20241012T223000
DTSTAMP:20260421T155345
CREATED:20241004T150719Z
LAST-MODIFIED:20241004T150719Z
UID:10029773-1728759600-1728772200@visitfloydva.com
SUMMARY:Floyd Contra Dance
DESCRIPTION:The Rhythmajigs with George Segebade calling. Treat yourself to an evening of easy\, relaxed fun with lots of smiles and live music. All dance figures are taught by the caller\, and there is a free lesson at 7:00 pm before the dance which runs from 7:30 – 10:30 pm. Beginners and experienced dancers\, all ages\, welcome. Come alone or with a partner; dress is casual and soft-soled shoes that glide work best. \nAll are welcome. If you feel sick or were recently exposed to someone with symptoms of an illness that may be contagious\, please stay home and take care of yourself\, so we can see you at our next dance.
URL:https://visitfloydva.com/event/floyd-contra-dance-25/
LOCATION:Floyd Center for the Arts\, 220 Parkway Lane S\, Floyd\, VA\, 24091\, United States
CATEGORIES:Community,Dance,Entertainment,Family,Kid friendly,Music
ORGANIZER;CN="Blue Ridge Country Dancers":MAILTO:floydcountrydancers@yahoo.com
GEO:36.9039185;-80.3170382
X-APPLE-STRUCTURED-LOCATION;VALUE=URI;X-ADDRESS=Floyd Center for the Arts 220 Parkway Lane S Floyd VA 24091 United States;X-APPLE-RADIUS=500;X-TITLE=220 Parkway Lane S:geo:-80.3170382,36.9039185
END:VEVENT
END:VCALENDAR