BEGIN:VCALENDAR
VERSION:2.0
PRODID:-//Visit Floyd Virginia - ECPv6.15.20//NONSGML v1.0//EN
CALSCALE:GREGORIAN
METHOD:PUBLISH
X-ORIGINAL-URL:https://visitfloydva.com
X-WR-CALDESC:Events for Visit Floyd Virginia
REFRESH-INTERVAL;VALUE=DURATION:PT1H
X-Robots-Tag:noindex
X-PUBLISHED-TTL:PT1H
BEGIN:VTIMEZONE
TZID:America/New_York
BEGIN:DAYLIGHT
TZOFFSETFROM:-0500
TZOFFSETTO:-0400
TZNAME:EDT
DTSTART:20240310T070000
END:DAYLIGHT
BEGIN:STANDARD
TZOFFSETFROM:-0400
TZOFFSETTO:-0500
TZNAME:EST
DTSTART:20241103T060000
END:STANDARD
BEGIN:DAYLIGHT
TZOFFSETFROM:-0500
TZOFFSETTO:-0400
TZNAME:EDT
DTSTART:20250309T070000
END:DAYLIGHT
BEGIN:STANDARD
TZOFFSETFROM:-0400
TZOFFSETTO:-0500
TZNAME:EST
DTSTART:20251102T060000
END:STANDARD
BEGIN:DAYLIGHT
TZOFFSETFROM:-0500
TZOFFSETTO:-0400
TZNAME:EDT
DTSTART:20260308T070000
END:DAYLIGHT
BEGIN:STANDARD
TZOFFSETFROM:-0400
TZOFFSETTO:-0500
TZNAME:EST
DTSTART:20261101T060000
END:STANDARD
END:VTIMEZONE
BEGIN:VEVENT
DTSTART;TZID=America/New_York:20250321T180000
DTEND;TZID=America/New_York:20250321T180000
DTSTAMP:20260420T055939
CREATED:20250219T161558Z
LAST-MODIFIED:20250219T161558Z
UID:10028248-1742580000-1742580000@visitfloydva.com
SUMMARY:Murder at the Manor
DESCRIPTION:Murder at the Manor: A Mystery Dinner Party \nStep into a night of intrigue and deception at Murder at the Manor\, an immersive mystery dinner party at Moonlight Manor B&B. As guests gather for an elegant evening\, secrets unfold\, and a shocking crime takes place. Work together to uncover clues\, interrogate suspects\, and solve the mystery before the night is through. Enjoy a delicious dinner with a side of suspense in the heart of the Blue Ridge Mountains. Do you have what it takes to crack the case? \nExtend the mystery beyond the party—guests who dare to spend the night at Moonlight Manor receive 25% off their stay! Will you rest easy… or will the secrets of the manor keep you up all night? 👀🔦💀 Use CODE MURDER at checkout when you reserve your room at https://secure.thinkreservations.com/moonlig…/reservations
URL:https://visitfloydva.com/event/murder-at-the-manor/
LOCATION:Moonlight Manor Bed andBreakfast\, 136 Old fields Rd SW\, Floyd\, VA\, 24091\, United States
CATEGORIES:Community,Entertainment,Lodging,Theatre
ATTACH;FMTTYPE=image/jpeg:https://visitfloydva.com/wp-content/uploads/2025/02/Rustic-Meal-Facebook-Event-Cover-Photo.jpg
ORGANIZER;CN="Moonlight Manor Bed &amp%3B Breakfast":MAILTO:moonlightmanorfloyd.com
END:VEVENT
END:VCALENDAR