BEGIN:VCALENDAR
VERSION:2.0
PRODID:-//Visit Floyd Virginia - ECPv6.15.20//NONSGML v1.0//EN
CALSCALE:GREGORIAN
METHOD:PUBLISH
X-WR-CALNAME:Visit Floyd Virginia
X-ORIGINAL-URL:https://visitfloydva.com
X-WR-CALDESC:Events for Visit Floyd Virginia
REFRESH-INTERVAL;VALUE=DURATION:PT1H
X-Robots-Tag:noindex
X-PUBLISHED-TTL:PT1H
BEGIN:VTIMEZONE
TZID:America/New_York
BEGIN:DAYLIGHT
TZOFFSETFROM:-0500
TZOFFSETTO:-0400
TZNAME:EDT
DTSTART:20250309T070000
END:DAYLIGHT
BEGIN:STANDARD
TZOFFSETFROM:-0400
TZOFFSETTO:-0500
TZNAME:EST
DTSTART:20251102T060000
END:STANDARD
BEGIN:DAYLIGHT
TZOFFSETFROM:-0500
TZOFFSETTO:-0400
TZNAME:EDT
DTSTART:20260308T070000
END:DAYLIGHT
BEGIN:STANDARD
TZOFFSETFROM:-0400
TZOFFSETTO:-0500
TZNAME:EST
DTSTART:20261101T060000
END:STANDARD
BEGIN:DAYLIGHT
TZOFFSETFROM:-0500
TZOFFSETTO:-0400
TZNAME:EDT
DTSTART:20270314T070000
END:DAYLIGHT
BEGIN:STANDARD
TZOFFSETFROM:-0400
TZOFFSETTO:-0500
TZNAME:EST
DTSTART:20271107T060000
END:STANDARD
END:VTIMEZONE
BEGIN:VEVENT
DTSTART;TZID=America/New_York:20260425T160000
DTEND;TZID=America/New_York:20260425T180000
DTSTAMP:20260419T193053
CREATED:20260413T140529Z
LAST-MODIFIED:20260413T140529Z
UID:10032436-1777132800-1777140000@visitfloydva.com
SUMMARY:Opening Reception • April 25 - July 4 Exhibitions
DESCRIPTION:New Exhibitions Opening at the Floyd Center for the Arts \nJoin us for an engaging experience across all three galleries\, featuring contemporary work\, regional craftsmanship\, and student achievement. \nOpening Reception: Saturday\, April 25 | 4–6 PM\nFree and open to the public\nComplimentary light refreshments and cash bar \nHayloft Gallery: PROCESS | PRACTICE\nA curated exhibition exploring the creative process\nBefore a work is finished\, there are questions. What fails? What changes? What is learned along the way?\nPROCESS | PRACTICE brings together 20 artists from across the country\, highlighting experimentation\, revision\, and discovery across disciplines including fibers\, sculpture\, woodworking\, jewelry and enamel\, painting\, photography\, digital fabrication\, and more.\nThis exhibition opens the studio to the public\, revealing the thinking\, problem-solving\, and materials behind each finished work—placing process on equal footing with outcome. \n—– \nFalcon Gallery: Invitation to Wonder\nA solo exhibition by Steven Kenny\nThrough surreal\, technically masterful paintings\, Steven Kenny blends the human figure with elements of nature to explore identity\, perception\, and our relationship to the natural world.\nRooted in Old Master techniques and inspired by Renaissance and Baroque traditions\, Kenny’s work balances realism with imagination\, inviting viewers into a world where boundaries blur and meaning unfolds through reflection and introspection. \n—– \nBreezeway Gallery: Floyd Artisan Trail Preview\nGet a first look at artists featured in the 2026 Floyd Artisan Trail\, celebrating regional craftsmanship across woodworking\, ceramics\, fiber arts\, leatherwork\, and more.\nThis exhibition offers insight into the studios\, processes\, and handmade traditions that define Floyd’s creative community and helps visitors plan their Trail experience.\nFloyd Artisan Trail\nSaturday\, June 20 (10 AM–5 PM)\nSunday\, June 21 (12–5 PM) \n—– \nFloyd Elementary Student Exhibition\nBeyond the Art Room: Creating Skills for Life\nFeaturing award-winning student artwork from the Floyd Elementary School Art Exhibit\, this exhibition highlights creativity\, growth\, and the development of skills that extend beyond the classroom. \n—– \nExperience the full depth of creative practice\, from early experimentation to masterful execution\, across all galleries.\nFloyd Center for the Arts \nGallery Hours: Tues\, Wed\, Fri 12–5 PM | Sat 10–5 PM
URL:https://visitfloydva.com/event/opening-reception-april-25-july-4-exhibitions/
LOCATION:Floyd Center for the Arts\, 220 Parkway Lane S\, Floyd\, VA\, 24091\, United States
CATEGORIES:Arts & Handcraft,Community,Kid friendly
GEO:36.9039185;-80.3170382
X-APPLE-STRUCTURED-LOCATION;VALUE=URI;X-ADDRESS=Floyd Center for the Arts 220 Parkway Lane S Floyd VA 24091 United States;X-APPLE-RADIUS=500;X-TITLE=220 Parkway Lane S:geo:-80.3170382,36.9039185
END:VEVENT
BEGIN:VEVENT
DTSTART;TZID=America/New_York:20260426T110000
DTEND;TZID=America/New_York:20260426T140000
DTSTAMP:20260419T193053
CREATED:20260313T160851Z
LAST-MODIFIED:20260313T161023Z
UID:10032261-1777201200-1777212000@visitfloydva.com
SUMMARY:2026 Floyd Empty Bowls
DESCRIPTION:Join Us for a Heartwarming Community Meal – and Support a Great Cause! 🥣❤️ \n📅 Sunday\, April 26 | 🕓 11am-2pm | 📍 Floyd County High School \nPick out a beautiful handmade bowl\, enjoy a delicious meal\, and support weekend meals for local students facing food insecurity.\nFloyd Empty Bowls is back for its 15th year – a beloved annual fundraiser supporting the New River Community Action Floyd County Backpack Program\, which provides over 3\,000 weekend meals to local students each month who might otherwise go hungry. Since 2007\, this program has delivered over 600\,000 meals for children. \n🌾 Each full priced meal ticket* includes:\n✔️ A handcrafted ceramic bowl by local potters (yours to keep!)\n✔️ Hearty soup\, fresh bread\, dessert & beverage (home made soup\, bread\, and dessert are made by volunteers)\n✔️ Live local music and a warm community vibe\n* No-bowl tickets are available for a lower price\, disposable bowls for soup are provided for these tickets \nFor ticket prices and to purchase tickets online\, please visit the “Floyd Empty Bowls” Facebook page or use the link provided in this listing.\nThe backpack program is 100% volunteer-run\, with Floyd Rotary members assembling food packets every Wednesday. With program’s food costs currently around $650 a week\, every ticket and every donation makes a difference.
URL:https://visitfloydva.com/event/2026-floyd-empty-bowls/
LOCATION:Floyd County High School\, 721 Baker Street\, Floyd\, VA\, 24091\, United States
CATEGORIES:Community,Family,Fundraising,Kid friendly,Music
ORGANIZER;CN="Empty Bowls Committee":MAILTO:nrca@nrcaa.org
END:VEVENT
BEGIN:VEVENT
DTSTART;TZID=America/New_York:20260501T180000
DTEND;TZID=America/New_York:20260501T190000
DTSTAMP:20260419T193053
CREATED:20260219T220356Z
LAST-MODIFIED:20260219T220356Z
UID:10032131-1777658400-1777662000@visitfloydva.com
SUMMARY:Junie B. Jones - Toothless Wonder
DESCRIPTION:The June Bug Center Presents at fun family show! Junie B. Jones is having a rough day – no\, scratch that\, a rough week! She’s about to lose her first tooth\, and everyone’s been invited to a birthday party except her. What’s an “almost six-year-old” to do? Return to Junie B.’s charming and witty world in this family-friendly comedy.
URL:https://visitfloydva.com/event/junie-b-jones-toothless-wonder/2026-05-01/
LOCATION:June Bug Center\, 251 Parkway Ln. S.\, Floyd\, VA\, 24091\, United States
CATEGORIES:Entertainment,Family,Kid friendly,Theatre
GEO:36.903013;-80.316736
X-APPLE-STRUCTURED-LOCATION;VALUE=URI;X-ADDRESS=June Bug Center 251 Parkway Ln. S. Floyd VA 24091 United States;X-APPLE-RADIUS=500;X-TITLE=251 Parkway Ln. S.:geo:-80.316736,36.903013
END:VEVENT
BEGIN:VEVENT
DTSTART;TZID=America/New_York:20260502T140000
DTEND;TZID=America/New_York:20260502T150000
DTSTAMP:20260419T193053
CREATED:20260219T220356Z
LAST-MODIFIED:20260219T220356Z
UID:10032132-1777730400-1777734000@visitfloydva.com
SUMMARY:Junie B. Jones - Toothless Wonder
DESCRIPTION:The June Bug Center Presents at fun family show! Junie B. Jones is having a rough day – no\, scratch that\, a rough week! She’s about to lose her first tooth\, and everyone’s been invited to a birthday party except her. What’s an “almost six-year-old” to do? Return to Junie B.’s charming and witty world in this family-friendly comedy.
URL:https://visitfloydva.com/event/junie-b-jones-toothless-wonder/2026-05-02/
LOCATION:June Bug Center\, 251 Parkway Ln. S.\, Floyd\, VA\, 24091\, United States
CATEGORIES:Entertainment,Family,Kid friendly,Theatre
GEO:36.903013;-80.316736
X-APPLE-STRUCTURED-LOCATION;VALUE=URI;X-ADDRESS=June Bug Center 251 Parkway Ln. S. Floyd VA 24091 United States;X-APPLE-RADIUS=500;X-TITLE=251 Parkway Ln. S.:geo:-80.316736,36.903013
END:VEVENT
BEGIN:VEVENT
DTSTART;TZID=America/New_York:20260503T140000
DTEND;TZID=America/New_York:20260503T150000
DTSTAMP:20260419T193053
CREATED:20260219T220356Z
LAST-MODIFIED:20260219T220356Z
UID:10032133-1777816800-1777820400@visitfloydva.com
SUMMARY:Junie B. Jones - Toothless Wonder
DESCRIPTION:The June Bug Center Presents at fun family show! Junie B. Jones is having a rough day – no\, scratch that\, a rough week! She’s about to lose her first tooth\, and everyone’s been invited to a birthday party except her. What’s an “almost six-year-old” to do? Return to Junie B.’s charming and witty world in this family-friendly comedy.
URL:https://visitfloydva.com/event/junie-b-jones-toothless-wonder/2026-05-03/
LOCATION:June Bug Center\, 251 Parkway Ln. S.\, Floyd\, VA\, 24091\, United States
CATEGORIES:Entertainment,Family,Kid friendly,Theatre
GEO:36.903013;-80.316736
X-APPLE-STRUCTURED-LOCATION;VALUE=URI;X-ADDRESS=June Bug Center 251 Parkway Ln. S. Floyd VA 24091 United States;X-APPLE-RADIUS=500;X-TITLE=251 Parkway Ln. S.:geo:-80.316736,36.903013
END:VEVENT
BEGIN:VEVENT
DTSTART;VALUE=DATE:20260711
DTEND;VALUE=DATE:20260712
DTSTAMP:20260419T193053
CREATED:20251231T172601Z
LAST-MODIFIED:20251231T172601Z
UID:10031536-1783728000-1783814399@visitfloydva.com
SUMMARY:Replenish Festival
DESCRIPTION:On Saturday\, July 11th\, the festival gates will open to the general public at 12pm. \nVisit our website for all the details on artists\, activities\, food trucks and more! Lots of activities for everyone in the family\, check out the website for all the details and schedule! \nVenue:\nBurnett Farm\, 5430 Indian Valley Road\,Willis\, VA 24380 \nDirections:\nDirections From the West/South: If you are coming from the West or South you will have to come from I-77. Take the Galax/Hillsville/221 exit and head North on 221. You will travel approx 25 miles to a Left on Camp 5 Rd. and travel about 2.8 miles to the stop sign. Take a left on Indian Valley Rd (RT 787) and go 0.6 miles to the Replenish Festival on the Right (just after the big white Barn)! \nFrom the North: Depends on where you are coming from…..if you are coming South on I-81\, use the East directions. There are 2 ways to find Floyd from that direction…either come through Roanoke via I-81 to I-581 to SR221 South to the Floyd Stoplight or via I-81 to the RT 8 South/Floyd/Christiansburg exit to the Floyd Stoplight. If you come Rt8\, about 5 miles before the Town of Floyd\, turn Right on Rt 730 (Ridgeview Rd). Continue to the stop sign on Rt 750 (Alum Ridge Rd). Go straight on Rt 730 (now Duncan’s Chapel) to a Left on RT 787 (Indian Valley Rd). Go 4 miles to the Replenish Festival on the Left! If you are coming down I-77\, use the West/South directions. \nEmail: info@replenishfest.com
URL:https://visitfloydva.com/event/replenish-festival/
LOCATION:Burnett Farm\, 5555 Indian Valley Road\, Willis\, VA\, 24380\, United States
CATEGORIES:Camping,Community,Family,Festivals,Kid friendly,Music
GEO:36.8856031;-80.5322364
X-APPLE-STRUCTURED-LOCATION;VALUE=URI;X-ADDRESS=Burnett Farm 5555 Indian Valley Road Willis VA 24380 United States;X-APPLE-RADIUS=500;X-TITLE=5555 Indian Valley Road:geo:-80.5322364,36.8856031
END:VEVENT
END:VCALENDAR