BEGIN:VCALENDAR
VERSION:2.0
PRODID:-//Visit Floyd Virginia - ECPv6.15.20//NONSGML v1.0//EN
CALSCALE:GREGORIAN
METHOD:PUBLISH
X-WR-CALNAME:Visit Floyd Virginia
X-ORIGINAL-URL:https://visitfloydva.com
X-WR-CALDESC:Events for Visit Floyd Virginia
REFRESH-INTERVAL;VALUE=DURATION:PT1H
X-Robots-Tag:noindex
X-PUBLISHED-TTL:PT1H
BEGIN:VTIMEZONE
TZID:America/New_York
BEGIN:DAYLIGHT
TZOFFSETFROM:-0500
TZOFFSETTO:-0400
TZNAME:EDT
DTSTART:20250309T070000
END:DAYLIGHT
BEGIN:STANDARD
TZOFFSETFROM:-0400
TZOFFSETTO:-0500
TZNAME:EST
DTSTART:20251102T060000
END:STANDARD
BEGIN:DAYLIGHT
TZOFFSETFROM:-0500
TZOFFSETTO:-0400
TZNAME:EDT
DTSTART:20260308T070000
END:DAYLIGHT
BEGIN:STANDARD
TZOFFSETFROM:-0400
TZOFFSETTO:-0500
TZNAME:EST
DTSTART:20261101T060000
END:STANDARD
BEGIN:DAYLIGHT
TZOFFSETFROM:-0500
TZOFFSETTO:-0400
TZNAME:EDT
DTSTART:20270314T070000
END:DAYLIGHT
BEGIN:STANDARD
TZOFFSETFROM:-0400
TZOFFSETTO:-0500
TZNAME:EST
DTSTART:20271107T060000
END:STANDARD
END:VTIMEZONE
BEGIN:VEVENT
DTSTART;TZID=America/New_York:20260104T133000
DTEND;TZID=America/New_York:20260104T173000
DTSTAMP:20260419T230735
CREATED:20250109T184230Z
LAST-MODIFIED:20250814T142054Z
UID:10028158-1767533400-1767547800@visitfloydva.com
SUMMARY:Sunday Music Jam
DESCRIPTION:Every Sunday afternoon The Floyd Country Store comes alive with community music during our old time and bluegrass music jams. Bring your instrument and join in the music or grab some food and be our audience! The jam is open and free for everyone. \n12:00pm – 1:00pm: Old-Time Beginner Jam in the Floyd Country Store Community Room\n1:30pm – 3:30pm: Old-Time Music Jam\n4:00pm – 5:30pm: Bluegrass Jam \nJoin us for old time beginner jams from 12:00 to 1:00 in the Floyd Country Store Community Room. The old time jam session starts at 1:30 and is hosted by a different string band each week\, leading tunes at a moderate speed. Traditional instruments and dancers welcome! At 4:00 the bluegrass jam kicks off\, with hosts who lead the group in bluegrass songs and tunes. Song selections and solos pass around the circle. Sunday Music Jams are a great way to see traditional music the way it has been played and handed down for centuries\, amongst friends and family in a community setting.
URL:https://visitfloydva.com/event/sunday-music-jam-8/2026-01-04/
LOCATION:Floyd Country Store
CATEGORIES:Dance,Kid friendly,Music
GEO:36.9103975;-80.3202795
END:VEVENT
BEGIN:VEVENT
DTSTART;TZID=America/New_York:20260110T190000
DTEND;TZID=America/New_York:20260110T223000
DTSTAMP:20260419T230735
CREATED:20260101T164444Z
LAST-MODIFIED:20260101T164444Z
UID:10031650-1768071600-1768084200@visitfloydva.com
SUMMARY:Floyd Contra Dance
DESCRIPTION:Join us for a great night of dancing and music. Jim Morrison and Shawn Brenneman playing with George Segebade calling. All levels welcome. All dances are taught by the caller\, with a free lesson at the beginning. Come alone or with a partner; dress is casual and soft-soled shoes that glide work best. \nFree lesson: 7pm\nDance: 7:30-10:30pm \nAll are welcome. If you feel sick or were recently exposed to someone with symptoms of an illness that may be contagious\, please stay home and take care of yourself\, so we can see you at our next dance. Dances are on the second Saturday from September through May.
URL:https://visitfloydva.com/event/floyd-contra-dance-3/
LOCATION:Floyd Center for the Arts\, 220 Parkway Lane S\, Floyd\, VA\, 24091\, United States
CATEGORIES:Community,Dance,Entertainment,Family,Kid friendly,Music
ORGANIZER;CN="Blue Ridge Country Dancers":MAILTO:floydcountrydancers@yahoo.com
GEO:36.9039185;-80.3170382
X-APPLE-STRUCTURED-LOCATION;VALUE=URI;X-ADDRESS=Floyd Center for the Arts 220 Parkway Lane S Floyd VA 24091 United States;X-APPLE-RADIUS=500;X-TITLE=220 Parkway Lane S:geo:-80.3170382,36.9039185
END:VEVENT
BEGIN:VEVENT
DTSTART;TZID=America/New_York:20260111T133000
DTEND;TZID=America/New_York:20260111T173000
DTSTAMP:20260419T230735
CREATED:20250109T184230Z
LAST-MODIFIED:20250814T142054Z
UID:10028159-1768138200-1768152600@visitfloydva.com
SUMMARY:Sunday Music Jam
DESCRIPTION:Every Sunday afternoon The Floyd Country Store comes alive with community music during our old time and bluegrass music jams. Bring your instrument and join in the music or grab some food and be our audience! The jam is open and free for everyone. \n12:00pm – 1:00pm: Old-Time Beginner Jam in the Floyd Country Store Community Room\n1:30pm – 3:30pm: Old-Time Music Jam\n4:00pm – 5:30pm: Bluegrass Jam \nJoin us for old time beginner jams from 12:00 to 1:00 in the Floyd Country Store Community Room. The old time jam session starts at 1:30 and is hosted by a different string band each week\, leading tunes at a moderate speed. Traditional instruments and dancers welcome! At 4:00 the bluegrass jam kicks off\, with hosts who lead the group in bluegrass songs and tunes. Song selections and solos pass around the circle. Sunday Music Jams are a great way to see traditional music the way it has been played and handed down for centuries\, amongst friends and family in a community setting.
URL:https://visitfloydva.com/event/sunday-music-jam-8/2026-01-11/
LOCATION:Floyd Country Store
CATEGORIES:Dance,Kid friendly,Music
GEO:36.9103975;-80.3202795
END:VEVENT
BEGIN:VEVENT
DTSTART;TZID=America/New_York:20260116T160000
DTEND;TZID=America/New_York:20260116T180000
DTSTAMP:20260419T230735
CREATED:20260112T210955Z
LAST-MODIFIED:20260112T211207Z
UID:10031668-1768579200-1768586400@visitfloydva.com
SUMMARY:Youth Exhibitions Reception: Floyd Co. High School\, Blue Mountain School\, & Teen Photography
DESCRIPTION:Each year\, the Floyd Center for the Arts presents its Annual Youth Exhibitions\, celebrating the creativity of young artists in the region while recognizing the educators and schools that support arts education. This year’s exhibitions are now on view in three galleries\, with an opening reception scheduled for Friday\, January 16\, from 4:00 to 6:00 PM. The reception is free and open to the public. \nIn the Hayloft Gallery\, Floyd County High School’s Annual Art Exhibition features more than 200 works created by over 100 students under the instruction of art teachers Aven Tanner and Sara Thompson. The exhibition includes painting\, drawing\, sculpture\, mixed media\, and clay works. As part of the annual exhibition experience\, students also participated in curating and installing the show\, gaining hands-on exposure to professional exhibition practices in partnership with the Floyd Center for the Arts Gallery Committee. \nThe Falcon Gallery presents the Blue Mountain School Art Show\, an annual exhibition showcasing student work developed through process-based learning and creative exploration. Under the guidance of Lore Deighan\, a Floyd County native\, students spent the past two months experimenting with color\, materials\, and expressive techniques. This marks Blue Mountain School’s third consecutive year participating in the Center’s annual youth exhibitions. \nConcluding the exhibitions in the Breezeway Gallery is What Strikes My Fancy\, a solo photography exhibition by Jonathan Morisco\, an award-winning teen photographer and published artist. Morisco began taking photographs at the age of four and has since earned numerous awards at the Floyd County Fair\, including the 2025 Grand Prize. His work has also been published\, and the exhibition features photographs created across several years\, including images made when he was just six years old. Together\, the photographs offer a compelling look at his artistic growth\, technical skill\, and long-standing curiosity about the world around him. \nThe Annual Youth Exhibitions will remain on view through January 24\, 2026. The opening reception on January 16 offers the community an opportunity to experience all three exhibitions in one visit\, celebrate the achievements of young artists\, and recognize the teachers and schools that nurture creative learning. Complimentary food and refreshments will be provided. \nProudly sponsored by Finn Graphics.
URL:https://visitfloydva.com/event/youth-exhibitions-reception-floyd-co-high-school-blue-mountain-school-teen-photography/
LOCATION:Floyd Center for the Arts\, 220 Parkway Lane S\, Floyd\, VA\, 24091\, United States
CATEGORIES:Arts & Handcraft,Community,Family,Kid friendly
GEO:36.9039185;-80.3170382
X-APPLE-STRUCTURED-LOCATION;VALUE=URI;X-ADDRESS=Floyd Center for the Arts 220 Parkway Lane S Floyd VA 24091 United States;X-APPLE-RADIUS=500;X-TITLE=220 Parkway Lane S:geo:-80.3170382,36.9039185
END:VEVENT
BEGIN:VEVENT
DTSTART;TZID=America/New_York:20260124T110000
DTEND;TZID=America/New_York:20260124T120000
DTSTAMP:20260419T230735
CREATED:20260115T170116Z
LAST-MODIFIED:20260122T183506Z
UID:10031689-1769252400-1769256000@visitfloydva.com
SUMMARY:Meet the Author: Libby McNamee\, author of Susanna's Midnight Ride - POSTPONED
DESCRIPTION:*This event has been postponed due to the winter storm.* \nWe’ve all heard of Paul Revere\, but have you heard of Susanna Bolling? Susanna’s Midnight Ride is a historical novel for young people based on the true story of a 16-year-old girl from Virginia who saved French General Lafayette from capture\, paving the way for the decisive Battle of Yorktown. Join author Libby McNamee to ride along with Susanna as she makes history. \nAlmost five years after the signing of the Declaration of Independence\, the American Revolution hung in the balance. In late May 1781\, General Cornwallis invaded City Point\, VA\, and quartered his army there. As 16-year-old Susanna Bolling served the British general and his officers dinner\, she overheard their plans to capture General Lafayette and crush the American rebellion once and for all. Under the cover of darkness\, she snuck out of her house through a secret underground tunnel and canoed downriver. Then she grabbed a neighbor’s horse and rode ten miles to warn Lafayette. But would she make it back home by sunrise without detection? \nPresented in partnership with Historic Smithfield. A Montgomery County 250 and Virginia 250 Event.
URL:https://visitfloydva.com/event/meet-the-author-libby-mcnamee-author-of-susannas-midnight-ride/
LOCATION:Jessie Peterman Memorial Library\, 321 W. Main St.\, Floyd\, VA\, 24091
CATEGORIES:Historic,Kid friendly,Literary
ATTACH;FMTTYPE=image/jpeg:https://visitfloydva.com/wp-content/uploads/2026/01/SusannasMidnightRide_cover.jpg
GEO:36.910427;-80.32353
X-APPLE-STRUCTURED-LOCATION;VALUE=URI;X-ADDRESS=Jessie Peterman Memorial Library 321 W. Main St. Floyd VA 24091;X-APPLE-RADIUS=500;X-TITLE=321 W. Main St.:geo:-80.32353,36.910427
END:VEVENT
END:VCALENDAR