BEGIN:VCALENDAR
VERSION:2.0
PRODID:-//Visit Floyd Virginia - ECPv6.15.20//NONSGML v1.0//EN
CALSCALE:GREGORIAN
METHOD:PUBLISH
X-WR-CALNAME:Visit Floyd Virginia
X-ORIGINAL-URL:https://visitfloydva.com
X-WR-CALDESC:Events for Visit Floyd Virginia
REFRESH-INTERVAL;VALUE=DURATION:PT1H
X-Robots-Tag:noindex
X-PUBLISHED-TTL:PT1H
BEGIN:VTIMEZONE
TZID:America/New_York
BEGIN:DAYLIGHT
TZOFFSETFROM:-0500
TZOFFSETTO:-0400
TZNAME:EDT
DTSTART:20240310T070000
END:DAYLIGHT
BEGIN:STANDARD
TZOFFSETFROM:-0400
TZOFFSETTO:-0500
TZNAME:EST
DTSTART:20241103T060000
END:STANDARD
BEGIN:DAYLIGHT
TZOFFSETFROM:-0500
TZOFFSETTO:-0400
TZNAME:EDT
DTSTART:20250309T070000
END:DAYLIGHT
BEGIN:STANDARD
TZOFFSETFROM:-0400
TZOFFSETTO:-0500
TZNAME:EST
DTSTART:20251102T060000
END:STANDARD
BEGIN:DAYLIGHT
TZOFFSETFROM:-0500
TZOFFSETTO:-0400
TZNAME:EDT
DTSTART:20260308T070000
END:DAYLIGHT
BEGIN:STANDARD
TZOFFSETFROM:-0400
TZOFFSETTO:-0500
TZNAME:EST
DTSTART:20261101T060000
END:STANDARD
END:VTIMEZONE
BEGIN:VEVENT
DTSTART;TZID=America/New_York:20251005T133000
DTEND;TZID=America/New_York:20251005T173000
DTSTAMP:20260420T035435
CREATED:20250109T184230Z
LAST-MODIFIED:20250814T142054Z
UID:10028145-1759671000-1759685400@visitfloydva.com
SUMMARY:Sunday Music Jam
DESCRIPTION:Every Sunday afternoon The Floyd Country Store comes alive with community music during our old time and bluegrass music jams. Bring your instrument and join in the music or grab some food and be our audience! The jam is open and free for everyone. \n12:00pm – 1:00pm: Old-Time Beginner Jam in the Floyd Country Store Community Room\n1:30pm – 3:30pm: Old-Time Music Jam\n4:00pm – 5:30pm: Bluegrass Jam \nJoin us for old time beginner jams from 12:00 to 1:00 in the Floyd Country Store Community Room. The old time jam session starts at 1:30 and is hosted by a different string band each week\, leading tunes at a moderate speed. Traditional instruments and dancers welcome! At 4:00 the bluegrass jam kicks off\, with hosts who lead the group in bluegrass songs and tunes. Song selections and solos pass around the circle. Sunday Music Jams are a great way to see traditional music the way it has been played and handed down for centuries\, amongst friends and family in a community setting.
URL:https://visitfloydva.com/event/sunday-music-jam-8/2025-10-05/
LOCATION:Floyd Country Store
CATEGORIES:Dance,Kid friendly,Music
GEO:36.9103975;-80.3202795
END:VEVENT
BEGIN:VEVENT
DTSTART;TZID=America/New_York:20251012T133000
DTEND;TZID=America/New_York:20251012T173000
DTSTAMP:20260420T035435
CREATED:20250109T184230Z
LAST-MODIFIED:20250814T142054Z
UID:10028146-1760275800-1760290200@visitfloydva.com
SUMMARY:Sunday Music Jam
DESCRIPTION:Every Sunday afternoon The Floyd Country Store comes alive with community music during our old time and bluegrass music jams. Bring your instrument and join in the music or grab some food and be our audience! The jam is open and free for everyone. \n12:00pm – 1:00pm: Old-Time Beginner Jam in the Floyd Country Store Community Room\n1:30pm – 3:30pm: Old-Time Music Jam\n4:00pm – 5:30pm: Bluegrass Jam \nJoin us for old time beginner jams from 12:00 to 1:00 in the Floyd Country Store Community Room. The old time jam session starts at 1:30 and is hosted by a different string band each week\, leading tunes at a moderate speed. Traditional instruments and dancers welcome! At 4:00 the bluegrass jam kicks off\, with hosts who lead the group in bluegrass songs and tunes. Song selections and solos pass around the circle. Sunday Music Jams are a great way to see traditional music the way it has been played and handed down for centuries\, amongst friends and family in a community setting.
URL:https://visitfloydva.com/event/sunday-music-jam-8/2025-10-12/
LOCATION:Floyd Country Store
CATEGORIES:Dance,Kid friendly,Music
GEO:36.9103975;-80.3202795
END:VEVENT
BEGIN:VEVENT
DTSTART;TZID=America/New_York:20251018T130000
DTEND;TZID=America/New_York:20251018T180000
DTSTAMP:20260420T035435
CREATED:20251015T165310Z
LAST-MODIFIED:20251015T165310Z
UID:10030670-1760792400-1760810400@visitfloydva.com
SUMMARY:Oktoberfest at Deer Park Farm
DESCRIPTION:Join us for our first-ever Oktoberfest at Deer Park Farm! This family-friendly\, alcohol-free event is all about good food\, community\, and celebrating the harvest season.\nHere’s what you can look forward to:\nKitchen Tours – Take a behind-the-scenes look at where the magic happens.\nKrautober Celebration – Sample and shop our featured sauerkrauts and other fermented favorites\, all part of our October Krautober promotion.\nDelicious Food Offerings – Fresh\, local flavors straight from our kitchen.\nFamily Fun – A welcoming afternoon designed for all ages.\nBring your family\, bring your friends\, and celebrate the season with us here at the farm.\nAdmission: Free and open to the public
URL:https://visitfloydva.com/event/oktoberfest-at-deer-park-farm/
LOCATION:Deer Park Farm\, 317 Deer Park Way NE\, Pilot\, VA\, 24138
CATEGORIES:Dance,Dining,Family,Festivals,Kid friendly
ORGANIZER;CN="Deer Park Farm%2C LLC":MAILTO:deerparkfarmva@gmail.com
END:VEVENT
BEGIN:VEVENT
DTSTART;TZID=America/New_York:20251019T133000
DTEND;TZID=America/New_York:20251019T173000
DTSTAMP:20260420T035435
CREATED:20250109T184230Z
LAST-MODIFIED:20250814T142054Z
UID:10028147-1760880600-1760895000@visitfloydva.com
SUMMARY:Sunday Music Jam
DESCRIPTION:Every Sunday afternoon The Floyd Country Store comes alive with community music during our old time and bluegrass music jams. Bring your instrument and join in the music or grab some food and be our audience! The jam is open and free for everyone. \n12:00pm – 1:00pm: Old-Time Beginner Jam in the Floyd Country Store Community Room\n1:30pm – 3:30pm: Old-Time Music Jam\n4:00pm – 5:30pm: Bluegrass Jam \nJoin us for old time beginner jams from 12:00 to 1:00 in the Floyd Country Store Community Room. The old time jam session starts at 1:30 and is hosted by a different string band each week\, leading tunes at a moderate speed. Traditional instruments and dancers welcome! At 4:00 the bluegrass jam kicks off\, with hosts who lead the group in bluegrass songs and tunes. Song selections and solos pass around the circle. Sunday Music Jams are a great way to see traditional music the way it has been played and handed down for centuries\, amongst friends and family in a community setting.
URL:https://visitfloydva.com/event/sunday-music-jam-8/2025-10-19/
LOCATION:Floyd Country Store
CATEGORIES:Dance,Kid friendly,Music
GEO:36.9103975;-80.3202795
END:VEVENT
BEGIN:VEVENT
DTSTART;TZID=America/New_York:20251026T133000
DTEND;TZID=America/New_York:20251026T173000
DTSTAMP:20260420T035435
CREATED:20250109T184230Z
LAST-MODIFIED:20250814T142054Z
UID:10028148-1761485400-1761499800@visitfloydva.com
SUMMARY:Sunday Music Jam
DESCRIPTION:Every Sunday afternoon The Floyd Country Store comes alive with community music during our old time and bluegrass music jams. Bring your instrument and join in the music or grab some food and be our audience! The jam is open and free for everyone. \n12:00pm – 1:00pm: Old-Time Beginner Jam in the Floyd Country Store Community Room\n1:30pm – 3:30pm: Old-Time Music Jam\n4:00pm – 5:30pm: Bluegrass Jam \nJoin us for old time beginner jams from 12:00 to 1:00 in the Floyd Country Store Community Room. The old time jam session starts at 1:30 and is hosted by a different string band each week\, leading tunes at a moderate speed. Traditional instruments and dancers welcome! At 4:00 the bluegrass jam kicks off\, with hosts who lead the group in bluegrass songs and tunes. Song selections and solos pass around the circle. Sunday Music Jams are a great way to see traditional music the way it has been played and handed down for centuries\, amongst friends and family in a community setting.
URL:https://visitfloydva.com/event/sunday-music-jam-8/2025-10-26/
LOCATION:Floyd Country Store
CATEGORIES:Dance,Kid friendly,Music
GEO:36.9103975;-80.3202795
END:VEVENT
END:VCALENDAR