BEGIN:VCALENDAR
VERSION:2.0
PRODID:-//Visit Floyd Virginia - ECPv6.15.20//NONSGML v1.0//EN
CALSCALE:GREGORIAN
METHOD:PUBLISH
X-ORIGINAL-URL:https://visitfloydva.com
X-WR-CALDESC:Events for Visit Floyd Virginia
REFRESH-INTERVAL;VALUE=DURATION:PT1H
X-Robots-Tag:noindex
X-PUBLISHED-TTL:PT1H
BEGIN:VTIMEZONE
TZID:America/New_York
BEGIN:DAYLIGHT
TZOFFSETFROM:-0500
TZOFFSETTO:-0400
TZNAME:EDT
DTSTART:20250309T070000
END:DAYLIGHT
BEGIN:STANDARD
TZOFFSETFROM:-0400
TZOFFSETTO:-0500
TZNAME:EST
DTSTART:20251102T060000
END:STANDARD
BEGIN:DAYLIGHT
TZOFFSETFROM:-0500
TZOFFSETTO:-0400
TZNAME:EDT
DTSTART:20260308T070000
END:DAYLIGHT
BEGIN:STANDARD
TZOFFSETFROM:-0400
TZOFFSETTO:-0500
TZNAME:EST
DTSTART:20261101T060000
END:STANDARD
BEGIN:DAYLIGHT
TZOFFSETFROM:-0500
TZOFFSETTO:-0400
TZNAME:EDT
DTSTART:20270314T070000
END:DAYLIGHT
BEGIN:STANDARD
TZOFFSETFROM:-0400
TZOFFSETTO:-0500
TZNAME:EST
DTSTART:20271107T060000
END:STANDARD
END:VTIMEZONE
BEGIN:VEVENT
DTSTART;TZID=America/New_York:20260321T100000
DTEND;TZID=America/New_York:20260321T160000
DTSTAMP:20260419T181632
CREATED:20260316T145931Z
LAST-MODIFIED:20260316T145931Z
UID:10032263-1774087200-1774108800@visitfloydva.com
SUMMARY:Spring Awakening Open Studio
DESCRIPTION:As the season shifts and the days grow longer\, we invite you to gather with us for a celebration of renewal\, craftsmanship\, and the unveiling of our spring collections. \nThis open studio marks a turning point — a moment suspended between light and shadow — where new designs emerge alongside one-of-a-kind creations that define the season ahead. \nEnjoy a curated Equinox cocktail experience\, delectable bites that celebrate the season\, a thoughtfully styled lounge\, and an intentional unveiling of pieces created for this new creative chapter. \nJoin us as the light returns — as does a new season of design!
URL:https://visitfloydva.com/event/spring-awakening-open-studio/2026-03-21/
LOCATION:Anne Vaughan Designs\, 158 Pioneer Wy #4\, Floyd\, VA\, 24091
CATEGORIES:Arts & Handcraft,Community,Entertainment,Holiday,Shopping
ORGANIZER;CN="Anne Vaughan Designs":MAILTO:aaron@annevaughandesigns.com
GEO:36.9235841;-80.2420441
X-APPLE-STRUCTURED-LOCATION;VALUE=URI;X-ADDRESS=Anne Vaughan Designs 158 Pioneer Wy #4 Floyd VA 24091;X-APPLE-RADIUS=500;X-TITLE=158 Pioneer Wy #4:geo:-80.2420441,36.9235841
END:VEVENT
BEGIN:VEVENT
DTSTART;TZID=America/New_York:20260322T120000
DTEND;TZID=America/New_York:20260322T160000
DTSTAMP:20260419T181632
CREATED:20260316T145931Z
LAST-MODIFIED:20260316T145931Z
UID:10032264-1774180800-1774195200@visitfloydva.com
SUMMARY:Spring Awakening Open Studio
DESCRIPTION:As the season shifts and the days grow longer\, we invite you to gather with us for a celebration of renewal\, craftsmanship\, and the unveiling of our spring collections. \nThis open studio marks a turning point — a moment suspended between light and shadow — where new designs emerge alongside one-of-a-kind creations that define the season ahead. \nEnjoy a curated Equinox cocktail experience\, delectable bites that celebrate the season\, a thoughtfully styled lounge\, and an intentional unveiling of pieces created for this new creative chapter. \nJoin us as the light returns — as does a new season of design!
URL:https://visitfloydva.com/event/spring-awakening-open-studio/2026-03-22/
LOCATION:Anne Vaughan Designs\, 158 Pioneer Wy #4\, Floyd\, VA\, 24091
CATEGORIES:Arts & Handcraft,Community,Entertainment,Holiday,Shopping
ORGANIZER;CN="Anne Vaughan Designs":MAILTO:aaron@annevaughandesigns.com
GEO:36.9235841;-80.2420441
X-APPLE-STRUCTURED-LOCATION;VALUE=URI;X-ADDRESS=Anne Vaughan Designs 158 Pioneer Wy #4 Floyd VA 24091;X-APPLE-RADIUS=500;X-TITLE=158 Pioneer Wy #4:geo:-80.2420441,36.9235841
END:VEVENT
BEGIN:VEVENT
DTSTART;TZID=America/New_York:20260322T150000
DTEND;TZID=America/New_York:20260322T170000
DTSTAMP:20260419T181632
CREATED:20260306T173149Z
LAST-MODIFIED:20260309T222319Z
UID:10032215-1774191600-1774198800@visitfloydva.com
SUMMARY:A Celtic Celebration
DESCRIPTION:Come celebrate St. Patrick’s Day with a concert of traditional and contemporary dance tunes and songs from Ireland\, Scotland\, and Canada. \n\nKatherine Wiley – fiddle\, cello\nDavid Scheim – celtic harp\, piano\nGeoffrey Sauer – bagpipes\, smallipes\nJulie Kinn – vocals\, bodhran\, whistle\nJosh Kinn – vocals\, bouzouki\, mandolin\n\nAdults – $20\, Students – free \nMeet and greet with musicians after the concert. \nTickets available online now at vbrmf.org and at the door.
URL:https://visitfloydva.com/event/a-celtic-celebration-2/
LOCATION:The Presbyterian Church of Floyd\, 169 Newtown Road NE\, Floyd\, VA\, 24091\, United States
CATEGORIES:Dance,Holiday,Music
END:VEVENT
END:VCALENDAR