BEGIN:VCALENDAR
VERSION:2.0
PRODID:-//Visit Floyd Virginia - ECPv6.15.20//NONSGML v1.0//EN
CALSCALE:GREGORIAN
METHOD:PUBLISH
X-WR-CALNAME:Visit Floyd Virginia
X-ORIGINAL-URL:https://visitfloydva.com
X-WR-CALDESC:Events for Visit Floyd Virginia
REFRESH-INTERVAL;VALUE=DURATION:PT1H
X-Robots-Tag:noindex
X-PUBLISHED-TTL:PT1H
BEGIN:VTIMEZONE
TZID:America/New_York
BEGIN:DAYLIGHT
TZOFFSETFROM:-0500
TZOFFSETTO:-0400
TZNAME:EDT
DTSTART:20240310T070000
END:DAYLIGHT
BEGIN:STANDARD
TZOFFSETFROM:-0400
TZOFFSETTO:-0500
TZNAME:EST
DTSTART:20241103T060000
END:STANDARD
BEGIN:DAYLIGHT
TZOFFSETFROM:-0500
TZOFFSETTO:-0400
TZNAME:EDT
DTSTART:20250309T070000
END:DAYLIGHT
BEGIN:STANDARD
TZOFFSETFROM:-0400
TZOFFSETTO:-0500
TZNAME:EST
DTSTART:20251102T060000
END:STANDARD
BEGIN:DAYLIGHT
TZOFFSETFROM:-0500
TZOFFSETTO:-0400
TZNAME:EDT
DTSTART:20260308T070000
END:DAYLIGHT
BEGIN:STANDARD
TZOFFSETFROM:-0400
TZOFFSETTO:-0500
TZNAME:EST
DTSTART:20261101T060000
END:STANDARD
END:VTIMEZONE
BEGIN:VEVENT
DTSTART;TZID=America/New_York:20251109T140000
DTEND;TZID=America/New_York:20251109T170000
DTSTAMP:20260420T011347
CREATED:20251028T193804Z
LAST-MODIFIED:20251028T193804Z
UID:10030760-1762696800-1762707600@visitfloydva.com
SUMMARY:Holiday Craft Party at Moonlight Manor
DESCRIPTION:🎄✨ Christmas Craft Party at Moonlight Manor. $25 per person\nJoin us on Sunday\, November 9 at 2:00 PM for a cozy\, creative afternoon at Moonlight Manor! We’ll make four festive take-home projects:\n• Two keepsake ornaments\n• A tabletop Christmas tree décor piece\n• A mason jar cake mix gift with the recipe card and layered ingredients included\nNo experience needed—just bring your holiday spirit! All supplies provided\, with step-by-step guidance and light seasonal treats (think cocoa & cookies). Perfect for friends\, families\, or a mother-daughter afternoon. Limited seats—RSVP to save your spot! 🎁\nP.S. Turning it into a mini-getaway? Ask about room availability at Moonlight Manor. 🌙
URL:https://visitfloydva.com/event/holiday-craft-party-at-moonlight-manor/
LOCATION:Moonlight Manor Bed andBreakfast\, 136 Old fields Rd SW\, Floyd\, VA\, 24091\, United States
CATEGORIES:Arts & Handcraft,Holiday,Workshop
ATTACH;FMTTYPE=image/jpeg:https://visitfloydva.com/wp-content/uploads/2025/10/Silver-and-Red-Snowy-Christmas-Bazaar-Facebook-Event-Cover.jpg
ORGANIZER;CN="Moonlight Manor Bed &amp%3B Breakfast":MAILTO:moonlightmanorfloyd.com
END:VEVENT
BEGIN:VEVENT
DTSTART;TZID=America/New_York:20251129T110000
DTEND;TZID=America/New_York:20251129T160000
DTSTAMP:20260420T011347
CREATED:20251110T164022Z
LAST-MODIFIED:20251112T180455Z
UID:10030817-1764414000-1764432000@visitfloydva.com
SUMMARY:Shop Small Artisan Market
DESCRIPTION:Join us for the Shop Small Artisan Market on Small Business Saturday and celebrate Floyd’s local makers\, artisans\, and small businesses!\n\nStroll along Jacksonville Circle (road between the Floyd County Courthouse and the Floyd County Administration Building) and shop a variety of handmade goods\, art\, crafts\, and gifts. It’s the perfect time to kick off your holiday shopping.\n\nThis market will also serve as the starting point for your Shop Small Saturday adventure! Stop by the Welcome Table to pick up a map of local businesses and a free tote bag (while supplies last) to carry your Floyd finds as you explore shops throughout town.\n\nCome out\, shop small\, and support the local businesses that make Floyd unique!\n\nVendor spaces are available. For vendor inquiries\, contact tourismdirector@visitfloydva.com.
URL:https://visitfloydva.com/event/shop-small-artisan-market/
LOCATION:Jacksonville Cir\, Jacksonville Cir\, Floyd\, VA\, 24091
CATEGORIES:Arts & Handcraft,Holiday,Shopping
END:VEVENT
END:VCALENDAR