BEGIN:VCALENDAR
VERSION:2.0
PRODID:-//Visit Floyd Virginia - ECPv6.15.20//NONSGML v1.0//EN
CALSCALE:GREGORIAN
METHOD:PUBLISH
X-ORIGINAL-URL:https://visitfloydva.com
X-WR-CALDESC:Events for Visit Floyd Virginia
REFRESH-INTERVAL;VALUE=DURATION:PT1H
X-Robots-Tag:noindex
X-PUBLISHED-TTL:PT1H
BEGIN:VTIMEZONE
TZID:America/New_York
BEGIN:DAYLIGHT
TZOFFSETFROM:-0500
TZOFFSETTO:-0400
TZNAME:EDT
DTSTART:20240310T070000
END:DAYLIGHT
BEGIN:STANDARD
TZOFFSETFROM:-0400
TZOFFSETTO:-0500
TZNAME:EST
DTSTART:20241103T060000
END:STANDARD
BEGIN:DAYLIGHT
TZOFFSETFROM:-0500
TZOFFSETTO:-0400
TZNAME:EDT
DTSTART:20250309T070000
END:DAYLIGHT
BEGIN:STANDARD
TZOFFSETFROM:-0400
TZOFFSETTO:-0500
TZNAME:EST
DTSTART:20251102T060000
END:STANDARD
BEGIN:DAYLIGHT
TZOFFSETFROM:-0500
TZOFFSETTO:-0400
TZNAME:EDT
DTSTART:20260308T070000
END:DAYLIGHT
BEGIN:STANDARD
TZOFFSETFROM:-0400
TZOFFSETTO:-0500
TZNAME:EST
DTSTART:20261101T060000
END:STANDARD
END:VTIMEZONE
BEGIN:VEVENT
DTSTART;TZID=America/New_York:20251031T200000
DTEND;TZID=America/New_York:20251031T230000
DTSTAMP:20260420T023413
CREATED:20250909T170645Z
LAST-MODIFIED:20250909T170645Z
UID:10030364-1761940800-1761951600@visitfloydva.com
SUMMARY:Jontavious Willis w/Juke Joint Band
DESCRIPTION:Epperly Mill Music & Arts presents a night of soulful upbeat blues with Jontavious Willis and his Juke Joint band! Get ready to groove on October 31\, 2025 at 8:00 pm (Eastern Daylight Time). Let Jontavious and the band’s infectious energy transport you to the heart of the south. This is a Halloween night event with costume contest (costume not necessary) Morrison and Matuk open the show with rockin acoustic music. Beer/Wine and great soul Food will be available!
URL:https://visitfloydva.com/event/jontavious-willis-w-juke-joint-band/
LOCATION:Epperly Mill\, 532 Epperly Mill Rd SW\, Floyd\, VA\, 24091
CATEGORIES:Holiday,Music
ORGANIZER;CN="Epperly Mill Music and Arts":MAILTO:epperlymill@gmail.com
END:VEVENT
END:VCALENDAR