BEGIN:VCALENDAR
VERSION:2.0
PRODID:-//Visit Floyd Virginia - ECPv6.15.20//NONSGML v1.0//EN
CALSCALE:GREGORIAN
METHOD:PUBLISH
X-WR-CALNAME:Visit Floyd Virginia
X-ORIGINAL-URL:https://visitfloydva.com
X-WR-CALDESC:Events for Visit Floyd Virginia
REFRESH-INTERVAL;VALUE=DURATION:PT1H
X-Robots-Tag:noindex
X-PUBLISHED-TTL:PT1H
BEGIN:VTIMEZONE
TZID:America/New_York
BEGIN:DAYLIGHT
TZOFFSETFROM:-0500
TZOFFSETTO:-0400
TZNAME:EDT
DTSTART:20230312T070000
END:DAYLIGHT
BEGIN:STANDARD
TZOFFSETFROM:-0400
TZOFFSETTO:-0500
TZNAME:EST
DTSTART:20231105T060000
END:STANDARD
BEGIN:DAYLIGHT
TZOFFSETFROM:-0500
TZOFFSETTO:-0400
TZNAME:EDT
DTSTART:20240310T070000
END:DAYLIGHT
BEGIN:STANDARD
TZOFFSETFROM:-0400
TZOFFSETTO:-0500
TZNAME:EST
DTSTART:20241103T060000
END:STANDARD
BEGIN:DAYLIGHT
TZOFFSETFROM:-0500
TZOFFSETTO:-0400
TZNAME:EDT
DTSTART:20250309T070000
END:DAYLIGHT
BEGIN:STANDARD
TZOFFSETFROM:-0400
TZOFFSETTO:-0500
TZNAME:EST
DTSTART:20251102T060000
END:STANDARD
BEGIN:DAYLIGHT
TZOFFSETFROM:-0500
TZOFFSETTO:-0400
TZNAME:EDT
DTSTART:20260308T070000
END:DAYLIGHT
BEGIN:STANDARD
TZOFFSETFROM:-0400
TZOFFSETTO:-0500
TZNAME:EST
DTSTART:20261101T060000
END:STANDARD
END:VTIMEZONE
BEGIN:VEVENT
DTSTART;TZID=America/New_York:20251108T100000
DTEND;TZID=America/New_York:20251108T130000
DTSTAMP:20260420T050759
CREATED:20250428T141515Z
LAST-MODIFIED:20251107T160935Z
UID:10028409-1762596000-1762606800@visitfloydva.com
SUMMARY:Memories Sit Here
DESCRIPTION:“Memories Sit Here — Stools\, Chairs\, Benches & Their Makers” is a cultural arts exhibit featuring more than thirty Floyd County woodworkers. In addition\, Old Church Gallery permanent collections on display include quilts\, tools\, baskets\, folk art\, coverlets\, music\, archaeological pieces\, and oral histories. The Gallery house has ample parking and is accessible from the Floyd Heritage Walking Trail.
URL:https://visitfloydva.com/event/memories-sit-here-2/2025-11-08/
LOCATION:Old Church Gallery\, 110 Wilson St.\, Floyd\, VA\, 24091\, Select a Country:
CATEGORIES:Arts & Handcraft,Community,Family,Historic
ATTACH;FMTTYPE=image/jpeg:https://visitfloydva.com/wp-content/uploads/2025/04/IMG_4884.jpg
ORGANIZER;CN="Old Church Gallery%2C Ltd.":MAILTO:oldchurchgallery@swva.net
GEO:36.911011;-80.317746
X-APPLE-STRUCTURED-LOCATION;VALUE=URI;X-ADDRESS=Old Church Gallery 110 Wilson St. Floyd VA 24091 Select a Country:;X-APPLE-RADIUS=500;X-TITLE=110 Wilson St.:geo:-80.317746,36.911011
END:VEVENT
BEGIN:VEVENT
DTSTART;TZID=America/New_York:20251107T140000
DTEND;TZID=America/New_York:20251107T170000
DTSTAMP:20260420T050759
CREATED:20250428T141210Z
LAST-MODIFIED:20251107T160557Z
UID:10028372-1762524000-1762534800@visitfloydva.com
SUMMARY:Memories Sit Here
DESCRIPTION:“Memories Sit Here —Stools\, Chairs\, Benches & Their Makers” features more than thirty Floyd County woodworkers. Old Church Gallery permanent collections of folk art\, coverlets\, baskets\, tools\, quilts\, and soapstone pieces are also on exhibit. The Gallery is open every Saturday from 10:00 to 1:00. There is ample parking and the Gallery is accessible from the Floyd Heritage Walking Trail.
URL:https://visitfloydva.com/event/memories-sit-here/2025-11-07/
LOCATION:Old Church Gallery\, 110 Wilson St.\, Floyd\, VA\, 24091\, Select a Country:
CATEGORIES:Arts & Handcraft,Community,Family,Historic
ATTACH;FMTTYPE=image/jpeg:https://visitfloydva.com/wp-content/uploads/2025/04/IMG_4914.jpg
ORGANIZER;CN="Old Church Gallery%2C Ltd.":MAILTO:oldchurchgallery@swva.net
GEO:36.911011;-80.317746
X-APPLE-STRUCTURED-LOCATION;VALUE=URI;X-ADDRESS=Old Church Gallery 110 Wilson St. Floyd VA 24091 Select a Country:;X-APPLE-RADIUS=500;X-TITLE=110 Wilson St.:geo:-80.317746,36.911011
END:VEVENT
BEGIN:VEVENT
DTSTART;TZID=America/New_York:20251107T120000
DTEND;TZID=America/New_York:20251107T160000
DTSTAMP:20260420T050759
CREATED:20250707T140731Z
LAST-MODIFIED:20251107T161421Z
UID:10030188-1762516800-1762531200@visitfloydva.com
SUMMARY:Music of the Mountains Exhibit
DESCRIPTION:The Music of the Mountains exhibit at the Floyd Historical Society museum focuses on the music of Appalachia\, particularly music that has a Floyd County touch. It includes items that range from early church music to the present music scene\, along with information about individual musicians such as Blind Alfred Reed\, Randall Hylton\, Arthur Conner\, as well as local groups. \nThe Museum is open each Friday and Saturday (through December 6) from noon until 4 pm. There is no admission fee. \nThe Museum Store specializes in books with a focus on local history. We also have a variety of other items\, many of them perfect for gifting history lovers. \nCome visit us in person while you’re in Floyd. There’s a friendly docent awaiting. And visit our website year-round; it’s always open and you can shop from wherever you are!
URL:https://visitfloydva.com/event/music-of-the-mountains-exhibit/2025-11-07/
LOCATION:Floyd County Historical Society Museum\, 217 North Locust St.\, Floyd\, VA\, 24091\, United States
CATEGORIES:Arts & Handcraft,Education,Family,Historic,Music
ATTACH;FMTTYPE=image/jpeg:https://visitfloydva.com/wp-content/uploads/2025/07/mountain-music-exhibit-collage.jpg
ORGANIZER;CN="Floyd County Historical Society":MAILTO:floydhistoricalsociety@gmail.com
GEO:36.913873;-80.320442
X-APPLE-STRUCTURED-LOCATION;VALUE=URI;X-ADDRESS=Floyd County Historical Society Museum 217 North Locust St. Floyd VA 24091 United States;X-APPLE-RADIUS=500;X-TITLE=217 North Locust St.:geo:-80.320442,36.913873
END:VEVENT
BEGIN:VEVENT
DTSTART;TZID=America/New_York:20251018T100000
DTEND;TZID=America/New_York:20251018T113000
DTSTAMP:20260420T050759
CREATED:20250905T132745Z
LAST-MODIFIED:20250905T132745Z
UID:10030343-1760781600-1760787000@visitfloydva.com
SUMMARY:Cemetery Tour of Jacksonville Burial Ground with Gino Williams
DESCRIPTION:Join Floyd County Historical Society President Gino Williams on a tour of the Jacksonville Burial Ground\, notable for its historical signicance as well as its unparalled view of the region’s skyline. \nWhen the old Jacksonville Cemetery in town (located off the street in the first block of South Locust St.) began to reach capacity in the early 1850s\, J.P. Proffitt conveyed “2 acres and 36 poles” of land to Z. T. Dobyns and others to establish the new cemetery. \nWe will meet at the Gazebo\, learn about the Burial Ground’s history\, and discuss the lives of some of those buried there. (The Gazebo is near the highest point of the tract\, towards the front corner\, towards the center of town.)
URL:https://visitfloydva.com/event/cemetery-tour-of-jacksonville-burial-ground-with-gino-williams/
LOCATION:Jacksonville Burial Ground\, 120 Parkway Ln S\, Floyd\, VA\, 24091\, United States
CATEGORIES:Education,Historic
ATTACH;FMTTYPE=image/jpeg:https://visitfloydva.com/wp-content/uploads/2025/09/Jacksonville-Burial-Ground-IMG_3758_20180911-DMF.jpg
END:VEVENT
BEGIN:VEVENT
DTSTART;TZID=America/New_York:20250816T103000
DTEND;TZID=America/New_York:20250816T120000
DTSTAMP:20260420T050759
CREATED:20250804T161530Z
LAST-MODIFIED:20250804T161530Z
UID:10030212-1755340200-1755345600@visitfloydva.com
SUMMARY:Likker—at Home & Away
DESCRIPTION:Step back in time with the Managing Director of the Franklin County Historical Society in Rocky Mount\, Virginia. A devoted history enthusiast and captivating storyteller\, she brings to life the exhilarating—and often outrageous—heyday of moonshining in our region. Come hear the true (and truly wild) tales that helped shape Appalachian legend. Note: Attendees will receive discount coupons from 5 Mile Mountain Distillery.
URL:https://visitfloydva.com/event/likker-at-home-away/
LOCATION:Floyd Center for the Arts\, 220 Parkway Lane S\, Floyd\, VA\, 24091\, United States
CATEGORIES:Distillery,Education,Historic,Spirits
ATTACH;FMTTYPE=image/jpeg:https://visitfloydva.com/wp-content/uploads/2025/07/Likker-at-Home-Away-Linda-Stanley-feature-image.jpg
GEO:36.9039185;-80.3170382
X-APPLE-STRUCTURED-LOCATION;VALUE=URI;X-ADDRESS=Floyd Center for the Arts 220 Parkway Lane S Floyd VA 24091 United States;X-APPLE-RADIUS=500;X-TITLE=220 Parkway Lane S:geo:-80.3170382,36.9039185
END:VEVENT
BEGIN:VEVENT
DTSTART;TZID=America/New_York:20250614T103000
DTEND;TZID=America/New_York:20250614T113000
DTSTAMP:20260420T050759
CREATED:20250528T134112Z
LAST-MODIFIED:20250529T201409Z
UID:10030105-1749897000-1749900600@visitfloydva.com
SUMMARY:Historic Log Building of Floyd County and the Region
DESCRIPTION:Join us for the free event. Mike Pulice will be discussing the historic structures of Floyd County and the surrounding regions. Light refreshments will be served.
URL:https://visitfloydva.com/event/historic-log-building-of-floyd-county-and-the-region/
LOCATION:Floyd Center for the Arts\, 220 Parkway Lane S\, Floyd\, VA\, 24091\, United States
CATEGORIES:Education,Historic
ATTACH;FMTTYPE=image/jpeg:https://visitfloydva.com/wp-content/uploads/2025/05/cab.jpg
ORGANIZER;CN="Floyd County Historical Society":MAILTO:floydhistoricalsociety@gmail.com
GEO:36.9039185;-80.3170382
X-APPLE-STRUCTURED-LOCATION;VALUE=URI;X-ADDRESS=Floyd Center for the Arts 220 Parkway Lane S Floyd VA 24091 United States;X-APPLE-RADIUS=500;X-TITLE=220 Parkway Lane S:geo:-80.3170382,36.9039185
END:VEVENT
BEGIN:VEVENT
DTSTART;TZID=America/New_York:20241019T110000
DTEND;TZID=America/New_York:20241019T123000
DTSTAMP:20260420T050759
CREATED:20241008T171910Z
LAST-MODIFIED:20241008T171910Z
UID:10027911-1729335600-1729341000@visitfloydva.com
SUMMARY:Oral Histories of Floyd County: Past and Present
DESCRIPTION:October is Local History Month in Virginia! Join us as we welcome the Floyd County Historical Society to learn about the oral histories preserved in Floyd County. Bring your own stories to share with the community!
URL:https://visitfloydva.com/event/oral-histories-of-floyd-county-past-and-present/
LOCATION:Jessie Peterman Memorial Library\, 321 W. Main St.\, Floyd\, VA\, 24091
CATEGORIES:Historic
ATTACH;FMTTYPE=image/png:https://visitfloydva.com/wp-content/uploads/2024/10/An-Oral-History-of-Floyd-County-1.png
GEO:36.910427;-80.32353
X-APPLE-STRUCTURED-LOCATION;VALUE=URI;X-ADDRESS=Jessie Peterman Memorial Library 321 W. Main St. Floyd VA 24091;X-APPLE-RADIUS=500;X-TITLE=321 W. Main St.:geo:-80.32353,36.910427
END:VEVENT
BEGIN:VEVENT
DTSTART;TZID=America/New_York:20240921T103000
DTEND;TZID=America/New_York:20240921T140000
DTSTAMP:20260420T050759
CREATED:20240916T203719Z
LAST-MODIFIED:20240916T203719Z
UID:10029538-1726914600-1726927200@visitfloydva.com
SUMMARY:What We Carried-Tracing Appalachia's Musical Roots
DESCRIPTION:Join us for a comprehensive exploration of the development of a musical tradition that has become synonymous with our region. With special guest Emily Blankenship-Tucker\, we will delve into the cultural roots of Appalachian music and uncover the stories of the people and customs that have shaped the distinct sounds of the mountain south.
URL:https://visitfloydva.com/event/what-we-carried-tracing-appalachias-musical-roots/
LOCATION:Floyd Center for the Arts\, 220 Parkway Lane S\, Floyd\, VA\, 24091\, United States
CATEGORIES:Historic,Music
ORGANIZER;CN="Floyd County Historical Society":MAILTO:floydhistoricalsociety@gmail.com
GEO:36.9039185;-80.3170382
X-APPLE-STRUCTURED-LOCATION;VALUE=URI;X-ADDRESS=Floyd Center for the Arts 220 Parkway Lane S Floyd VA 24091 United States;X-APPLE-RADIUS=500;X-TITLE=220 Parkway Lane S:geo:-80.3170382,36.9039185
END:VEVENT
BEGIN:VEVENT
DTSTART;TZID=America/New_York:20240817T140000
DTEND;TZID=America/New_York:20240817T160000
DTSTAMP:20260420T050759
CREATED:20240816T180835Z
LAST-MODIFIED:20240816T180835Z
UID:10027829-1723903200-1723910400@visitfloydva.com
SUMMARY:Crafting Appalachia: Tradition & Innovation Art Exhibit Opening Reception
DESCRIPTION:You’re invited to a FREE public opening reception this Saturday\, August 17\, from 2-4 PM!\nWe hope you’ll join us to unveil three remarkable exhibits: \n1. McNeil-Epperly Family Legacy: Discover five generations of quilt-making tradition starting with Florence Aldridge McNeil\, who began quilting in the early 1900s. From her early functional quilts to the intricate Double Wedding Rings and Seven Sisters she crafted for her grandchildren\, this exhibit showcases the rich heritage of Appalachian quilting.\n2. Crafting Appalachia\, Tradition and Innovation: Explore the vibrant world of Appalachian craft! This exhibition celebrates both traditional and innovative forms of craft\, featuring fiber arts\, basketry\, woodworking\, ceramics\, metalsmithing\, and more. Witness how these time-honored crafts are evolving into fine art.\n3. Plein Air Preview: Get a sneak peek at the juried artists of the upcoming Floyd Plein Air Biennial. Each artist presents a single painting\, offering a glimpse of the exceptional talent that will be featured at this week-long outdoor festival. \nDon’t miss this opportunity to immerse yourself in the beauty of traditional and contemporary Appalachian arts. See you there!
URL:https://visitfloydva.com/event/crafting-appalachia-tradition-innovation-art-exhibit-opening-reception/
LOCATION:Floyd Center for the Arts\, 220 Parkway Lane S\, Floyd\, VA\, 24091\, United States
CATEGORIES:Arts & Handcraft,Community,Education,Historic
ATTACH;FMTTYPE=image/png:https://visitfloydva.com/wp-content/uploads/2024/08/Graphic-Crafting-Appalachia.png
GEO:36.9039185;-80.3170382
X-APPLE-STRUCTURED-LOCATION;VALUE=URI;X-ADDRESS=Floyd Center for the Arts 220 Parkway Lane S Floyd VA 24091 United States;X-APPLE-RADIUS=500;X-TITLE=220 Parkway Lane S:geo:-80.3170382,36.9039185
END:VEVENT
BEGIN:VEVENT
DTSTART;TZID=America/New_York:20240622T103000
DTEND;TZID=America/New_York:20240622T113000
DTSTAMP:20260420T050759
CREATED:20240528T142623Z
LAST-MODIFIED:20240528T142623Z
UID:10027780-1719052200-1719055800@visitfloydva.com
SUMMARY:Native American Ritual Stone Construction in Virginia’s Blue Ridge Region
DESCRIPTION:This event is free to the public. \nIn centuries past\, Native American peoples of the Southeast built thousands of stone structures for ritual purposes. The illustrated talk will focus on native stone structures in the Blue Ridge region of Virginia\, describing their forms and proposing interpretations consistent with what is known about Southeastern Native American cultures and beliefs through ethnography and analysis of material culture. \nDan Pezzoni is an architectural historian with the nationwide preservation consulting firm Landmark Preservation Associates based in Lexington\, Virginia. He is the author of the National Register of Historic Places designation report for Floyd County’s Phlegar House and wrote “Blacksburg: An Architectural Overview\,” a chapter in A Special Place for 200 Years: A History of Blacksburg\, Virginia (1998). Since 2020 he has seen or documented thousands of native stone structures from Vermont to Colorado.
URL:https://visitfloydva.com/event/native-american-ritual-stone-construction-in-virginias-blue-ridge-region/
LOCATION:Floyd Center for the Arts\, 220 Parkway Lane S\, Floyd\, VA\, 24091\, United States
CATEGORIES:Historic
ATTACH;FMTTYPE=image/png:https://visitfloydva.com/wp-content/uploads/2024/05/Hist-Society.png
GEO:36.9039185;-80.3170382
X-APPLE-STRUCTURED-LOCATION;VALUE=URI;X-ADDRESS=Floyd Center for the Arts 220 Parkway Lane S Floyd VA 24091 United States;X-APPLE-RADIUS=500;X-TITLE=220 Parkway Lane S:geo:-80.3170382,36.9039185
END:VEVENT
BEGIN:VEVENT
DTSTART;TZID=America/New_York:20240518T103000
DTEND;TZID=America/New_York:20240518T113000
DTSTAMP:20260420T050759
CREATED:20240507T163604Z
LAST-MODIFIED:20240517T032019Z
UID:10029375-1716028200-1716031800@visitfloydva.com
SUMMARY:History's Fingerprints with Ben Jackson
DESCRIPTION:One man’s retirement was the beginning of a course of study about his origins. The pursuit led him to an unusual hunting expedition amid the handmade bricks from the eighteenth and nineteenth centuries that can still be found in buildings around Southwest Virginia. He’s been tracking down the handprints of slaves. Join us as we explore the historic Masonic Lodge to see what clues have been left behind by the people who made the brick.
URL:https://visitfloydva.com/event/historys-fingerprints-2/
LOCATION:VA
CATEGORIES:Historic
ATTACH;FMTTYPE=image/png:https://visitfloydva.com/wp-content/uploads/2024/05/112.png
END:VEVENT
END:VCALENDAR