BEGIN:VCALENDAR
VERSION:2.0
PRODID:-//Visit Floyd Virginia - ECPv6.15.20//NONSGML v1.0//EN
CALSCALE:GREGORIAN
METHOD:PUBLISH
X-ORIGINAL-URL:https://visitfloydva.com
X-WR-CALDESC:Events for Visit Floyd Virginia
REFRESH-INTERVAL;VALUE=DURATION:PT1H
X-Robots-Tag:noindex
X-PUBLISHED-TTL:PT1H
BEGIN:VTIMEZONE
TZID:America/New_York
BEGIN:DAYLIGHT
TZOFFSETFROM:-0500
TZOFFSETTO:-0400
TZNAME:EDT
DTSTART:20250309T070000
END:DAYLIGHT
BEGIN:STANDARD
TZOFFSETFROM:-0400
TZOFFSETTO:-0500
TZNAME:EST
DTSTART:20251102T060000
END:STANDARD
BEGIN:DAYLIGHT
TZOFFSETFROM:-0500
TZOFFSETTO:-0400
TZNAME:EDT
DTSTART:20260308T070000
END:DAYLIGHT
BEGIN:STANDARD
TZOFFSETFROM:-0400
TZOFFSETTO:-0500
TZNAME:EST
DTSTART:20261101T060000
END:STANDARD
BEGIN:DAYLIGHT
TZOFFSETFROM:-0500
TZOFFSETTO:-0400
TZNAME:EDT
DTSTART:20270314T070000
END:DAYLIGHT
BEGIN:STANDARD
TZOFFSETFROM:-0400
TZOFFSETTO:-0500
TZNAME:EST
DTSTART:20271107T060000
END:STANDARD
END:VTIMEZONE
BEGIN:VEVENT
DTSTART;TZID=America/New_York:20260502T080000
DTEND;TZID=America/New_York:20260502T173000
DTSTAMP:20260420T022011
CREATED:20260414T165424Z
LAST-MODIFIED:20260414T170246Z
UID:10032445-1777708800-1777743000@visitfloydva.com
SUMMARY:Buffalo Mountain Throw Pink Takeover
DESCRIPTION:Two separate events\, one great day in the beautiful mountains of Virginia. The 1st Round\, Doubles Competition\, will start at 10 AM. The Singles Competition (Women Only) will start around 1:30 PM (approximate start depending on the length of round one.) \nTo register for the Singles Competition – Women Only\, click here. \nTo register for the DOUBLES EVENT\, open to ALL divisions\, not just women\, click here. \nRegistration closes April 27 at 8:00am EDT \n  \nNOTE THE DOUBLES EVENT WILL BE A USDGC QUALIFIER FOR MA1\, FA1\, MA2\, FA2\, MA40\, AND FA40. Other divisions will be available for doubles for those who do not want to compete in the official qualifier—cash payout for pro doubles winners. \nCabins are available to rent on the property\, and it’s just two miles off the Blue Ridge Parkway—a great way to enjoy spring disc golf. \nThe layout for all women’s divisions will be 18 holes using a combination of Red to Red (previous layout) and four temporary holes we’re switching in this year to cut out some of the exhausting\, hilly transitions on the course. \nTHINGS YOU’LL LOVE: \n– Rental cabins on the property (cabinsofftheparkway.com)\n– Free lunch\n– Fun Trophies & Gift baskets\n– Side games and prizes all weekend\n– Just 1 mile off Blue Ridge Parkway\n– Only 2 hours from Charlotte\n– Hiking and fishing on the property \nThrow Pink is covering all of the DGS/PayPal fees for this registration to keep players from having to pay them twice\, once for singles sign-up and once for doubles sign-up. You will only cover the fees for doubles registration\, and we will cover the fees for singles. Thanks for playing! \nPass Thru Fees:\nCEP Event Details: The $3 PDGA per-player fee is donated to the event charity and must be matched by the event.\nIn addition to the matched $3 PDGA per-player fee\, at least 25% of the remaining net entry fees must also be donated to the event charity. Read more about the program here: https://www.pdga.com/td/pdga-competition-endowment-program
URL:https://visitfloydva.com/event/buffalo-mountain-throw-pink-takeover-2/
LOCATION:Buffalo Mountain Disc Golf\, 579 Halls Store Road\, Willis\, VA\, 24380
CATEGORIES:Games,Outdoor Recreation
ATTACH;FMTTYPE=image/jpeg:https://visitfloydva.com/wp-content/uploads/2026/04/Buffalo-Mountain-Throw-Pink-Takeover.jpg
END:VEVENT
END:VCALENDAR