BEGIN:VCALENDAR
VERSION:2.0
PRODID:-//Visit Floyd Virginia - ECPv6.15.20//NONSGML v1.0//EN
CALSCALE:GREGORIAN
METHOD:PUBLISH
X-ORIGINAL-URL:https://visitfloydva.com
X-WR-CALDESC:Events for Visit Floyd Virginia
REFRESH-INTERVAL;VALUE=DURATION:PT1H
X-Robots-Tag:noindex
X-PUBLISHED-TTL:PT1H
BEGIN:VTIMEZONE
TZID:America/New_York
BEGIN:DAYLIGHT
TZOFFSETFROM:-0500
TZOFFSETTO:-0400
TZNAME:EDT
DTSTART:20250309T070000
END:DAYLIGHT
BEGIN:STANDARD
TZOFFSETFROM:-0400
TZOFFSETTO:-0500
TZNAME:EST
DTSTART:20251102T060000
END:STANDARD
BEGIN:DAYLIGHT
TZOFFSETFROM:-0500
TZOFFSETTO:-0400
TZNAME:EDT
DTSTART:20260308T070000
END:DAYLIGHT
BEGIN:STANDARD
TZOFFSETFROM:-0400
TZOFFSETTO:-0500
TZNAME:EST
DTSTART:20261101T060000
END:STANDARD
BEGIN:DAYLIGHT
TZOFFSETFROM:-0500
TZOFFSETTO:-0400
TZNAME:EDT
DTSTART:20270314T070000
END:DAYLIGHT
BEGIN:STANDARD
TZOFFSETFROM:-0400
TZOFFSETTO:-0500
TZNAME:EST
DTSTART:20271107T060000
END:STANDARD
END:VTIMEZONE
BEGIN:VEVENT
DTSTART;TZID=America/New_York:20260106T180000
DTEND;TZID=America/New_York:20260106T200000
DTSTAMP:20260420T035430
CREATED:20211201T121742Z
LAST-MODIFIED:20251106T164225Z
UID:10026482-1767722400-1767729600@visitfloydva.com
SUMMARY:Bingo & Nacho Night!
DESCRIPTION:On Tuesdays\, we play BINGO and eat Nacho Grandma’s Nachos! \nRounds are called from 6-8pm and the nachos are served all evening long!\nFeaturing amazing local business sponsors and some fantastic prizes!\n$1 per card\, max of 3 cards per person.
URL:https://visitfloydva.com/event/bingo-nacho-night/2026-01-06/
LOCATION:VA
CATEGORIES:Brewery,Games
ATTACH;FMTTYPE=image/jpeg:https://visitfloydva.com/wp-content/uploads/2021/11/Bingo-promo-1.jpg
END:VEVENT
END:VCALENDAR