BEGIN:VCALENDAR
VERSION:2.0
PRODID:-//Visit Floyd Virginia - ECPv6.15.20//NONSGML v1.0//EN
CALSCALE:GREGORIAN
METHOD:PUBLISH
X-WR-CALNAME:Visit Floyd Virginia
X-ORIGINAL-URL:https://visitfloydva.com
X-WR-CALDESC:Events for Visit Floyd Virginia
REFRESH-INTERVAL;VALUE=DURATION:PT1H
X-Robots-Tag:noindex
X-PUBLISHED-TTL:PT1H
BEGIN:VTIMEZONE
TZID:America/New_York
BEGIN:DAYLIGHT
TZOFFSETFROM:-0500
TZOFFSETTO:-0400
TZNAME:EDT
DTSTART:20240310T070000
END:DAYLIGHT
BEGIN:STANDARD
TZOFFSETFROM:-0400
TZOFFSETTO:-0500
TZNAME:EST
DTSTART:20241103T060000
END:STANDARD
BEGIN:DAYLIGHT
TZOFFSETFROM:-0500
TZOFFSETTO:-0400
TZNAME:EDT
DTSTART:20250309T070000
END:DAYLIGHT
BEGIN:STANDARD
TZOFFSETFROM:-0400
TZOFFSETTO:-0500
TZNAME:EST
DTSTART:20251102T060000
END:STANDARD
BEGIN:DAYLIGHT
TZOFFSETFROM:-0500
TZOFFSETTO:-0400
TZNAME:EDT
DTSTART:20260308T070000
END:DAYLIGHT
BEGIN:STANDARD
TZOFFSETFROM:-0400
TZOFFSETTO:-0500
TZNAME:EST
DTSTART:20261101T060000
END:STANDARD
END:VTIMEZONE
BEGIN:VEVENT
DTSTART;TZID=America/New_York:20250913T110000
DTEND;TZID=America/New_York:20250913T200000
DTSTAMP:20260420T084702
CREATED:20250521T133617Z
LAST-MODIFIED:20250521T133617Z
UID:10028453-1757761200-1757793600@visitfloydva.com
SUMMARY:Mountain Valor Fest
DESCRIPTION:Mountain Valor Fest 2025\nDate: September 13\, 2025\nTime: 11:00 AM – 8:00 PM\nLocation: Crooked Mountain Farm & Campground\, Floyd\, VA \nFREE \nMountain Valor Fest (MVF) is a powerful one-day outreach event connecting rural veterans and their families with the resources\, support\, and community they deserve. From 11 AM to 8 PM\, enjoy live music\, family-friendly activities\, food trucks\, and connect with over 40 local\, state\, and national veteran service providers. \nAt 4:00 PM\, join us for a remembrance ceremony honoring those lost on 9/11 and through the wars that followed—a solemn moment to reflect\, remember\, and recommit to those still standing. \nThis event is open to everyone—veterans\, families\, caregivers\, and community members. Whether you come to connect\, support\, learn\, or just enjoy the day\, you’re part of the mission. \nMore info: www.mtnvalor.org/fest
URL:https://visitfloydva.com/event/mountain-valor-fest-2/
LOCATION:Crooked Mountain\, 1378 Shooting Creek Rd SE\, Floyd\, VA\, 24091
CATEGORIES:Community,Family,Kid friendly
ATTACH;FMTTYPE=image/jpeg:https://visitfloydva.com/wp-content/uploads/2025/05/MVlogo-square.jpg
ORGANIZER;CN="Mountain Valor Veteran Services":MAILTO:mountainvalorvets@gmail.com
END:VEVENT
BEGIN:VEVENT
DTSTART;TZID=America/New_York:20250920T080000
DTEND;TZID=America/New_York:20250920T113000
DTSTAMP:20260420T084702
CREATED:20250916T133710Z
LAST-MODIFIED:20250916T133710Z
UID:10030403-1758355200-1758367800@visitfloydva.com
SUMMARY:Healthy Floyd 5K
DESCRIPTION:Family Friendly 5K Run/Walk down by the river at 2053 Thunderstruck Rd. in Floyd. Registration begins at 8am\, race begins at 9am. All proceeds go towards supporting Healthy Floyd’s Preschool Produce\, Floyd Moves\, and other programs promoting health and wellness for kids and families in Floyd.
URL:https://visitfloydva.com/event/healthy-floyd-5k-3/
LOCATION:Thunderstruck Rd\, 2053 Thunderstruck Road\, Floyd\, VA\, 24091
CATEGORIES:Community,Family,Kid friendly,Wellness
ATTACH;FMTTYPE=image/jpeg:https://visitfloydva.com/wp-content/uploads/2025/09/367433477_677814754378726_1470308666012721093_n.jpg
ORGANIZER;CN="Healthy Floyd":MAILTO:healthyfloyd@swva.net
END:VEVENT
BEGIN:VEVENT
DTSTART;TZID=America/New_York:20250924T150000
DTEND;TZID=America/New_York:20250924T180000
DTSTAMP:20260420T084702
CREATED:20250905T144201Z
LAST-MODIFIED:20250905T144201Z
UID:10030345-1758726000-1758736800@visitfloydva.com
SUMMARY:Connected Counseling Co-op Open House
DESCRIPTION:Join us for an afternoon of family friendly outdoor activities\, light refreshments\, and raffle prizes.
URL:https://visitfloydva.com/event/connected-counseling-co-op-open-house/
LOCATION:Connected Counseling Co-op\, 209 W Main St Unit B\, Floyd\, VA\, 24091\, United States
CATEGORIES:Community,Family,Kid friendly,Wellness
ATTACH;FMTTYPE=image/png:https://visitfloydva.com/wp-content/uploads/2025/09/Logo1.png
ORGANIZER;CN="Connected Counseling Co-op":MAILTO:amanda@connectedcounselingco-op.org
END:VEVENT
BEGIN:VEVENT
DTSTART;TZID=America/New_York:20250928T110000
DTEND;TZID=America/New_York:20250928T133000
DTSTAMP:20260420T084702
CREATED:20250925T135042Z
LAST-MODIFIED:20250925T135042Z
UID:10030428-1759057200-1759066200@visitfloydva.com
SUMMARY:Friends & Family Day
DESCRIPTION:Bethesda House of Mercy is hosting Friends and Family day. Ashley and Brandon Welcher will be ministering. Lunch following the 11am service. All are invited and welcome.
URL:https://visitfloydva.com/event/friends-family-day/
LOCATION:Bethesda House of Mercy\, 209 Howard Street\, Floyd\, VA\, 24091
CATEGORIES:Family
ATTACH;FMTTYPE=image/png:https://visitfloydva.com/wp-content/uploads/2025/09/Bethesda-House-of-Mercy2.png
END:VEVENT
END:VCALENDAR