BEGIN:VCALENDAR
VERSION:2.0
PRODID:-//Visit Floyd Virginia - ECPv6.15.20//NONSGML v1.0//EN
CALSCALE:GREGORIAN
METHOD:PUBLISH
X-ORIGINAL-URL:https://visitfloydva.com
X-WR-CALDESC:Events for Visit Floyd Virginia
REFRESH-INTERVAL;VALUE=DURATION:PT1H
X-Robots-Tag:noindex
X-PUBLISHED-TTL:PT1H
BEGIN:VTIMEZONE
TZID:America/New_York
BEGIN:DAYLIGHT
TZOFFSETFROM:-0500
TZOFFSETTO:-0400
TZNAME:EDT
DTSTART:20240310T070000
END:DAYLIGHT
BEGIN:STANDARD
TZOFFSETFROM:-0400
TZOFFSETTO:-0500
TZNAME:EST
DTSTART:20241103T060000
END:STANDARD
BEGIN:DAYLIGHT
TZOFFSETFROM:-0500
TZOFFSETTO:-0400
TZNAME:EDT
DTSTART:20250309T070000
END:DAYLIGHT
BEGIN:STANDARD
TZOFFSETFROM:-0400
TZOFFSETTO:-0500
TZNAME:EST
DTSTART:20251102T060000
END:STANDARD
BEGIN:DAYLIGHT
TZOFFSETFROM:-0500
TZOFFSETTO:-0400
TZNAME:EDT
DTSTART:20260308T070000
END:DAYLIGHT
BEGIN:STANDARD
TZOFFSETFROM:-0400
TZOFFSETTO:-0500
TZNAME:EST
DTSTART:20261101T060000
END:STANDARD
END:VTIMEZONE
BEGIN:VEVENT
DTSTART;TZID=America/New_York:20250802T110000
DTEND;TZID=America/New_York:20250802T210000
DTSTAMP:20260420T102156
CREATED:20250224T145245Z
LAST-MODIFIED:20250224T145245Z
UID:10029920-1754132400-1754168400@visitfloydva.com
SUMMARY:Pickin Fest
DESCRIPTION:Join us for an unforgettable day of music\, nature\, and fun at Pickin’ Fest @ Crooked Mountain! This family-friendly event is set in the beautiful mountain backdrop\, offering something for everyone to enjoy.\nDate: 2 August 2025\nLocation: Crooked Mountain\, 4 miles from downtown Floyd\, right on the Crooked Road Historic Music Trail\, and just off the Blue Ridge Parkway\nTime: 11am – 9 pm\nPre-order your Pickin Containers: Check out the Add-ons page to pre-order your pickin container! Choose your size and we’ll have it waiting for you at the store when you come. \nEvent Highlights:\nBluegrass Music: Experience the soul-stirring sounds of live bluegrass bands playing throughout the day. Enjoy performances from local talent and renowned artists in an outdoor setting that is perfect for music lovers.\nFlower Picking: Stroll through vibrant\, blooming fields and hand-pick your favorite flowers to take home. Whether you’re looking for colorful wildflowers or lush blooms\, this activity lets you connect with nature in a peaceful\, scenic environment.\nActivities for All Ages:\nFood & Drink: Savor delicious local eats from food trucks and vendors offering a variety of tasty dishes. Refreshments and snacks will be available to keep you energized throughout the day.\nCraft Vendors: Explore a variety of local artisans showcasing their handmade goods\, making it the perfect spot for unique finds.\nDon’t miss out on this perfect blend of music\, nature\, and community at Pickin’ Fest! Whether you’re there to pick flowers\, enjoy the bluegrass tunes\, or explore the activities\, this is a day you won’t forget.\nTickets: $8 for adults\, $4 for kids 6 and older\, Free for agest 5 and under\nFor more information: www.crookemtn.com\nPack your picnic blankets\, bring your friends and family\, and get ready for a day of outdoor fun at Crooked Mountain!\nIf you would like to camp with us during this event\, please book on our Hipcamp site:https://www.hipcamp.com/en-US/land/virginia-crooked-mountain-j29h57vv?adults=1&children=0&srid=549d0582-634d-418c-af25-7cd61f9ad52a
URL:https://visitfloydva.com/event/pickin-fest/
LOCATION:Crooked Mountain\, 1378 Shooting Creek Rd SE\, Floyd\, VA\, 24091
CATEGORIES:Arts & Handcraft,Camping,Entertainment,Family,Festivals,Gardens,Kid friendly,Music
ORGANIZER;CN="Crooked Mountain":MAILTO:crookedmtnva@gmail.com
END:VEVENT
END:VCALENDAR