BEGIN:VCALENDAR
VERSION:2.0
PRODID:-//Visit Floyd Virginia - ECPv6.15.20//NONSGML v1.0//EN
CALSCALE:GREGORIAN
METHOD:PUBLISH
X-WR-CALNAME:Visit Floyd Virginia
X-ORIGINAL-URL:https://visitfloydva.com
X-WR-CALDESC:Events for Visit Floyd Virginia
REFRESH-INTERVAL;VALUE=DURATION:PT1H
X-Robots-Tag:noindex
X-PUBLISHED-TTL:PT1H
BEGIN:VTIMEZONE
TZID:America/New_York
BEGIN:DAYLIGHT
TZOFFSETFROM:-0500
TZOFFSETTO:-0400
TZNAME:EDT
DTSTART:20230312T070000
END:DAYLIGHT
BEGIN:STANDARD
TZOFFSETFROM:-0400
TZOFFSETTO:-0500
TZNAME:EST
DTSTART:20231105T060000
END:STANDARD
BEGIN:DAYLIGHT
TZOFFSETFROM:-0500
TZOFFSETTO:-0400
TZNAME:EDT
DTSTART:20240310T070000
END:DAYLIGHT
BEGIN:STANDARD
TZOFFSETFROM:-0400
TZOFFSETTO:-0500
TZNAME:EST
DTSTART:20241103T060000
END:STANDARD
BEGIN:DAYLIGHT
TZOFFSETFROM:-0500
TZOFFSETTO:-0400
TZNAME:EDT
DTSTART:20250309T070000
END:DAYLIGHT
BEGIN:STANDARD
TZOFFSETFROM:-0400
TZOFFSETTO:-0500
TZNAME:EST
DTSTART:20251102T060000
END:STANDARD
END:VTIMEZONE
BEGIN:VEVENT
DTSTART;TZID=America/New_York:20241109T190000
DTEND;TZID=America/New_York:20241109T223000
DTSTAMP:20260421T024212
CREATED:20241106T172619Z
LAST-MODIFIED:20241106T172619Z
UID:10029791-1731178800-1731191400@visitfloydva.com
SUMMARY:Floyd Contra Dance
DESCRIPTION:November 9th – Bring the Feet (our amazing local band) playing with Stephanie Marie calling. \nFree lesson: 7:00 pm\nDance: 7:30 -10:30 pm \nTreat yourself to an evening of easy\, relaxed fun with lots of smiles and live music. All dance figures are taught by the caller. Beginners and experienced dancers of all ages are welcome. Come alone or with a partner; dress is casual and soft-soled shoes that glide work best. Come to dance or come to listen–no partner needed. \nIf you feel sick or were recently exposed to someone with symptoms of an illness that may be contagious\, please stay home and take care of yourself\, so we can see you at our next dance. \nFloyd Contra Dances are held on the second Saturday of the month from Sept. through May.
URL:https://visitfloydva.com/event/floyd-contra-dance-26/
LOCATION:Floyd Center for the Arts\, 220 Parkway Lane S\, Floyd\, VA\, 24091\, United States
CATEGORIES:Community,Dance,Entertainment,Family,Kid friendly,Music
ORGANIZER;CN="Blue Ridge Country Dancers":MAILTO:floydcountrydancers@yahoo.com
GEO:36.9039185;-80.3170382
X-APPLE-STRUCTURED-LOCATION;VALUE=URI;X-ADDRESS=Floyd Center for the Arts 220 Parkway Lane S Floyd VA 24091 United States;X-APPLE-RADIUS=500;X-TITLE=220 Parkway Lane S:geo:-80.3170382,36.9039185
END:VEVENT
BEGIN:VEVENT
DTSTART;TZID=America/New_York:20241116T173000
DTEND;TZID=America/New_York:20241116T190000
DTSTAMP:20260421T024212
CREATED:20240925T150820Z
LAST-MODIFIED:20240925T150820Z
UID:10029616-1731778200-1731783600@visitfloydva.com
SUMMARY:Liars Contest
DESCRIPTION:Tall tales are as old as the Appalachian hills. For the first time in Southwest Virginia\, the best yarn spinner will be crowned at the Liars Contest\, Nov. 16\, in Floyd\, Virginia\, at the June Bug Center. The contest starts at 5:30 p.m. Admission is free. The winner will receive a $100 cash prize and a golden shovel to honor their storytelling prowess.“Liars contests are taking off around the country\,” said Clint Atwater\, founder of Storytelling ConnectIons\, LLC\, and Let Me Tell Ya! events\, which produced the show. “Audiences love the outlandish tales and unforgettable stories. You have to wonder\, are the tellers stretching the truth or all-out lying?” Atwater said any family friendly topic is fair game\, including fish stories\, aliens\, “strike it rich\,” ghosts and vacation adventures. “I’m pretty excited about what the contestants will come up with.”\nContestants of all ages pay $10 to enter. They’re required to preregister through Eventbrite\nat https://Inyurl.com/mtuh47ay. Registration is limited to 12 contestants.\nAtwater said he’s grateful to the contest sponsors: The June Bug Center\, Blue Ridge Story\nSpace (which performs at June Bug)\, and the Virginia Storytelling Alliance. “Thanks to them\, we’ll\nhave prizes of $100–First Place\, $50–Second Place and $25–Third Place\,” he said.\nAtwater said attendees will find a warm and welcoming environment. “They’ll be part of the vibrant local community that appreciates this art.” Facebook Live will stream the performance.\nThe Liars Contest is part of Tellabration!\, a National Storytelling Network event that introduces new audiences to storytelling.
URL:https://visitfloydva.com/event/liars-contest/
LOCATION:June Bug Center\, 251 Parkway Ln. S.\, Floyd\, VA\, 24091\, United States
CATEGORIES:Community,Entertainment,Family,Kid friendly,Theatre
GEO:36.903013;-80.316736
X-APPLE-STRUCTURED-LOCATION;VALUE=URI;X-ADDRESS=June Bug Center 251 Parkway Ln. S. Floyd VA 24091 United States;X-APPLE-RADIUS=500;X-TITLE=251 Parkway Ln. S.:geo:-80.316736,36.903013
END:VEVENT
END:VCALENDAR