BEGIN:VCALENDAR
VERSION:2.0
PRODID:-//Visit Floyd Virginia - ECPv6.15.20//NONSGML v1.0//EN
CALSCALE:GREGORIAN
METHOD:PUBLISH
X-WR-CALNAME:Visit Floyd Virginia
X-ORIGINAL-URL:https://visitfloydva.com
X-WR-CALDESC:Events for Visit Floyd Virginia
REFRESH-INTERVAL;VALUE=DURATION:PT1H
X-Robots-Tag:noindex
X-PUBLISHED-TTL:PT1H
BEGIN:VTIMEZONE
TZID:America/New_York
BEGIN:DAYLIGHT
TZOFFSETFROM:-0500
TZOFFSETTO:-0400
TZNAME:EDT
DTSTART:20230312T070000
END:DAYLIGHT
BEGIN:STANDARD
TZOFFSETFROM:-0400
TZOFFSETTO:-0500
TZNAME:EST
DTSTART:20231105T060000
END:STANDARD
BEGIN:DAYLIGHT
TZOFFSETFROM:-0500
TZOFFSETTO:-0400
TZNAME:EDT
DTSTART:20240310T070000
END:DAYLIGHT
BEGIN:STANDARD
TZOFFSETFROM:-0400
TZOFFSETTO:-0500
TZNAME:EST
DTSTART:20241103T060000
END:STANDARD
BEGIN:DAYLIGHT
TZOFFSETFROM:-0500
TZOFFSETTO:-0400
TZNAME:EDT
DTSTART:20250309T070000
END:DAYLIGHT
BEGIN:STANDARD
TZOFFSETFROM:-0400
TZOFFSETTO:-0500
TZNAME:EST
DTSTART:20251102T060000
END:STANDARD
END:VTIMEZONE
BEGIN:VEVENT
DTSTART;TZID=America/New_York:20240907T160000
DTEND;TZID=America/New_York:20240907T180000
DTSTAMP:20260421T060440
CREATED:20240812T194201Z
LAST-MODIFIED:20240812T194201Z
UID:10029512-1725724800-1725732000@visitfloydva.com
SUMMARY:Meridian Percussion- Floyd Center for the Arts
DESCRIPTION:Join us for an unforgettable evening of rhythm and artistry on Saturday\, September 7 at 4:00 PM at the Floyd Center for the Arts! Prepare to be entertained as we present Meridian Percussion\, featuring the incredibly talented percussionists Ian Epperly and Meridythe Witt. \nTICKETS: Adults $25\, Students FREE\nhttps://www.floydartcenter.org/event-details/meridian-percussion-performance-ian-epperly-and-meridythe-witt
URL:https://visitfloydva.com/event/meridian-percussion-floyd-center-for-the-arts/
LOCATION:Floyd Center for the Arts\, 220 Parkway Lane S\, Floyd\, VA\, 24091\, United States
CATEGORIES:Arts & Handcraft,Community,Entertainment,Family,Music
ATTACH;FMTTYPE=image/png:https://visitfloydva.com/wp-content/uploads/2024/08/Meridan-Percussion.png
GEO:36.9039185;-80.3170382
X-APPLE-STRUCTURED-LOCATION;VALUE=URI;X-ADDRESS=Floyd Center for the Arts 220 Parkway Lane S Floyd VA 24091 United States;X-APPLE-RADIUS=500;X-TITLE=220 Parkway Lane S:geo:-80.3170382,36.9039185
END:VEVENT
BEGIN:VEVENT
DTSTART;TZID=America/New_York:20240914T083000
DTEND;TZID=America/New_York:20240914T113000
DTSTAMP:20260421T060440
CREATED:20240829T214422Z
LAST-MODIFIED:20240829T214422Z
UID:10029523-1726302600-1726313400@visitfloydva.com
SUMMARY:Healthy Floyd 5K
DESCRIPTION:Family friendly 5K Run Walk to support Healthy Floyd’s year-round work to keep our entire community healthy and well. Other programs include Preschool Produce deliveries\, Floyd Moves activities\, Sugar Smarts/Celebrate Water education and events\, Healthy by Nature outings\, and 95210 education for all our Floyd residents.
URL:https://visitfloydva.com/event/healthy-floyd-5k-2/
LOCATION:VA
CATEGORIES:Community,Family,Kid friendly,Wellness
ATTACH;FMTTYPE=image/jpeg:https://visitfloydva.com/wp-content/uploads/2024/08/367433477_677814754378726_1470308666012721093_n.jpg
END:VEVENT
BEGIN:VEVENT
DTSTART;TZID=America/New_York:20240914T100000
DTEND;TZID=America/New_York:20240914T140000
DTSTAMP:20260421T060440
CREATED:20240829T214432Z
LAST-MODIFIED:20240829T214432Z
UID:10029524-1726308000-1726322400@visitfloydva.com
SUMMARY:2nd Annual Cornhole Tournament
DESCRIPTION:Join us for the 2nd Annual Cornhole Tournament benefiting and sponsored by Floyd County Young Life.\nGet some friends together and come as a team or just show up and teams will be formed.\nWe will be meeting at the Outdoor Pavilion/Playground area of Floyd Elementary. Rain location: FCHS (old gym)\nFood (Pizza) and drinks will be available for purchase.\nCost: $30/team
URL:https://visitfloydva.com/event/2nd-annual-cornhole-tournament/
LOCATION:Floyd Elementary School\, 531 Oak Hill Dr SW\, Floyd\, VA\, 24091\, United States
CATEGORIES:Family,Fundraising,Games,Outdoor Recreation
ORGANIZER;CN="Young Life":MAILTO:Ellieroe@yahoo.com
END:VEVENT
BEGIN:VEVENT
DTSTART;TZID=America/New_York:20240921T150000
DTEND;TZID=America/New_York:20240922T190000
DTSTAMP:20260421T060440
CREATED:20240907T151346Z
LAST-MODIFIED:20240907T151346Z
UID:10029527-1726930800-1727031600@visitfloydva.com
SUMMARY:Floyd Small Town Fall Festival
DESCRIPTION:A Free 2 Day Roots Music Festival in Downtown Floyd’d Warren G. Lineberry Park\nBrought to you by The Town of Floyd as a continuation of the Floyd Small Town Summer Series. \nFeaturing: Scythian\, Lonesome River Band\, Caleb Klauder & Reeb Willms Country Band\, Amanda Platt & The Honeycutters\, Liam Purcell & Cane Mill Road\, Domino\, The Burnett Sisters Band\, The Wildmans and the Twin Creeks Stringband. \nSponsored by Virginia is for Lovers\, Skyline National Bank\, Citizens Coop\, The Floyd Country Store\, Hotel Floyd\, Thomas & Wall Real Estate\, The Floyd Press\, Buffalo Hemp and Floyd Chysler Dodge Jeep Ram Dealer.
URL:https://visitfloydva.com/event/floyd-small-town-fall-festival-2/
LOCATION:Warren G. Lineberry Park\, 250 South Locust St.\, Floyd\, VA\, 24091\, United States
CATEGORIES:Entertainment,Family,Festivals,Music
GEO:36.90999;-80.3198122
X-APPLE-STRUCTURED-LOCATION;VALUE=URI;X-ADDRESS=Warren G. Lineberry Park 250 South Locust St. Floyd VA 24091 United States;X-APPLE-RADIUS=500;X-TITLE=250 South Locust St.:geo:-80.3198122,36.90999
END:VEVENT
END:VCALENDAR