BEGIN:VCALENDAR
VERSION:2.0
PRODID:-//Visit Floyd Virginia - ECPv6.15.20//NONSGML v1.0//EN
CALSCALE:GREGORIAN
METHOD:PUBLISH
X-ORIGINAL-URL:https://visitfloydva.com
X-WR-CALDESC:Events for Visit Floyd Virginia
REFRESH-INTERVAL;VALUE=DURATION:PT1H
X-Robots-Tag:noindex
X-PUBLISHED-TTL:PT1H
BEGIN:VTIMEZONE
TZID:America/New_York
BEGIN:DAYLIGHT
TZOFFSETFROM:-0500
TZOFFSETTO:-0400
TZNAME:EDT
DTSTART:20230312T070000
END:DAYLIGHT
BEGIN:STANDARD
TZOFFSETFROM:-0400
TZOFFSETTO:-0500
TZNAME:EST
DTSTART:20231105T060000
END:STANDARD
BEGIN:DAYLIGHT
TZOFFSETFROM:-0500
TZOFFSETTO:-0400
TZNAME:EDT
DTSTART:20240310T070000
END:DAYLIGHT
BEGIN:STANDARD
TZOFFSETFROM:-0400
TZOFFSETTO:-0500
TZNAME:EST
DTSTART:20241103T060000
END:STANDARD
BEGIN:DAYLIGHT
TZOFFSETFROM:-0500
TZOFFSETTO:-0400
TZNAME:EDT
DTSTART:20250309T070000
END:DAYLIGHT
BEGIN:STANDARD
TZOFFSETFROM:-0400
TZOFFSETTO:-0500
TZNAME:EST
DTSTART:20251102T060000
END:STANDARD
BEGIN:DAYLIGHT
TZOFFSETFROM:-0500
TZOFFSETTO:-0400
TZNAME:EDT
DTSTART:20260308T070000
END:DAYLIGHT
BEGIN:STANDARD
TZOFFSETFROM:-0400
TZOFFSETTO:-0500
TZNAME:EST
DTSTART:20261101T060000
END:STANDARD
END:VTIMEZONE
BEGIN:VEVENT
DTSTART;TZID=America/New_York:20251113T140000
DTEND;TZID=America/New_York:20251116T153000
DTSTAMP:20260420T023306
CREATED:20250205T144148Z
LAST-MODIFIED:20250205T144148Z
UID:10029879-1763042400-1763307000@visitfloydva.com
SUMMARY:2025 FALL Goddess Retreat
DESCRIPTION:In this retreat\, we travel through seven group sessions pairing an archetypal goddess to each chakra. We are more than the box we put ourselves in. We are mother\, lover\, warrioress\, wise woman\, and priestess. Embody love\, unknot the psyche\, and step into your divinity. \nhttps://interweave.love/
URL:https://visitfloydva.com/event/2025-fall-goddess-retreat/
LOCATION:Floyd County
CATEGORIES:Community,Environment,Spirits,Wellness
ATTACH;FMTTYPE=image/png:https://visitfloydva.com/wp-content/uploads/2025/02/Screenshot-2025-02-05-055733.png
ORGANIZER;CN="Katie Wells":MAILTO:misskatiewells@gmail.com
END:VEVENT
BEGIN:VEVENT
DTSTART;TZID=America/New_York:20250710T140000
DTEND;TZID=America/New_York:20250713T153000
DTSTAMP:20260420T023306
CREATED:20250205T144117Z
LAST-MODIFIED:20250205T144117Z
UID:10029878-1752156000-1752420600@visitfloydva.com
SUMMARY:2025 Summer Goddess Retreat
DESCRIPTION:The Summer Goddess Retreat holds EXPERIENCES that open us to the wisdom of the elements. ⁣We connect with nature\, and balance the earth\, air\, water\, and fire within for more harmony. This retreat promotes emotional intelligence and awakens our lives through deep embodiment\, inner reflection\, sacred play\, and women empowering women! \nhttps://interweave.love/
URL:https://visitfloydva.com/event/2025-summer-goddess-retreat/
LOCATION:Floyd County
CATEGORIES:Community,Environment,Spirits,Wellness
ATTACH;FMTTYPE=image/png:https://visitfloydva.com/wp-content/uploads/2025/02/Screenshot-2025-02-05-054128.png
ORGANIZER;CN="Katie Wells":MAILTO:misskatiewells@gmail.com
END:VEVENT
BEGIN:VEVENT
DTSTART;TZID=America/New_York:20250426T100000
DTEND;TZID=America/New_York:20250426T160000
DTSTAMP:20260420T023306
CREATED:20250226T144715Z
LAST-MODIFIED:20250226T144715Z
UID:10028243-1745661600-1745683200@visitfloydva.com
SUMMARY:Floyd Earth Day Celebration
DESCRIPTION:Join us for this FREE community celebration!\nApril 26\, Saturday\, Earth Week Celebration in Lineberry Park\, 10:00-4:00\nHosted by Partnership for Floyd and Springhouse School\nFrom 10:00-4:00 The park will be filled with Nature organizations providing workshops and information including music and a trashy fashion show on stage. Make an Appalachian species puppet\, Free wildflower seeds\, nature treasure hunt\, gardening info\, sign up to be a Master Naturalist or Master Gardener +++ lots more!\n1:00 – 3:00 Appalachian Species Giant Puppet Parade by Springhouse School inviting all of us to participate in a walk through downtown celebrating our native species on Earth Day!
URL:https://visitfloydva.com/event/floyd-earth-day-celebration-2/
LOCATION:Warren G. Lineberry Park\, 250 South Locust St.\, Floyd\, VA\, 24091\, United States
CATEGORIES:Arts & Handcraft,Community,Education,Entertainment,Environment,Family,Holiday,Kid friendly
ATTACH;FMTTYPE=image/jpeg:https://visitfloydva.com/wp-content/uploads/2025/02/puppet-making-park.jpeg
ORGANIZER;CN="Partnership for Floyd":MAILTO:PartnershipForFloyd@gmail.com
GEO:36.90999;-80.3198122
X-APPLE-STRUCTURED-LOCATION;VALUE=URI;X-ADDRESS=Warren G. Lineberry Park 250 South Locust St. Floyd VA 24091 United States;X-APPLE-RADIUS=500;X-TITLE=250 South Locust St.:geo:-80.3198122,36.90999
END:VEVENT
BEGIN:VEVENT
DTSTART;TZID=America/New_York:20250320T140000
DTEND;TZID=America/New_York:20250323T153000
DTSTAMP:20260420T023306
CREATED:20250205T144004Z
LAST-MODIFIED:20250205T144004Z
UID:10029877-1742479200-1742743800@visitfloydva.com
SUMMARY:Temple of the Heart Spring Equinox Retreat 2025
DESCRIPTION:A multi-dimensional activation and infusion of self-love ~ Join us for a luminous odyssey into the depths of the heart. \nhttps://interweave.love/
URL:https://visitfloydva.com/event/temple-of-the-heart-spring-equinox-retreat-2025/
LOCATION:Floyd County
CATEGORIES:Community,Environment,Spirits,Wellness
ATTACH;FMTTYPE=image/png:https://visitfloydva.com/wp-content/uploads/2025/02/Screenshot-2025-02-05-052824.png
END:VEVENT
BEGIN:VEVENT
DTSTART;TZID=America/New_York:20241018T110000
DTEND;TZID=America/New_York:20241018T180000
DTSTAMP:20260420T023306
CREATED:20241003T170249Z
LAST-MODIFIED:20241003T170249Z
UID:10029772-1729249200-1729274400@visitfloydva.com
SUMMARY:Open Day - Spikenard Honeybee Sanctuary
DESCRIPTION:Spikenard is opening its gates for visitors to come experience the wonder and beauty of the Honeybee Sanctuary. Tours are available\, as well as an opportunity to purchase gifts and bee products at the farm store\, and just come and relax on top of the mountain amidst the buzzing honeybees working in our flowering landscape.
URL:https://visitfloydva.com/event/open-day-spikenard-honeybee-sanctuary/
LOCATION:Spikenard Honeybee Sanctuary\, 401 Hideaway Ln.\, Floyd\, VA\, 24091\, United States
CATEGORIES:Community,Education,Environment,Family,Gardens
ATTACH;FMTTYPE=image/jpeg:https://visitfloydva.com/wp-content/uploads/2024/10/P1120937-scaled.jpg
ORGANIZER;CN="Spikenard Honeybee Sanctuary*":MAILTO:info@spikenardfarm.org
END:VEVENT
BEGIN:VEVENT
DTSTART;TZID=America/New_York:20240625T200000
DTEND;TZID=America/New_York:20240625T220000
DTSTAMP:20260420T023306
CREATED:20240619T041237Z
LAST-MODIFIED:20240619T041237Z
UID:10029466-1719345600-1719352800@visitfloydva.com
SUMMARY:Blue Mountain School 2nd Annual Summer Solstice Guided Night Hike
DESCRIPTION:Blue Mountain School’s 2nd annual Guided Night Hike will lift the veil of darkness and blend the spirit of adventure with the joy of learning.\nJoin the fun and step into the wild side with Field Biologist Eric Wolf and Blue Mountain School’s experienced teachers. \nAfter the children have gone home for the day\, Blue Mountain School’s woodland neighbors come out to play! Bats\, owls\, salamanders\, cicadas\, tree frogs\, nightjars\, and raccoons are just a few of the nocturnal neighbors that may make an appearance on the campus after the sun sets. Come visit Blue Mountain School’s campus and experience the heart and soul of outdoor learning in the New River Valley\, where outdoor experiences shape the daily lives of students. \nBring along your water bottle\, close-toed shoes\, and a headlamp\, along with your deer ears\, owl eyes\, and a spirit of wonder! We’ll begin our evening by meeting next to the Native Plant Garden for children’s activities and an introduction from our hike leader\, Eric Wolf. \nEric has been a professional wildlife biologist for over 30 years\, with project work spanning from Central and South America to across much of the United States. However\, he is particularly proud to have lived\, worked\, and studied in the southern Appalachians for most of his life\, developing intimate personal and professional connections with its biotic communities and cultural heritage. \nFor more information\, contact BMS at contact@bluemountainschool.net.
URL:https://visitfloydva.com/event/blue-mountain-school-2nd-annual-summer-solstice-guided-night-hike/
LOCATION:Blue Mountain School
CATEGORIES:Education,Environment,Family,Kid friendly
END:VEVENT
BEGIN:VEVENT
DTSTART;TZID=America/New_York:20240422T173000
DTEND;TZID=America/New_York:20240422T193000
DTSTAMP:20260420T023306
CREATED:20240327T123735Z
LAST-MODIFIED:20240327T123735Z
UID:10029283-1713807000-1713814200@visitfloydva.com
SUMMARY:Celebrate Earth Day in Nature!
DESCRIPTION:Celebrate Earth Day in Nature! Hike with Wild Garden Club organizer Jane Cundiff and Master Naturalist instructor Michael Williams on the Dodd Creek Trail. Enjoy and learn more about our natural habitat right here in Floyd County. We will take our time on this 1.2 mile walk to study how spring is unfolding in the forest. Our hike will be followed by a potluck celebration\, hosted by Partnership for Floyd at the picnic shelter just uphill from the trail. Please bring a big potluck dish and your own re-usable picnic needs (cup\, plate\, utensils) to avoid waste. Let’s Celebrate Nature together!
URL:https://visitfloydva.com/event/celebrate-earth-day-in-nature/
LOCATION:Floyd County Parks & Recreation\, 209 Fox St\, Floyd\, VA\, 24091\, United States
CATEGORIES:Community,Education,Environment,Family
ATTACH;FMTTYPE=image/jpeg:https://visitfloydva.com/wp-content/uploads/2024/03/signs-at-trail-start.jpeg
ORGANIZER;CN="Partnership for Floyd":MAILTO:PartnershipForFloyd@gmail.com
END:VEVENT
BEGIN:VEVENT
DTSTART;TZID=America/New_York:20240422T120000
DTEND;TZID=America/New_York:20240422T123000
DTSTAMP:20260420T023306
CREATED:20240307T173934Z
LAST-MODIFIED:20240307T173934Z
UID:10029271-1713787200-1713789000@visitfloydva.com
SUMMARY:Rocks of the World – Floyd Earth Week
DESCRIPTION:Come join us at Sacred Star and Stone (110A North Locust Street) from12 noon to 12:30 each day of Floyd Earth Week as we explore the wondrous selection of stones and minerals the Earth has formed. Each day will be a different stone/mineral to discover. We hope you will join us in this week-long celebration of Earth Day.
URL:https://visitfloydva.com/event/rocks-of-the-world-floyd-earth-week/2024-04-22/
LOCATION:VA
CATEGORIES:Community,Education,Entertainment,Environment
END:VEVENT
BEGIN:VEVENT
DTSTART;TZID=America/New_York:20240421T120000
DTEND;TZID=America/New_York:20240421T123000
DTSTAMP:20260420T023306
CREATED:20240307T173934Z
LAST-MODIFIED:20240307T173934Z
UID:10029270-1713700800-1713702600@visitfloydva.com
SUMMARY:Rocks of the World – Floyd Earth Week
DESCRIPTION:Come join us at Sacred Star and Stone (110A North Locust Street) from12 noon to 12:30 each day of Floyd Earth Week as we explore the wondrous selection of stones and minerals the Earth has formed. Each day will be a different stone/mineral to discover. We hope you will join us in this week-long celebration of Earth Day.
URL:https://visitfloydva.com/event/rocks-of-the-world-floyd-earth-week/2024-04-21/
LOCATION:VA
CATEGORIES:Community,Education,Entertainment,Environment
END:VEVENT
BEGIN:VEVENT
DTSTART;TZID=America/New_York:20240421T090000
DTEND;TZID=America/New_York:20240421T110000
DTSTAMP:20260420T023306
CREATED:20240326T182000Z
LAST-MODIFIED:20240415T132641Z
UID:10029282-1713690000-1713697200@visitfloydva.com
SUMMARY:Earth Week Nature/Birding Hike
DESCRIPTION:Floyd Earth Week! Free Guided Birding\, Nature Hikes!! Enjoy a wonderful educational experience in the woods with Master Naturalist instructor\, Michael Williams. Michael is donating his time for Floyd Earth Week to lead free beginner bird and nature hikes for all ages on the West Fork of the Little River\, just 5 miles north of Floyd. 9-11 AM on April 15\, 17\, 19 and Sunday\, April 21. Please email Michael at miwilli6@vt.edu to sign up and get directions!
URL:https://visitfloydva.com/event/earth-week-nature-birding-hike/2024-04-21/
LOCATION:VA
CATEGORIES:Education,Environment,Family
ATTACH;FMTTYPE=image/jpeg:https://visitfloydva.com/wp-content/uploads/2024/03/IMG_2257.jpg
ORGANIZER;CN="Partnership for Floyd":MAILTO:PartnershipForFloyd@gmail.com
END:VEVENT
BEGIN:VEVENT
DTSTART;TZID=America/New_York:20240420T150000
DTEND;TZID=America/New_York:20240420T160000
DTSTAMP:20260420T023306
CREATED:20240415T132936Z
LAST-MODIFIED:20240415T132936Z
UID:10029299-1713625200-1713628800@visitfloydva.com
SUMMARY:Partnership for Floyd Celebrates
DESCRIPTION:Partnership for Floyd celebrates 20 years of service to our community with a FREE ice cream social at the end of the Floyd Earth Day in the Park. Organized by PFF\, 12 different groups will offer nature activities in Lineberry Park\, along with musicians and an Appalachian Species Giant Puppet Parade. PFF will be offering fruit trees saplings with tubes and stakes for $10 suggested donation. PFF was instrumental in building the park\, along with Dodd Creek Tail and the Park to Library Trail\, as well as sponsoring many Earth Days and Health Fairs in service to our community. Come celebrate with us!!
URL:https://visitfloydva.com/event/partnership-for-floyd-celebrates/
LOCATION:Warren G. Lineberry Park\, 250 South Locust St.\, Floyd\, VA\, 24091\, United States
CATEGORIES:Community,Education,Environment,Family
ATTACH;FMTTYPE=image/jpeg:https://visitfloydva.com/wp-content/uploads/2024/04/all-PFF-Dodd-1.jpeg
ORGANIZER;CN="Partnership for Floyd":MAILTO:PartnershipForFloyd@gmail.com
GEO:36.90999;-80.3198122
X-APPLE-STRUCTURED-LOCATION;VALUE=URI;X-ADDRESS=Warren G. Lineberry Park 250 South Locust St. Floyd VA 24091 United States;X-APPLE-RADIUS=500;X-TITLE=250 South Locust St.:geo:-80.3198122,36.90999
END:VEVENT
BEGIN:VEVENT
DTSTART;TZID=America/New_York:20240420T120000
DTEND;TZID=America/New_York:20240420T123000
DTSTAMP:20260420T023306
CREATED:20240307T173934Z
LAST-MODIFIED:20240307T173934Z
UID:10029269-1713614400-1713616200@visitfloydva.com
SUMMARY:Rocks of the World – Floyd Earth Week
DESCRIPTION:Come join us at Sacred Star and Stone (110A North Locust Street) from12 noon to 12:30 each day of Floyd Earth Week as we explore the wondrous selection of stones and minerals the Earth has formed. Each day will be a different stone/mineral to discover. We hope you will join us in this week-long celebration of Earth Day.
URL:https://visitfloydva.com/event/rocks-of-the-world-floyd-earth-week/2024-04-20/
LOCATION:VA
CATEGORIES:Community,Education,Entertainment,Environment
END:VEVENT
BEGIN:VEVENT
DTSTART;TZID=America/New_York:20240420T100000
DTEND;TZID=America/New_York:20240420T160000
DTSTAMP:20260420T023306
CREATED:20240415T133405Z
LAST-MODIFIED:20240415T133422Z
UID:10029301-1713607200-1713628800@visitfloydva.com
SUMMARY:Sandy Jahmi Burg - Earth Week Celebration at Lineberry Park
DESCRIPTION:Curious about relationships? Relationships with yourself\, others or the world around us?\nJoin Sandy Jahmi Burg\, author\, Certified Focusing Coordinator\, and neuroscience educator\, as we use stories and role play to explore relational skills that help us shape a healthy brain from our daily interactions.\nSandy will entertain us with some nature-themed excerpts from her Smartview Stories books. These books feature Floyd-like characters living in an imaginary community as well as 3 Inner Companions who help them navigate life. The Inner Companions are based on concepts of neuroscience\, teaching us about our body and brain. We may get some role play rolling as well!\nOur 3 Inner Companions will be available for kids of all ages to hold.
URL:https://visitfloydva.com/event/earth-week-celebration-at-lineberry-park/
LOCATION:Warren G. Lineberry Park\, 250 South Locust St.\, Floyd\, VA\, 24091\, United States
CATEGORIES:Community,Education,Entertainment,Environment,Family,Kid friendly,Literary,Wellness
ATTACH;FMTTYPE=image/jpeg:https://visitfloydva.com/wp-content/uploads/2024/04/All-3-off-to-an-adventure-web-scaled.jpg
ORGANIZER;CN="Sandy Jahmi Burg":MAILTO:sandyjahmi@gmail.com
GEO:36.90999;-80.3198122
X-APPLE-STRUCTURED-LOCATION;VALUE=URI;X-ADDRESS=Warren G. Lineberry Park 250 South Locust St. Floyd VA 24091 United States;X-APPLE-RADIUS=500;X-TITLE=250 South Locust St.:geo:-80.3198122,36.90999
END:VEVENT
BEGIN:VEVENT
DTSTART;TZID=America/New_York:20240420T100000
DTEND;TZID=America/New_York:20240420T160000
DTSTAMP:20260420T023306
CREATED:20240415T132949Z
LAST-MODIFIED:20240415T132949Z
UID:10029300-1713607200-1713628800@visitfloydva.com
SUMMARY:Community Earth Day in the Park
DESCRIPTION:From 10:00-4:00 The park will be filled with FREE Nature workshops and information from 12 organizations\, music and a fashion show on stage. Free wildflower seeds\, fruit trees\, nature treasure hunt\, gardening info +++\n1:00 – 3:00 Procession of Appalachian Species with Springhouse – Giant Puppet Parade from Lineberry Park throughout downtown.\n3:00 – 4:00 Partnership for Floyd 20 years of service celebration\, + FREE ice cream social! \nOrganizations with nature activities in Lineberry Park on April 20 include: \n– Partnership for Floyd\n– Springhouse School\,\n– Floyd Flower Power\n– Sustain Floyd solar wagon\n– Blue Mountain School\n– Library\n– Master Naturalists\n– Master Gardeners\n– Green Burial\n– Plenty!\n– New River Valley Montessori School\n– Nature Focusing Trainer
URL:https://visitfloydva.com/event/community-earth-day-in-the-park/
LOCATION:Warren G. Lineberry Park\, 250 South Locust St.\, Floyd\, VA\, 24091\, United States
CATEGORIES:Arts & Handcraft,Community,Education,Entertainment,Environment,Family,Festivals
ATTACH;FMTTYPE=image/jpeg:https://visitfloydva.com/wp-content/uploads/2024/04/Lineberry-Park-sign.jpeg
ORGANIZER;CN="Partnership for Floyd":MAILTO:PartnershipForFloyd@gmail.com
GEO:36.90999;-80.3198122
X-APPLE-STRUCTURED-LOCATION;VALUE=URI;X-ADDRESS=Warren G. Lineberry Park 250 South Locust St. Floyd VA 24091 United States;X-APPLE-RADIUS=500;X-TITLE=250 South Locust St.:geo:-80.3198122,36.90999
END:VEVENT
BEGIN:VEVENT
DTSTART;TZID=America/New_York:20240420T100000
DTEND;TZID=America/New_York:20240420T160000
DTSTAMP:20260420T023306
CREATED:20240307T173836Z
LAST-MODIFIED:20240415T133113Z
UID:10029263-1713607200-1713628800@visitfloydva.com
SUMMARY:Floyd Flower Power - Earth Week Celebration in the Park
DESCRIPTION:Please join Floyd Flower Power on Saturday April 20th from 10 am to 4 pm in Lineberry Park\, as we join together in celebrating Earth Week here in Floyd. Floyd Flower Power will be demonstrating native seed collection and cleaning during the celebration. We hope you can join us for a great time on Saturday April 20th…come rain or shine.
URL:https://visitfloydva.com/event/floyd-earth-week-celebration-in-the-park/
LOCATION:Warren G. Lineberry Park\, 250 South Locust St.\, Floyd\, VA\, 24091\, United States
CATEGORIES:Community,Environment,Gardens,Kid friendly
ATTACH;FMTTYPE=image/png:https://visitfloydva.com/wp-content/uploads/2024/03/VA-NAtive-Wild-Flowers.png
ORGANIZER;CN="Partnership For Floyd":MAILTO:PartnershipForFloyd@gmail.com
GEO:36.90999;-80.3198122
X-APPLE-STRUCTURED-LOCATION;VALUE=URI;X-ADDRESS=Warren G. Lineberry Park 250 South Locust St. Floyd VA 24091 United States;X-APPLE-RADIUS=500;X-TITLE=250 South Locust St.:geo:-80.3198122,36.90999
END:VEVENT
BEGIN:VEVENT
DTSTART;TZID=America/New_York:20240419T120000
DTEND;TZID=America/New_York:20240419T123000
DTSTAMP:20260420T023306
CREATED:20240307T173934Z
LAST-MODIFIED:20240307T173934Z
UID:10029268-1713528000-1713529800@visitfloydva.com
SUMMARY:Rocks of the World – Floyd Earth Week
DESCRIPTION:Come join us at Sacred Star and Stone (110A North Locust Street) from12 noon to 12:30 each day of Floyd Earth Week as we explore the wondrous selection of stones and minerals the Earth has formed. Each day will be a different stone/mineral to discover. We hope you will join us in this week-long celebration of Earth Day.
URL:https://visitfloydva.com/event/rocks-of-the-world-floyd-earth-week/2024-04-19/
LOCATION:VA
CATEGORIES:Community,Education,Entertainment,Environment
END:VEVENT
BEGIN:VEVENT
DTSTART;TZID=America/New_York:20240419T110000
DTEND;TZID=America/New_York:20240419T180000
DTSTAMP:20260420T023306
CREATED:20240408T173218Z
LAST-MODIFIED:20240408T173218Z
UID:10027711-1713524400-1713549600@visitfloydva.com
SUMMARY:Dandelion Day at Spikenard Honeybee Sanctuary
DESCRIPTION:As the dandelions come into full bloom at the Honeybee Sanctuary\, we give a sigh of relief and a prayer of thanks. For the beekeeper\, dandelions mark the end of scarcity—the page turning from worry\, shortage\, and diminishing colonies\, towards new growth\, health\, and the guarantee that our bees have survived yet another Winter. Such is the value of this source of nectar and pollen for the bees. To see the fields spotted with those beautiful yellow flowers brings true joy to our hearts! \nWe invite you to come celebrate the new season with us at the Sanctuary! Join us for a tour\, visit our gift shop\, enjoy free dandelion-themed snacks and refreshments\, and learn more about what we all can do to help support the bees\, butterflies\, and hummingbirds. \nOur director\, Alex Tuchman\, will be giving a special talk and honey tasting at 2:00 pm.
URL:https://visitfloydva.com/event/dandelion-day-at-spikenard-honeybee-sanctuary-3/
LOCATION:Spikenard Honeybee Sanctuary\, 401 Hideaway Ln.\, Floyd\, VA\, 24091\, United States
CATEGORIES:Community,Education,Environment,Gardens
ORGANIZER;CN="Spikenard Honeybee Sanctuary*":MAILTO:info@spikenardfarm.org
END:VEVENT
BEGIN:VEVENT
DTSTART;TZID=America/New_York:20240419T090000
DTEND;TZID=America/New_York:20240419T110000
DTSTAMP:20260420T023306
CREATED:20240326T182000Z
LAST-MODIFIED:20240415T132641Z
UID:10029281-1713517200-1713524400@visitfloydva.com
SUMMARY:Earth Week Nature/Birding Hike
DESCRIPTION:Floyd Earth Week! Free Guided Birding\, Nature Hikes!! Enjoy a wonderful educational experience in the woods with Master Naturalist instructor\, Michael Williams. Michael is donating his time for Floyd Earth Week to lead free beginner bird and nature hikes for all ages on the West Fork of the Little River\, just 5 miles north of Floyd. 9-11 AM on April 15\, 17\, 19 and Sunday\, April 21. Please email Michael at miwilli6@vt.edu to sign up and get directions!
URL:https://visitfloydva.com/event/earth-week-nature-birding-hike/2024-04-19/
LOCATION:VA
CATEGORIES:Education,Environment,Family
ATTACH;FMTTYPE=image/jpeg:https://visitfloydva.com/wp-content/uploads/2024/03/IMG_2257.jpg
ORGANIZER;CN="Partnership for Floyd":MAILTO:PartnershipForFloyd@gmail.com
END:VEVENT
BEGIN:VEVENT
DTSTART;TZID=America/New_York:20240418T120000
DTEND;TZID=America/New_York:20240418T123000
DTSTAMP:20260420T023306
CREATED:20240307T173934Z
LAST-MODIFIED:20240307T173934Z
UID:10029267-1713441600-1713443400@visitfloydva.com
SUMMARY:Rocks of the World – Floyd Earth Week
DESCRIPTION:Come join us at Sacred Star and Stone (110A North Locust Street) from12 noon to 12:30 each day of Floyd Earth Week as we explore the wondrous selection of stones and minerals the Earth has formed. Each day will be a different stone/mineral to discover. We hope you will join us in this week-long celebration of Earth Day.
URL:https://visitfloydva.com/event/rocks-of-the-world-floyd-earth-week/2024-04-18/
LOCATION:VA
CATEGORIES:Community,Education,Entertainment,Environment
END:VEVENT
BEGIN:VEVENT
DTSTART;TZID=America/New_York:20240417T120000
DTEND;TZID=America/New_York:20240417T123000
DTSTAMP:20260420T023306
CREATED:20240307T173934Z
LAST-MODIFIED:20240307T173934Z
UID:10029266-1713355200-1713357000@visitfloydva.com
SUMMARY:Rocks of the World – Floyd Earth Week
DESCRIPTION:Come join us at Sacred Star and Stone (110A North Locust Street) from12 noon to 12:30 each day of Floyd Earth Week as we explore the wondrous selection of stones and minerals the Earth has formed. Each day will be a different stone/mineral to discover. We hope you will join us in this week-long celebration of Earth Day.
URL:https://visitfloydva.com/event/rocks-of-the-world-floyd-earth-week/2024-04-17/
LOCATION:VA
CATEGORIES:Community,Education,Entertainment,Environment
END:VEVENT
BEGIN:VEVENT
DTSTART;TZID=America/New_York:20240417T090000
DTEND;TZID=America/New_York:20240417T110000
DTSTAMP:20260420T023306
CREATED:20240326T182000Z
LAST-MODIFIED:20240415T132641Z
UID:10029280-1713344400-1713351600@visitfloydva.com
SUMMARY:Earth Week Nature/Birding Hike
DESCRIPTION:Floyd Earth Week! Free Guided Birding\, Nature Hikes!! Enjoy a wonderful educational experience in the woods with Master Naturalist instructor\, Michael Williams. Michael is donating his time for Floyd Earth Week to lead free beginner bird and nature hikes for all ages on the West Fork of the Little River\, just 5 miles north of Floyd. 9-11 AM on April 15\, 17\, 19 and Sunday\, April 21. Please email Michael at miwilli6@vt.edu to sign up and get directions!
URL:https://visitfloydva.com/event/earth-week-nature-birding-hike/2024-04-17/
LOCATION:VA
CATEGORIES:Education,Environment,Family
ATTACH;FMTTYPE=image/jpeg:https://visitfloydva.com/wp-content/uploads/2024/03/IMG_2257.jpg
ORGANIZER;CN="Partnership for Floyd":MAILTO:PartnershipForFloyd@gmail.com
END:VEVENT
BEGIN:VEVENT
DTSTART;TZID=America/New_York:20240416T120000
DTEND;TZID=America/New_York:20240416T123000
DTSTAMP:20260420T023306
CREATED:20240307T173934Z
LAST-MODIFIED:20240307T173934Z
UID:10029265-1713268800-1713270600@visitfloydva.com
SUMMARY:Rocks of the World – Floyd Earth Week
DESCRIPTION:Come join us at Sacred Star and Stone (110A North Locust Street) from12 noon to 12:30 each day of Floyd Earth Week as we explore the wondrous selection of stones and minerals the Earth has formed. Each day will be a different stone/mineral to discover. We hope you will join us in this week-long celebration of Earth Day.
URL:https://visitfloydva.com/event/rocks-of-the-world-floyd-earth-week/2024-04-16/
LOCATION:VA
CATEGORIES:Community,Education,Entertainment,Environment
END:VEVENT
BEGIN:VEVENT
DTSTART;TZID=America/New_York:20240415T120000
DTEND;TZID=America/New_York:20240415T123000
DTSTAMP:20260420T023306
CREATED:20240307T173934Z
LAST-MODIFIED:20240307T173934Z
UID:10029264-1713182400-1713184200@visitfloydva.com
SUMMARY:Rocks of the World – Floyd Earth Week
DESCRIPTION:Come join us at Sacred Star and Stone (110A North Locust Street) from12 noon to 12:30 each day of Floyd Earth Week as we explore the wondrous selection of stones and minerals the Earth has formed. Each day will be a different stone/mineral to discover. We hope you will join us in this week-long celebration of Earth Day.
URL:https://visitfloydva.com/event/rocks-of-the-world-floyd-earth-week/2024-04-15/
LOCATION:VA
CATEGORIES:Community,Education,Entertainment,Environment
END:VEVENT
BEGIN:VEVENT
DTSTART;TZID=America/New_York:20240415T090000
DTEND;TZID=America/New_York:20240415T110000
DTSTAMP:20260420T023306
CREATED:20240326T182000Z
LAST-MODIFIED:20240415T132641Z
UID:10029279-1713171600-1713178800@visitfloydva.com
SUMMARY:Earth Week Nature/Birding Hike
DESCRIPTION:Floyd Earth Week! Free Guided Birding\, Nature Hikes!! Enjoy a wonderful educational experience in the woods with Master Naturalist instructor\, Michael Williams. Michael is donating his time for Floyd Earth Week to lead free beginner bird and nature hikes for all ages on the West Fork of the Little River\, just 5 miles north of Floyd. 9-11 AM on April 15\, 17\, 19 and Sunday\, April 21. Please email Michael at miwilli6@vt.edu to sign up and get directions!
URL:https://visitfloydva.com/event/earth-week-nature-birding-hike/2024-04-15/
LOCATION:VA
CATEGORIES:Education,Environment,Family
ATTACH;FMTTYPE=image/jpeg:https://visitfloydva.com/wp-content/uploads/2024/03/IMG_2257.jpg
ORGANIZER;CN="Partnership for Floyd":MAILTO:PartnershipForFloyd@gmail.com
END:VEVENT
BEGIN:VEVENT
DTSTART;TZID=America/New_York:20240414T130000
DTEND;TZID=America/New_York:20240414T150000
DTSTAMP:20260420T023306
CREATED:20240409T145449Z
LAST-MODIFIED:20240409T145449Z
UID:10027712-1713099600-1713106800@visitfloydva.com
SUMMARY:Guided Hike on Dodd Creek Trail
DESCRIPTION:Hike Dodd Creek Nature and Fitness Trail with Master Naturalist instructor\, Michael Williams and Jane Cundiff from the Wild Garden Club . Learn more about Nature and Fitness along the way. Meet at the head of the trail\, behind the ball fields in the parking lot at the Floyd Recreation Park off Rt. 8 just north of Town across from Family Dollar Store.
URL:https://visitfloydva.com/event/guided-hike-on-dodd-creek-trail/
LOCATION:VA
CATEGORIES:Community,Education,Environment
ATTACH;FMTTYPE=image/jpeg:https://visitfloydva.com/wp-content/uploads/2024/04/all-PFF-Dodd.jpeg
END:VEVENT
END:VCALENDAR