BEGIN:VCALENDAR
VERSION:2.0
PRODID:-//Visit Floyd Virginia - ECPv6.15.20//NONSGML v1.0//EN
CALSCALE:GREGORIAN
METHOD:PUBLISH
X-ORIGINAL-URL:https://visitfloydva.com
X-WR-CALDESC:Events for Visit Floyd Virginia
REFRESH-INTERVAL;VALUE=DURATION:PT1H
X-Robots-Tag:noindex
X-PUBLISHED-TTL:PT1H
BEGIN:VTIMEZONE
TZID:America/New_York
BEGIN:DAYLIGHT
TZOFFSETFROM:-0500
TZOFFSETTO:-0400
TZNAME:EDT
DTSTART:20250309T070000
END:DAYLIGHT
BEGIN:STANDARD
TZOFFSETFROM:-0400
TZOFFSETTO:-0500
TZNAME:EST
DTSTART:20251102T060000
END:STANDARD
BEGIN:DAYLIGHT
TZOFFSETFROM:-0500
TZOFFSETTO:-0400
TZNAME:EDT
DTSTART:20260308T070000
END:DAYLIGHT
BEGIN:STANDARD
TZOFFSETFROM:-0400
TZOFFSETTO:-0500
TZNAME:EST
DTSTART:20261101T060000
END:STANDARD
BEGIN:DAYLIGHT
TZOFFSETFROM:-0500
TZOFFSETTO:-0400
TZNAME:EDT
DTSTART:20270314T070000
END:DAYLIGHT
BEGIN:STANDARD
TZOFFSETFROM:-0400
TZOFFSETTO:-0500
TZNAME:EST
DTSTART:20271107T060000
END:STANDARD
END:VTIMEZONE
BEGIN:VEVENT
DTSTART;TZID=America/New_York:20260206T190000
DTEND;TZID=America/New_York:20260206T210000
DTSTAMP:20260420T131901
CREATED:20260122T183343Z
LAST-MODIFIED:20260122T183343Z
UID:10031700-1770404400-1770411600@visitfloydva.com
SUMMARY:New River Theatre Guild Presents: 86'ed
DESCRIPTION:“86’ed” is a wild Valentine’s Day comedy Murder Mystery set at the hottest restaurant in town\, where steaks are rare and the stakes are high. Rogue firecrackers\, vanishing tips\, eccentric staff\, and one very timely inspector create the recipe for a fast\, fun night chock-full of deliciously suspicious characters! \nDisclaimer: This show is peppered with adult themes and some spicy language
URL:https://visitfloydva.com/event/new-river-theatre-guild-presents-86ed/2026-02-06/
LOCATION:June Bug Center\, 251 Parkway Ln. S.\, Floyd\, VA\, 24091\, United States
CATEGORIES:Entertainment,Theatre
ATTACH;FMTTYPE=image/png:https://visitfloydva.com/wp-content/uploads/2026/01/86ed-scaled.png
ORGANIZER;CN="The June Bug Center for The Arts":MAILTO:resa@thejunebugcenter.com
GEO:36.903013;-80.316736
X-APPLE-STRUCTURED-LOCATION;VALUE=URI;X-ADDRESS=June Bug Center 251 Parkway Ln. S. Floyd VA 24091 United States;X-APPLE-RADIUS=500;X-TITLE=251 Parkway Ln. S.:geo:-80.316736,36.903013
END:VEVENT
BEGIN:VEVENT
DTSTART;TZID=America/New_York:20260213T190000
DTEND;TZID=America/New_York:20260213T210000
DTSTAMP:20260420T131901
CREATED:20260122T183343Z
LAST-MODIFIED:20260122T183343Z
UID:10031701-1771009200-1771016400@visitfloydva.com
SUMMARY:New River Theatre Guild Presents: 86'ed
DESCRIPTION:“86’ed” is a wild Valentine’s Day comedy Murder Mystery set at the hottest restaurant in town\, where steaks are rare and the stakes are high. Rogue firecrackers\, vanishing tips\, eccentric staff\, and one very timely inspector create the recipe for a fast\, fun night chock-full of deliciously suspicious characters! \nDisclaimer: This show is peppered with adult themes and some spicy language
URL:https://visitfloydva.com/event/new-river-theatre-guild-presents-86ed/2026-02-13/
LOCATION:June Bug Center\, 251 Parkway Ln. S.\, Floyd\, VA\, 24091\, United States
CATEGORIES:Entertainment,Theatre
ATTACH;FMTTYPE=image/png:https://visitfloydva.com/wp-content/uploads/2026/01/86ed-scaled.png
ORGANIZER;CN="The June Bug Center for The Arts":MAILTO:resa@thejunebugcenter.com
GEO:36.903013;-80.316736
X-APPLE-STRUCTURED-LOCATION;VALUE=URI;X-ADDRESS=June Bug Center 251 Parkway Ln. S. Floyd VA 24091 United States;X-APPLE-RADIUS=500;X-TITLE=251 Parkway Ln. S.:geo:-80.316736,36.903013
END:VEVENT
BEGIN:VEVENT
DTSTART;TZID=America/New_York:20260214T173000
DTEND;TZID=America/New_York:20260214T190000
DTSTAMP:20260420T131901
CREATED:20241216T144826Z
LAST-MODIFIED:20241216T144826Z
UID:10028085-1771090200-1771095600@visitfloydva.com
SUMMARY:Blue Ridge Story Space
DESCRIPTION:The Blue Ridge Story Space is comprised of folks who love telling and listening to stories. Tell a 5-7 minute story inspired by the monthly theme or just come to listen.\nJoin us on the 2nd Saturday of each month 5:30-7:00 PM at The June Bug Center in Floyd. [251 Parkway Ln S Floyd\, VA]\nThemes for each month are posted on our Facebook page: https://www.facebook.com/blueridgestoryspace\nEvent is free. Snacks and drinks available for purchase support the June Bug Center.\n[Due to ABC liquor license policies NO outside food or drink permitted at this event.] \nAlways interesting & fun. Bring friends!!\n[Adult topics may be shared\, so parental discretion is advised.]
URL:https://visitfloydva.com/event/blue-ridge-story-space-23/2026-02-14/
LOCATION:June Bug Center\, 251 Parkway Ln. S.\, Floyd\, VA\, 24091\, United States
CATEGORIES:Community,Entertainment
GEO:36.903013;-80.316736
X-APPLE-STRUCTURED-LOCATION;VALUE=URI;X-ADDRESS=June Bug Center 251 Parkway Ln. S. Floyd VA 24091 United States;X-APPLE-RADIUS=500;X-TITLE=251 Parkway Ln. S.:geo:-80.316736,36.903013
END:VEVENT
BEGIN:VEVENT
DTSTART;TZID=America/New_York:20260214T190000
DTEND;TZID=America/New_York:20260214T223000
DTSTAMP:20260420T131901
CREATED:20260209T144925Z
LAST-MODIFIED:20260209T144925Z
UID:10031738-1771095600-1771108200@visitfloydva.com
SUMMARY:Floyd Contra Dance
DESCRIPTION:Join us Saturday February 14th for a special Valentine’s Day contra dance. The Rhythmajigs will be playing and Thea Nettleton will be calling. \nBeginner Lesson: 7:00 PM\nDance: 7:30 – 10:30 PM\nAdmission: $10\, Students $5\, Children under 12 – FREE
URL:https://visitfloydva.com/event/floyd-contra-dance-4/
LOCATION:Floyd Center for the Arts\, 220 Parkway Lane S\, Floyd\, VA\, 24091\, United States
CATEGORIES:Community,Dance,Entertainment,Family,Kid friendly,Music
ORGANIZER;CN="Blue Ridge Country Dancers":MAILTO:floydcountrydancers@yahoo.com
GEO:36.9039185;-80.3170382
X-APPLE-STRUCTURED-LOCATION;VALUE=URI;X-ADDRESS=Floyd Center for the Arts 220 Parkway Lane S Floyd VA 24091 United States;X-APPLE-RADIUS=500;X-TITLE=220 Parkway Lane S:geo:-80.3170382,36.9039185
END:VEVENT
END:VCALENDAR